BEGIN:VCALENDAR
VERSION:2.0
PRODID:-//Hove Methodist Church - ECPv6.15.20//NONSGML v1.0//EN
CALSCALE:GREGORIAN
METHOD:PUBLISH
X-WR-CALNAME:Hove Methodist Church
X-ORIGINAL-URL:https://www.hovemethodistchurch.co.uk
X-WR-CALDESC:Events for Hove Methodist Church
REFRESH-INTERVAL;VALUE=DURATION:PT1H
X-Robots-Tag:noindex
X-PUBLISHED-TTL:PT1H
BEGIN:VTIMEZONE
TZID:Europe/London
BEGIN:DAYLIGHT
TZOFFSETFROM:+0000
TZOFFSETTO:+0100
TZNAME:BST
DTSTART:20250330T010000
END:DAYLIGHT
BEGIN:STANDARD
TZOFFSETFROM:+0100
TZOFFSETTO:+0000
TZNAME:GMT
DTSTART:20251026T010000
END:STANDARD
BEGIN:DAYLIGHT
TZOFFSETFROM:+0000
TZOFFSETTO:+0100
TZNAME:BST
DTSTART:20260329T010000
END:DAYLIGHT
BEGIN:STANDARD
TZOFFSETFROM:+0100
TZOFFSETTO:+0000
TZNAME:GMT
DTSTART:20261025T010000
END:STANDARD
BEGIN:DAYLIGHT
TZOFFSETFROM:+0000
TZOFFSETTO:+0100
TZNAME:BST
DTSTART:20270328T010000
END:DAYLIGHT
BEGIN:STANDARD
TZOFFSETFROM:+0100
TZOFFSETTO:+0000
TZNAME:GMT
DTSTART:20271031T010000
END:STANDARD
END:VTIMEZONE
BEGIN:VEVENT
DTSTART;TZID=Europe/London:20260423T103000
DTEND;TZID=Europe/London:20260423T113000
DTSTAMP:20260423T000408
CREATED:20240803T085132Z
LAST-MODIFIED:20240806T130115Z
UID:10025056-1776940200-1776943800@www.hovemethodistchurch.co.uk
SUMMARY:Shuang Yang (white crane Tai Chi)
DESCRIPTION:
URL:https://www.hovemethodistchurch.co.uk/event/shuang-yang-white-crane-tai-chi-2/2026-04-23/
LOCATION:Hove Methodist Church
ATTACH;FMTTYPE=image/jpeg:https://www.hovemethodistchurch.co.uk/wp-content/uploads/2022/10/nam_yang_600x387.jpg
ORGANIZER;CN="Tom Stiff":MAILTO:tom.stiff@gmail.com
END:VEVENT
BEGIN:VEVENT
DTSTART;TZID=Europe/London:20260430T103000
DTEND;TZID=Europe/London:20260430T113000
DTSTAMP:20260423T000408
CREATED:20240803T085132Z
LAST-MODIFIED:20240806T130115Z
UID:10025057-1777545000-1777548600@www.hovemethodistchurch.co.uk
SUMMARY:Shuang Yang (white crane Tai Chi)
DESCRIPTION:
URL:https://www.hovemethodistchurch.co.uk/event/shuang-yang-white-crane-tai-chi-2/2026-04-30/
LOCATION:Hove Methodist Church
ATTACH;FMTTYPE=image/jpeg:https://www.hovemethodistchurch.co.uk/wp-content/uploads/2022/10/nam_yang_600x387.jpg
ORGANIZER;CN="Tom Stiff":MAILTO:tom.stiff@gmail.com
END:VEVENT
BEGIN:VEVENT
DTSTART;TZID=Europe/London:20260507T103000
DTEND;TZID=Europe/London:20260507T113000
DTSTAMP:20260423T000408
CREATED:20240803T085132Z
LAST-MODIFIED:20240806T130115Z
UID:10025058-1778149800-1778153400@www.hovemethodistchurch.co.uk
SUMMARY:Shuang Yang (white crane Tai Chi)
DESCRIPTION:
URL:https://www.hovemethodistchurch.co.uk/event/shuang-yang-white-crane-tai-chi-2/2026-05-07/
LOCATION:Hove Methodist Church
ATTACH;FMTTYPE=image/jpeg:https://www.hovemethodistchurch.co.uk/wp-content/uploads/2022/10/nam_yang_600x387.jpg
ORGANIZER;CN="Tom Stiff":MAILTO:tom.stiff@gmail.com
END:VEVENT
BEGIN:VEVENT
DTSTART;TZID=Europe/London:20260514T103000
DTEND;TZID=Europe/London:20260514T113000
DTSTAMP:20260423T000408
CREATED:20240803T085132Z
LAST-MODIFIED:20240806T130115Z
UID:10025059-1778754600-1778758200@www.hovemethodistchurch.co.uk
SUMMARY:Shuang Yang (white crane Tai Chi)
DESCRIPTION:
URL:https://www.hovemethodistchurch.co.uk/event/shuang-yang-white-crane-tai-chi-2/2026-05-14/
LOCATION:Hove Methodist Church
ATTACH;FMTTYPE=image/jpeg:https://www.hovemethodistchurch.co.uk/wp-content/uploads/2022/10/nam_yang_600x387.jpg
ORGANIZER;CN="Tom Stiff":MAILTO:tom.stiff@gmail.com
END:VEVENT
BEGIN:VEVENT
DTSTART;TZID=Europe/London:20260521T103000
DTEND;TZID=Europe/London:20260521T113000
DTSTAMP:20260423T000408
CREATED:20240803T085132Z
LAST-MODIFIED:20240806T130115Z
UID:10025060-1779359400-1779363000@www.hovemethodistchurch.co.uk
SUMMARY:Shuang Yang (white crane Tai Chi)
DESCRIPTION:
URL:https://www.hovemethodistchurch.co.uk/event/shuang-yang-white-crane-tai-chi-2/2026-05-21/
LOCATION:Hove Methodist Church
ATTACH;FMTTYPE=image/jpeg:https://www.hovemethodistchurch.co.uk/wp-content/uploads/2022/10/nam_yang_600x387.jpg
ORGANIZER;CN="Tom Stiff":MAILTO:tom.stiff@gmail.com
END:VEVENT
BEGIN:VEVENT
DTSTART;TZID=Europe/London:20260528T103000
DTEND;TZID=Europe/London:20260528T113000
DTSTAMP:20260423T000408
CREATED:20240803T085132Z
LAST-MODIFIED:20240806T130115Z
UID:10025061-1779964200-1779967800@www.hovemethodistchurch.co.uk
SUMMARY:Shuang Yang (white crane Tai Chi)
DESCRIPTION:
URL:https://www.hovemethodistchurch.co.uk/event/shuang-yang-white-crane-tai-chi-2/2026-05-28/
LOCATION:Hove Methodist Church
ATTACH;FMTTYPE=image/jpeg:https://www.hovemethodistchurch.co.uk/wp-content/uploads/2022/10/nam_yang_600x387.jpg
ORGANIZER;CN="Tom Stiff":MAILTO:tom.stiff@gmail.com
END:VEVENT
BEGIN:VEVENT
DTSTART;TZID=Europe/London:20260604T103000
DTEND;TZID=Europe/London:20260604T113000
DTSTAMP:20260423T000408
CREATED:20240803T085132Z
LAST-MODIFIED:20240806T130115Z
UID:10025062-1780569000-1780572600@www.hovemethodistchurch.co.uk
SUMMARY:Shuang Yang (white crane Tai Chi)
DESCRIPTION:
URL:https://www.hovemethodistchurch.co.uk/event/shuang-yang-white-crane-tai-chi-2/2026-06-04/
LOCATION:Hove Methodist Church
ATTACH;FMTTYPE=image/jpeg:https://www.hovemethodistchurch.co.uk/wp-content/uploads/2022/10/nam_yang_600x387.jpg
ORGANIZER;CN="Tom Stiff":MAILTO:tom.stiff@gmail.com
END:VEVENT
BEGIN:VEVENT
DTSTART;TZID=Europe/London:20260611T103000
DTEND;TZID=Europe/London:20260611T113000
DTSTAMP:20260423T000408
CREATED:20240803T085132Z
LAST-MODIFIED:20240806T130115Z
UID:10025063-1781173800-1781177400@www.hovemethodistchurch.co.uk
SUMMARY:Shuang Yang (white crane Tai Chi)
DESCRIPTION:
URL:https://www.hovemethodistchurch.co.uk/event/shuang-yang-white-crane-tai-chi-2/2026-06-11/
LOCATION:Hove Methodist Church
ATTACH;FMTTYPE=image/jpeg:https://www.hovemethodistchurch.co.uk/wp-content/uploads/2022/10/nam_yang_600x387.jpg
ORGANIZER;CN="Tom Stiff":MAILTO:tom.stiff@gmail.com
END:VEVENT
BEGIN:VEVENT
DTSTART;TZID=Europe/London:20260618T103000
DTEND;TZID=Europe/London:20260618T113000
DTSTAMP:20260423T000408
CREATED:20240803T085132Z
LAST-MODIFIED:20240806T130115Z
UID:10025064-1781778600-1781782200@www.hovemethodistchurch.co.uk
SUMMARY:Shuang Yang (white crane Tai Chi)
DESCRIPTION:
URL:https://www.hovemethodistchurch.co.uk/event/shuang-yang-white-crane-tai-chi-2/2026-06-18/
LOCATION:Hove Methodist Church
ATTACH;FMTTYPE=image/jpeg:https://www.hovemethodistchurch.co.uk/wp-content/uploads/2022/10/nam_yang_600x387.jpg
ORGANIZER;CN="Tom Stiff":MAILTO:tom.stiff@gmail.com
END:VEVENT
BEGIN:VEVENT
DTSTART;TZID=Europe/London:20260625T103000
DTEND;TZID=Europe/London:20260625T113000
DTSTAMP:20260423T000408
CREATED:20240803T085132Z
LAST-MODIFIED:20240806T130115Z
UID:10025065-1782383400-1782387000@www.hovemethodistchurch.co.uk
SUMMARY:Shuang Yang (white crane Tai Chi)
DESCRIPTION:
URL:https://www.hovemethodistchurch.co.uk/event/shuang-yang-white-crane-tai-chi-2/2026-06-25/
LOCATION:Hove Methodist Church
ATTACH;FMTTYPE=image/jpeg:https://www.hovemethodistchurch.co.uk/wp-content/uploads/2022/10/nam_yang_600x387.jpg
ORGANIZER;CN="Tom Stiff":MAILTO:tom.stiff@gmail.com
END:VEVENT
BEGIN:VEVENT
DTSTART;TZID=Europe/London:20260702T103000
DTEND;TZID=Europe/London:20260702T113000
DTSTAMP:20260423T000408
CREATED:20240803T085132Z
LAST-MODIFIED:20240806T130115Z
UID:10025066-1782988200-1782991800@www.hovemethodistchurch.co.uk
SUMMARY:Shuang Yang (white crane Tai Chi)
DESCRIPTION:
URL:https://www.hovemethodistchurch.co.uk/event/shuang-yang-white-crane-tai-chi-2/2026-07-02/
LOCATION:Hove Methodist Church
ATTACH;FMTTYPE=image/jpeg:https://www.hovemethodistchurch.co.uk/wp-content/uploads/2022/10/nam_yang_600x387.jpg
ORGANIZER;CN="Tom Stiff":MAILTO:tom.stiff@gmail.com
END:VEVENT
BEGIN:VEVENT
DTSTART;TZID=Europe/London:20260709T103000
DTEND;TZID=Europe/London:20260709T113000
DTSTAMP:20260423T000408
CREATED:20240803T085132Z
LAST-MODIFIED:20240806T130115Z
UID:10025067-1783593000-1783596600@www.hovemethodistchurch.co.uk
SUMMARY:Shuang Yang (white crane Tai Chi)
DESCRIPTION:
URL:https://www.hovemethodistchurch.co.uk/event/shuang-yang-white-crane-tai-chi-2/2026-07-09/
LOCATION:Hove Methodist Church
ATTACH;FMTTYPE=image/jpeg:https://www.hovemethodistchurch.co.uk/wp-content/uploads/2022/10/nam_yang_600x387.jpg
ORGANIZER;CN="Tom Stiff":MAILTO:tom.stiff@gmail.com
END:VEVENT
BEGIN:VEVENT
DTSTART;TZID=Europe/London:20260716T103000
DTEND;TZID=Europe/London:20260716T113000
DTSTAMP:20260423T000408
CREATED:20240803T085132Z
LAST-MODIFIED:20240806T130115Z
UID:10025068-1784197800-1784201400@www.hovemethodistchurch.co.uk
SUMMARY:Shuang Yang (white crane Tai Chi)
DESCRIPTION:
URL:https://www.hovemethodistchurch.co.uk/event/shuang-yang-white-crane-tai-chi-2/2026-07-16/
LOCATION:Hove Methodist Church
ATTACH;FMTTYPE=image/jpeg:https://www.hovemethodistchurch.co.uk/wp-content/uploads/2022/10/nam_yang_600x387.jpg
ORGANIZER;CN="Tom Stiff":MAILTO:tom.stiff@gmail.com
END:VEVENT
BEGIN:VEVENT
DTSTART;TZID=Europe/London:20260723T103000
DTEND;TZID=Europe/London:20260723T113000
DTSTAMP:20260423T000408
CREATED:20240803T085132Z
LAST-MODIFIED:20240806T130115Z
UID:10025069-1784802600-1784806200@www.hovemethodistchurch.co.uk
SUMMARY:Shuang Yang (white crane Tai Chi)
DESCRIPTION:
URL:https://www.hovemethodistchurch.co.uk/event/shuang-yang-white-crane-tai-chi-2/2026-07-23/
LOCATION:Hove Methodist Church
ATTACH;FMTTYPE=image/jpeg:https://www.hovemethodistchurch.co.uk/wp-content/uploads/2022/10/nam_yang_600x387.jpg
ORGANIZER;CN="Tom Stiff":MAILTO:tom.stiff@gmail.com
END:VEVENT
BEGIN:VEVENT
DTSTART;TZID=Europe/London:20260730T103000
DTEND;TZID=Europe/London:20260730T113000
DTSTAMP:20260423T000408
CREATED:20240803T085132Z
LAST-MODIFIED:20240806T130115Z
UID:10025070-1785407400-1785411000@www.hovemethodistchurch.co.uk
SUMMARY:Shuang Yang (white crane Tai Chi)
DESCRIPTION:
URL:https://www.hovemethodistchurch.co.uk/event/shuang-yang-white-crane-tai-chi-2/2026-07-30/
LOCATION:Hove Methodist Church
ATTACH;FMTTYPE=image/jpeg:https://www.hovemethodistchurch.co.uk/wp-content/uploads/2022/10/nam_yang_600x387.jpg
ORGANIZER;CN="Tom Stiff":MAILTO:tom.stiff@gmail.com
END:VEVENT
BEGIN:VEVENT
DTSTART;TZID=Europe/London:20260806T103000
DTEND;TZID=Europe/London:20260806T113000
DTSTAMP:20260423T000408
CREATED:20240803T085132Z
LAST-MODIFIED:20240806T130115Z
UID:10025071-1786012200-1786015800@www.hovemethodistchurch.co.uk
SUMMARY:Shuang Yang (white crane Tai Chi)
DESCRIPTION:
URL:https://www.hovemethodistchurch.co.uk/event/shuang-yang-white-crane-tai-chi-2/2026-08-06/
LOCATION:Hove Methodist Church
ATTACH;FMTTYPE=image/jpeg:https://www.hovemethodistchurch.co.uk/wp-content/uploads/2022/10/nam_yang_600x387.jpg
ORGANIZER;CN="Tom Stiff":MAILTO:tom.stiff@gmail.com
END:VEVENT
BEGIN:VEVENT
DTSTART;TZID=Europe/London:20260813T103000
DTEND;TZID=Europe/London:20260813T113000
DTSTAMP:20260423T000408
CREATED:20240803T085132Z
LAST-MODIFIED:20240806T130115Z
UID:10025072-1786617000-1786620600@www.hovemethodistchurch.co.uk
SUMMARY:Shuang Yang (white crane Tai Chi)
DESCRIPTION:
URL:https://www.hovemethodistchurch.co.uk/event/shuang-yang-white-crane-tai-chi-2/2026-08-13/
LOCATION:Hove Methodist Church
ATTACH;FMTTYPE=image/jpeg:https://www.hovemethodistchurch.co.uk/wp-content/uploads/2022/10/nam_yang_600x387.jpg
ORGANIZER;CN="Tom Stiff":MAILTO:tom.stiff@gmail.com
END:VEVENT
BEGIN:VEVENT
DTSTART;TZID=Europe/London:20260820T103000
DTEND;TZID=Europe/London:20260820T113000
DTSTAMP:20260423T000408
CREATED:20240803T085132Z
LAST-MODIFIED:20240806T130115Z
UID:10025073-1787221800-1787225400@www.hovemethodistchurch.co.uk
SUMMARY:Shuang Yang (white crane Tai Chi)
DESCRIPTION:
URL:https://www.hovemethodistchurch.co.uk/event/shuang-yang-white-crane-tai-chi-2/2026-08-20/
LOCATION:Hove Methodist Church
ATTACH;FMTTYPE=image/jpeg:https://www.hovemethodistchurch.co.uk/wp-content/uploads/2022/10/nam_yang_600x387.jpg
ORGANIZER;CN="Tom Stiff":MAILTO:tom.stiff@gmail.com
END:VEVENT
BEGIN:VEVENT
DTSTART;TZID=Europe/London:20260827T103000
DTEND;TZID=Europe/London:20260827T113000
DTSTAMP:20260423T000408
CREATED:20240803T085132Z
LAST-MODIFIED:20240806T130115Z
UID:10025074-1787826600-1787830200@www.hovemethodistchurch.co.uk
SUMMARY:Shuang Yang (white crane Tai Chi)
DESCRIPTION:
URL:https://www.hovemethodistchurch.co.uk/event/shuang-yang-white-crane-tai-chi-2/2026-08-27/
LOCATION:Hove Methodist Church
ATTACH;FMTTYPE=image/jpeg:https://www.hovemethodistchurch.co.uk/wp-content/uploads/2022/10/nam_yang_600x387.jpg
ORGANIZER;CN="Tom Stiff":MAILTO:tom.stiff@gmail.com
END:VEVENT
BEGIN:VEVENT
DTSTART;TZID=Europe/London:20260903T103000
DTEND;TZID=Europe/London:20260903T113000
DTSTAMP:20260423T000409
CREATED:20240803T085132Z
LAST-MODIFIED:20240806T130115Z
UID:10025075-1788431400-1788435000@www.hovemethodistchurch.co.uk
SUMMARY:Shuang Yang (white crane Tai Chi)
DESCRIPTION:
URL:https://www.hovemethodistchurch.co.uk/event/shuang-yang-white-crane-tai-chi-2/2026-09-03/
LOCATION:Hove Methodist Church
ATTACH;FMTTYPE=image/jpeg:https://www.hovemethodistchurch.co.uk/wp-content/uploads/2022/10/nam_yang_600x387.jpg
ORGANIZER;CN="Tom Stiff":MAILTO:tom.stiff@gmail.com
END:VEVENT
BEGIN:VEVENT
DTSTART;TZID=Europe/London:20260910T103000
DTEND;TZID=Europe/London:20260910T113000
DTSTAMP:20260423T000409
CREATED:20240803T085132Z
LAST-MODIFIED:20240806T130115Z
UID:10025076-1789036200-1789039800@www.hovemethodistchurch.co.uk
SUMMARY:Shuang Yang (white crane Tai Chi)
DESCRIPTION:
URL:https://www.hovemethodistchurch.co.uk/event/shuang-yang-white-crane-tai-chi-2/2026-09-10/
LOCATION:Hove Methodist Church
ATTACH;FMTTYPE=image/jpeg:https://www.hovemethodistchurch.co.uk/wp-content/uploads/2022/10/nam_yang_600x387.jpg
ORGANIZER;CN="Tom Stiff":MAILTO:tom.stiff@gmail.com
END:VEVENT
BEGIN:VEVENT
DTSTART;TZID=Europe/London:20260917T103000
DTEND;TZID=Europe/London:20260917T113000
DTSTAMP:20260423T000409
CREATED:20240803T085132Z
LAST-MODIFIED:20240806T130115Z
UID:10025077-1789641000-1789644600@www.hovemethodistchurch.co.uk
SUMMARY:Shuang Yang (white crane Tai Chi)
DESCRIPTION:
URL:https://www.hovemethodistchurch.co.uk/event/shuang-yang-white-crane-tai-chi-2/2026-09-17/
LOCATION:Hove Methodist Church
ATTACH;FMTTYPE=image/jpeg:https://www.hovemethodistchurch.co.uk/wp-content/uploads/2022/10/nam_yang_600x387.jpg
ORGANIZER;CN="Tom Stiff":MAILTO:tom.stiff@gmail.com
END:VEVENT
BEGIN:VEVENT
DTSTART;TZID=Europe/London:20260924T103000
DTEND;TZID=Europe/London:20260924T113000
DTSTAMP:20260423T000409
CREATED:20240803T085132Z
LAST-MODIFIED:20240806T130115Z
UID:10025078-1790245800-1790249400@www.hovemethodistchurch.co.uk
SUMMARY:Shuang Yang (white crane Tai Chi)
DESCRIPTION:
URL:https://www.hovemethodistchurch.co.uk/event/shuang-yang-white-crane-tai-chi-2/2026-09-24/
LOCATION:Hove Methodist Church
ATTACH;FMTTYPE=image/jpeg:https://www.hovemethodistchurch.co.uk/wp-content/uploads/2022/10/nam_yang_600x387.jpg
ORGANIZER;CN="Tom Stiff":MAILTO:tom.stiff@gmail.com
END:VEVENT
BEGIN:VEVENT
DTSTART;TZID=Europe/London:20261001T103000
DTEND;TZID=Europe/London:20261001T113000
DTSTAMP:20260423T000409
CREATED:20240803T085132Z
LAST-MODIFIED:20240806T130115Z
UID:10025079-1790850600-1790854200@www.hovemethodistchurch.co.uk
SUMMARY:Shuang Yang (white crane Tai Chi)
DESCRIPTION:
URL:https://www.hovemethodistchurch.co.uk/event/shuang-yang-white-crane-tai-chi-2/2026-10-01/
LOCATION:Hove Methodist Church
ATTACH;FMTTYPE=image/jpeg:https://www.hovemethodistchurch.co.uk/wp-content/uploads/2022/10/nam_yang_600x387.jpg
ORGANIZER;CN="Tom Stiff":MAILTO:tom.stiff@gmail.com
END:VEVENT
BEGIN:VEVENT
DTSTART;TZID=Europe/London:20261008T103000
DTEND;TZID=Europe/London:20261008T113000
DTSTAMP:20260423T000409
CREATED:20240803T085132Z
LAST-MODIFIED:20240806T130115Z
UID:10025080-1791455400-1791459000@www.hovemethodistchurch.co.uk
SUMMARY:Shuang Yang (white crane Tai Chi)
DESCRIPTION:
URL:https://www.hovemethodistchurch.co.uk/event/shuang-yang-white-crane-tai-chi-2/2026-10-08/
LOCATION:Hove Methodist Church
ATTACH;FMTTYPE=image/jpeg:https://www.hovemethodistchurch.co.uk/wp-content/uploads/2022/10/nam_yang_600x387.jpg
ORGANIZER;CN="Tom Stiff":MAILTO:tom.stiff@gmail.com
END:VEVENT
BEGIN:VEVENT
DTSTART;TZID=Europe/London:20261015T103000
DTEND;TZID=Europe/London:20261015T113000
DTSTAMP:20260423T000409
CREATED:20240803T085132Z
LAST-MODIFIED:20240806T130115Z
UID:10025081-1792060200-1792063800@www.hovemethodistchurch.co.uk
SUMMARY:Shuang Yang (white crane Tai Chi)
DESCRIPTION:
URL:https://www.hovemethodistchurch.co.uk/event/shuang-yang-white-crane-tai-chi-2/2026-10-15/
LOCATION:Hove Methodist Church
ATTACH;FMTTYPE=image/jpeg:https://www.hovemethodistchurch.co.uk/wp-content/uploads/2022/10/nam_yang_600x387.jpg
ORGANIZER;CN="Tom Stiff":MAILTO:tom.stiff@gmail.com
END:VEVENT
BEGIN:VEVENT
DTSTART;TZID=Europe/London:20261022T103000
DTEND;TZID=Europe/London:20261022T113000
DTSTAMP:20260423T000409
CREATED:20240803T085132Z
LAST-MODIFIED:20240806T130115Z
UID:10025082-1792665000-1792668600@www.hovemethodistchurch.co.uk
SUMMARY:Shuang Yang (white crane Tai Chi)
DESCRIPTION:
URL:https://www.hovemethodistchurch.co.uk/event/shuang-yang-white-crane-tai-chi-2/2026-10-22/
LOCATION:Hove Methodist Church
ATTACH;FMTTYPE=image/jpeg:https://www.hovemethodistchurch.co.uk/wp-content/uploads/2022/10/nam_yang_600x387.jpg
ORGANIZER;CN="Tom Stiff":MAILTO:tom.stiff@gmail.com
END:VEVENT
BEGIN:VEVENT
DTSTART;TZID=Europe/London:20261029T103000
DTEND;TZID=Europe/London:20261029T113000
DTSTAMP:20260423T000409
CREATED:20240803T085132Z
LAST-MODIFIED:20240806T130115Z
UID:10025083-1793269800-1793273400@www.hovemethodistchurch.co.uk
SUMMARY:Shuang Yang (white crane Tai Chi)
DESCRIPTION:
URL:https://www.hovemethodistchurch.co.uk/event/shuang-yang-white-crane-tai-chi-2/2026-10-29/
LOCATION:Hove Methodist Church
ATTACH;FMTTYPE=image/jpeg:https://www.hovemethodistchurch.co.uk/wp-content/uploads/2022/10/nam_yang_600x387.jpg
ORGANIZER;CN="Tom Stiff":MAILTO:tom.stiff@gmail.com
END:VEVENT
BEGIN:VEVENT
DTSTART;TZID=Europe/London:20261105T103000
DTEND;TZID=Europe/London:20261105T113000
DTSTAMP:20260423T000409
CREATED:20240803T085132Z
LAST-MODIFIED:20240806T130115Z
UID:10025084-1793874600-1793878200@www.hovemethodistchurch.co.uk
SUMMARY:Shuang Yang (white crane Tai Chi)
DESCRIPTION:
URL:https://www.hovemethodistchurch.co.uk/event/shuang-yang-white-crane-tai-chi-2/2026-11-05/
LOCATION:Hove Methodist Church
ATTACH;FMTTYPE=image/jpeg:https://www.hovemethodistchurch.co.uk/wp-content/uploads/2022/10/nam_yang_600x387.jpg
ORGANIZER;CN="Tom Stiff":MAILTO:tom.stiff@gmail.com
END:VEVENT
BEGIN:VEVENT
DTSTART;TZID=Europe/London:20261112T103000
DTEND;TZID=Europe/London:20261112T113000
DTSTAMP:20260423T000409
CREATED:20240803T085132Z
LAST-MODIFIED:20240806T130115Z
UID:10025085-1794479400-1794483000@www.hovemethodistchurch.co.uk
SUMMARY:Shuang Yang (white crane Tai Chi)
DESCRIPTION:
URL:https://www.hovemethodistchurch.co.uk/event/shuang-yang-white-crane-tai-chi-2/2026-11-12/
LOCATION:Hove Methodist Church
ATTACH;FMTTYPE=image/jpeg:https://www.hovemethodistchurch.co.uk/wp-content/uploads/2022/10/nam_yang_600x387.jpg
ORGANIZER;CN="Tom Stiff":MAILTO:tom.stiff@gmail.com
END:VEVENT
END:VCALENDAR