BEGIN:VCALENDAR
VERSION:2.0
PRODID:-//Hove Methodist Church - ECPv6.15.20//NONSGML v1.0//EN
CALSCALE:GREGORIAN
METHOD:PUBLISH
X-WR-CALNAME:Hove Methodist Church
X-ORIGINAL-URL:https://www.hovemethodistchurch.co.uk
X-WR-CALDESC:Events for Hove Methodist Church
REFRESH-INTERVAL;VALUE=DURATION:PT1H
X-Robots-Tag:noindex
X-PUBLISHED-TTL:PT1H
BEGIN:VTIMEZONE
TZID:Europe/London
BEGIN:DAYLIGHT
TZOFFSETFROM:+0000
TZOFFSETTO:+0100
TZNAME:BST
DTSTART:20240331T010000
END:DAYLIGHT
BEGIN:STANDARD
TZOFFSETFROM:+0100
TZOFFSETTO:+0000
TZNAME:GMT
DTSTART:20241027T010000
END:STANDARD
BEGIN:DAYLIGHT
TZOFFSETFROM:+0000
TZOFFSETTO:+0100
TZNAME:BST
DTSTART:20250330T010000
END:DAYLIGHT
BEGIN:STANDARD
TZOFFSETFROM:+0100
TZOFFSETTO:+0000
TZNAME:GMT
DTSTART:20251026T010000
END:STANDARD
BEGIN:DAYLIGHT
TZOFFSETFROM:+0000
TZOFFSETTO:+0100
TZNAME:BST
DTSTART:20260329T010000
END:DAYLIGHT
BEGIN:STANDARD
TZOFFSETFROM:+0100
TZOFFSETTO:+0000
TZNAME:GMT
DTSTART:20261025T010000
END:STANDARD
END:VTIMEZONE
BEGIN:VEVENT
DTSTART;TZID=Europe/London:20251229T162000
DTEND;TZID=Europe/London:20251229T172000
DTSTAMP:20260421T060703
CREATED:20240206T075036Z
LAST-MODIFIED:20240206T082106Z
UID:10022548-1767025200-1767028800@www.hovemethodistchurch.co.uk
SUMMARY:Rainbows (4-7 Years)
DESCRIPTION:Held in the Upper Hall \nRainbows welcomes all girls from 4 to 7 years old for play\, learning and tons of fun in a colourful\, safe space.  \nShe’ll laugh\, sing and make a happy mess (and help clear it up!) as she chooses her way through our programme of activities. She’ll have plenty of magic moments: she might become a time traveller\, an animal tracker\, a pop singer\, a stargazer. It’s a wonderful world of adventure\, week after week\, just for her.  \nRegister here: http://www.ggsussexeast.org.uk/sections \n 
URL:https://www.hovemethodistchurch.co.uk/event/rainbows-4-7-years/2025-12-29/
LOCATION:Hove Methodist Church
ATTACH;FMTTYPE=image/png:https://www.hovemethodistchurch.co.uk/wp-content/uploads/2024/02/2b57551b50965f343ca0545a202800b5720aa027_944.png
END:VEVENT
BEGIN:VEVENT
DTSTART;TZID=Europe/London:20251229T143000
DTEND;TZID=Europe/London:20251229T160000
DTSTAMP:20260421T060703
CREATED:20221006T143912Z
LAST-MODIFIED:20221007T165150Z
UID:10002814-1767018600-1767024000@www.hovemethodistchurch.co.uk
SUMMARY:The Monday Guild
DESCRIPTION:Drop-in fellowship group in the church.
URL:https://www.hovemethodistchurch.co.uk/event/the-monday-guild/2025-12-29/
LOCATION:Hove Methodist Church
CATEGORIES:Religious & Spiritual,Social
ATTACH;FMTTYPE=image/jpeg:https://www.hovemethodistchurch.co.uk/wp-content/uploads/2022/10/the-monday-guild-logo.jpg
END:VEVENT
BEGIN:VEVENT
DTSTART;TZID=Europe/London:20251229T113000
DTEND;TZID=Europe/London:20251229T123000
DTSTAMP:20260421T060703
CREATED:20240803T084614Z
LAST-MODIFIED:20240806T130317Z
UID:10024257-1767007800-1767011400@www.hovemethodistchurch.co.uk
SUMMARY:Kung Fu
DESCRIPTION:
URL:https://www.hovemethodistchurch.co.uk/event/kung-fu/2025-12-29/
LOCATION:Hove Methodist Church
ATTACH;FMTTYPE=image/jpeg:https://www.hovemethodistchurch.co.uk/wp-content/uploads/2022/10/nam_yang_600x387.jpg
ORGANIZER;CN="Tom Stiff":MAILTO:tom.stiff@gmail.com
END:VEVENT
BEGIN:VEVENT
DTSTART;TZID=Europe/London:20251229T103000
DTEND;TZID=Europe/London:20251229T113000
DTSTAMP:20260421T060703
CREATED:20240803T084434Z
LAST-MODIFIED:20240806T130346Z
UID:10023996-1767004200-1767007800@www.hovemethodistchurch.co.uk
SUMMARY:Shuang Yang (white crane Tai Chi)
DESCRIPTION:
URL:https://www.hovemethodistchurch.co.uk/event/shuang-yang-white-crane-tai-chi/2025-12-29/
LOCATION:Hove Methodist Church
ATTACH;FMTTYPE=image/jpeg:https://www.hovemethodistchurch.co.uk/wp-content/uploads/2022/10/nam_yang_600x387.jpg
ORGANIZER;CN="Tom Stiff":MAILTO:tom.stiff@gmail.com
END:VEVENT
BEGIN:VEVENT
DTSTART;TZID=Europe/London:20251229T093000
DTEND;TZID=Europe/London:20251229T103000
DTSTAMP:20260421T060703
CREATED:20240803T084131Z
LAST-MODIFIED:20240806T130413Z
UID:10023735-1767000600-1767004200@www.hovemethodistchurch.co.uk
SUMMARY:Qi Gong / Chi Gung
DESCRIPTION:
URL:https://www.hovemethodistchurch.co.uk/event/qi-gong-chi-gung/2025-12-29/
LOCATION:Hove Methodist Church
ATTACH;FMTTYPE=image/jpeg:https://www.hovemethodistchurch.co.uk/wp-content/uploads/2022/10/nam_yang_600x387.jpg
ORGANIZER;CN="Tom Stiff":MAILTO:tom.stiff@gmail.com
END:VEVENT
BEGIN:VEVENT
DTSTART;TZID=Europe/London:20251229T093000
DTEND;TZID=Europe/London:20251229T103000
DTSTAMP:20260421T060703
CREATED:20221006T133949Z
LAST-MODIFIED:20221007T165217Z
UID:10003069-1767000600-1767004200@www.hovemethodistchurch.co.uk
SUMMARY:HDPilates
DESCRIPTION:Intermediate Pilates mat class with Helen.
URL:https://www.hovemethodistchurch.co.uk/event/hdpilates/2025-12-29/
LOCATION:Hove Methodist Church
CATEGORIES:Health & Fitness
ATTACH;FMTTYPE=image/jpeg:https://www.hovemethodistchurch.co.uk/wp-content/uploads/2022/10/hd-pilates-logo3.jpg
ORGANIZER;CN="Helen Douglas":MAILTO:helsdouglas@hotmail.com
END:VEVENT
BEGIN:VEVENT
DTSTART;TZID=Europe/London:20251228T103000
DTEND;TZID=Europe/London:20251228T120000
DTSTAMP:20260421T060703
CREATED:20221117T151805Z
LAST-MODIFIED:20231027T140411Z
UID:10009237-1766917800-1766923200@www.hovemethodistchurch.co.uk
SUMMARY:Hove Methodists Sunday Worship
DESCRIPTION:In the Sanctuary\, all welcome.
URL:https://www.hovemethodistchurch.co.uk/event/hove-methodists-sunday-worship/2025-12-28/
LOCATION:Hove Methodist Church
CATEGORIES:Religious & Spiritual
ATTACH;FMTTYPE=image/jpeg:https://www.hovemethodistchurch.co.uk/wp-content/uploads/2022/10/hmc-logo_600x387.jpg
END:VEVENT
BEGIN:VEVENT
DTSTART;TZID=Europe/London:20251227T120000
DTEND;TZID=Europe/London:20251227T133000
DTSTAMP:20260421T060703
CREATED:20240111T151649Z
LAST-MODIFIED:20240111T151716Z
UID:10021767-1766836800-1766842200@www.hovemethodistchurch.co.uk
SUMMARY:Adult Kickboxing
DESCRIPTION:In the gym.
URL:https://www.hovemethodistchurch.co.uk/event/adult-kickboxing-10/2025-12-27/
LOCATION:Hove Methodist Church
CATEGORIES:Health & Fitness
ATTACH;FMTTYPE=image/jpeg:https://www.hovemethodistchurch.co.uk/wp-content/uploads/2022/10/nam_yang_600x387.jpg
ORGANIZER;CN="Tom Stiff":MAILTO:tom.stiff@gmail.com
END:VEVENT
BEGIN:VEVENT
DTSTART;TZID=Europe/London:20251226T153000
DTEND;TZID=Europe/London:20251226T173000
DTSTAMP:20260421T060703
CREATED:20231202T105624Z
LAST-MODIFIED:20231202T105624Z
UID:10015535-1766763000-1766770200@www.hovemethodistchurch.co.uk
SUMMARY:Messy Church
DESCRIPTION:For all ages.\nCreativity\, Celebration\, Sharing dinner\, Sharing faith.\n4th Friday of every month.\nDoors open at 3.30pm. In the Hall.\nAll are welcome. Free to attend.\nFor more info contact the church office.
URL:https://www.hovemethodistchurch.co.uk/event/messy-church-2/2025-12-26/
LOCATION:Hove Methodist Church
CATEGORIES:Social
ATTACH;FMTTYPE=image/jpeg:https://www.hovemethodistchurch.co.uk/wp-content/uploads/2023/01/Messy-Church-logo.jpg
END:VEVENT
BEGIN:VEVENT
DTSTART;TZID=Europe/London:20251226T133000
DTEND;TZID=Europe/London:20251226T153000
DTSTAMP:20260421T060703
CREATED:20221116T192917Z
LAST-MODIFIED:20231202T105253Z
UID:10010462-1766755800-1766763000@www.hovemethodistchurch.co.uk
SUMMARY:Polka Tots Baby & Toddler Drop-in
DESCRIPTION:£2 per family.
URL:https://www.hovemethodistchurch.co.uk/event/polka-tots-baby-toddler-drop-in-2/2025-12-26/
LOCATION:Hove Methodist Church
CATEGORIES:Children
ATTACH;FMTTYPE=image/jpeg:https://www.hovemethodistchurch.co.uk/wp-content/uploads/2022/10/polka-dots-logo.jpg
END:VEVENT
BEGIN:VEVENT
DTSTART;TZID=Europe/London:20251226T093000
DTEND;TZID=Europe/London:20251226T113000
DTSTAMP:20260421T060703
CREATED:20250915T123251Z
LAST-MODIFIED:20250915T123549Z
UID:10026337-1766741400-1766748600@www.hovemethodistchurch.co.uk
SUMMARY:Slimming World
DESCRIPTION:In the Hall. \nContact Trish 07821 007 881
URL:https://www.hovemethodistchurch.co.uk/event/slimming-world-4/2025-12-26/
LOCATION:Hove Methodist Church
CATEGORIES:Health & Fitness
ATTACH;FMTTYPE=image/png:https://www.hovemethodistchurch.co.uk/wp-content/uploads/2025/09/Slimming_World2.png
END:VEVENT
BEGIN:VEVENT
DTSTART;TZID=Europe/London:20251225T203000
DTEND;TZID=Europe/London:20251225T213000
DTSTAMP:20260421T060703
CREATED:20240111T150627Z
LAST-MODIFIED:20240111T150723Z
UID:10019155-1766694600-1766698200@www.hovemethodistchurch.co.uk
SUMMARY:Adult Kickboxing
DESCRIPTION:In the gym.
URL:https://www.hovemethodistchurch.co.uk/event/adult-kickboxing-4/2025-12-25/
LOCATION:Hove Methodist Church
CATEGORIES:Health & Fitness
ATTACH;FMTTYPE=image/jpeg:https://www.hovemethodistchurch.co.uk/wp-content/uploads/2022/10/nam_yang_600x387.jpg
ORGANIZER;CN="Tom Stiff":MAILTO:tom.stiff@gmail.com
END:VEVENT
BEGIN:VEVENT
DTSTART;TZID=Europe/London:20251225T190000
DTEND;TZID=Europe/London:20251225T203000
DTSTAMP:20260421T060703
CREATED:20240111T143631Z
LAST-MODIFIED:20240111T150534Z
UID:10018631-1766689200-1766694600@www.hovemethodistchurch.co.uk
SUMMARY:Teens Kickboxing
DESCRIPTION:In the gym.
URL:https://www.hovemethodistchurch.co.uk/event/teens-kickboxing-3/2025-12-25/
LOCATION:Hove Methodist Church
CATEGORIES:Children,Health & Fitness
ATTACH;FMTTYPE=image/jpeg:https://www.hovemethodistchurch.co.uk/wp-content/uploads/2022/10/nam_yang_600x387.jpg
ORGANIZER;CN="Tom Stiff":MAILTO:tom.stiff@gmail.com
END:VEVENT
BEGIN:VEVENT
DTSTART;TZID=Europe/London:20251225T180000
DTEND;TZID=Europe/London:20251225T190000
DTSTAMP:20260421T060703
CREATED:20240111T114247Z
LAST-MODIFIED:20240111T131212Z
UID:10017261-1766685600-1766689200@www.hovemethodistchurch.co.uk
SUMMARY:Adult Kickboxing
DESCRIPTION:In the gym.
URL:https://www.hovemethodistchurch.co.uk/event/adult-kickboxing-5/2025-12-25/
LOCATION:Hove Methodist Church
CATEGORIES:Health & Fitness
ATTACH;FMTTYPE=image/jpeg:https://www.hovemethodistchurch.co.uk/wp-content/uploads/2022/10/nam_yang_600x387.jpg
ORGANIZER;CN="Tom Stiff":MAILTO:tom.stiff@gmail.com
END:VEVENT
BEGIN:VEVENT
DTSTART;TZID=Europe/London:20251225T170000
DTEND;TZID=Europe/London:20251225T180000
DTSTAMP:20260421T060703
CREATED:20240111T115309Z
LAST-MODIFIED:20240111T115508Z
UID:10016478-1766682000-1766685600@www.hovemethodistchurch.co.uk
SUMMARY:Junior Kickboxing
DESCRIPTION:In the gym.
URL:https://www.hovemethodistchurch.co.uk/event/junior-kickboxing-2-2/2025-12-25/
LOCATION:Hove Methodist Church
CATEGORIES:Children,Health & Fitness
ATTACH;FMTTYPE=image/jpeg:https://www.hovemethodistchurch.co.uk/wp-content/uploads/2022/10/nam_yang_600x387.jpg
ORGANIZER;CN="Tom Stiff":MAILTO:tom.stiff@gmail.com
END:VEVENT
BEGIN:VEVENT
DTSTART;TZID=Europe/London:20251225T160000
DTEND;TZID=Europe/London:20251225T210000
DTSTAMP:20260421T060703
CREATED:20250915T123442Z
LAST-MODIFIED:20250915T123442Z
UID:10026859-1766678400-1766696400@www.hovemethodistchurch.co.uk
SUMMARY:Slimming World
DESCRIPTION:In the Hall. \nContact Trish 07821 007 881
URL:https://www.hovemethodistchurch.co.uk/event/slimming-world-5/2025-12-25/
LOCATION:Hove Methodist Church
CATEGORIES:Health & Fitness
ATTACH;FMTTYPE=image/png:https://www.hovemethodistchurch.co.uk/wp-content/uploads/2025/09/Slimming_World2.png
END:VEVENT
BEGIN:VEVENT
DTSTART;TZID=Europe/London:20251225T160000
DTEND;TZID=Europe/London:20251225T165000
DTSTAMP:20260421T060703
CREATED:20240111T115706Z
LAST-MODIFIED:20240111T143514Z
UID:10018104-1766678400-1766681400@www.hovemethodistchurch.co.uk
SUMMARY:Junior Kickboxing
DESCRIPTION:In the gym.
URL:https://www.hovemethodistchurch.co.uk/event/junior-kickboxing-3/2025-12-25/
LOCATION:Hove Methodist Church
CATEGORIES:Children,Health & Fitness
ATTACH;FMTTYPE=image/jpeg:https://www.hovemethodistchurch.co.uk/wp-content/uploads/2022/10/nam_yang_600x387.jpg
ORGANIZER;CN="Tom Stiff":MAILTO:tom.stiff@gmail.com
END:VEVENT
BEGIN:VEVENT
DTSTART;TZID=Europe/London:20251225T123000
DTEND;TZID=Europe/London:20251225T143000
DTSTAMP:20260421T060703
CREATED:20231027T134955Z
LAST-MODIFIED:20251209T161934Z
UID:10007198-1766665800-1766673000@www.hovemethodistchurch.co.uk
SUMMARY:Christmas Day Lunch
DESCRIPTION:
URL:https://www.hovemethodistchurch.co.uk/event/christmas-day-lunch-2/
LOCATION:Hove Methodist Church
CATEGORIES:Social
ATTACH;FMTTYPE=image/jpeg:https://www.hovemethodistchurch.co.uk/wp-content/uploads/2022/10/hmc-logo_600x387.jpg
END:VEVENT
BEGIN:VEVENT
DTSTART;TZID=Europe/London:20251225T113000
DTEND;TZID=Europe/London:20251225T123000
DTSTAMP:20260421T060704
CREATED:20240803T085216Z
LAST-MODIFIED:20240806T130042Z
UID:10025300-1766662200-1766665800@www.hovemethodistchurch.co.uk
SUMMARY:Kung Fu
DESCRIPTION:
URL:https://www.hovemethodistchurch.co.uk/event/kung-fu-2/2025-12-25/
LOCATION:Hove Methodist Church
ATTACH;FMTTYPE=image/jpeg:https://www.hovemethodistchurch.co.uk/wp-content/uploads/2022/10/nam_yang_600x387.jpg
ORGANIZER;CN="Tom Stiff":MAILTO:tom.stiff@gmail.com
END:VEVENT
BEGIN:VEVENT
DTSTART;TZID=Europe/London:20251225T103000
DTEND;TZID=Europe/London:20251225T113000
DTSTAMP:20260421T060704
CREATED:20240803T085132Z
LAST-MODIFIED:20240806T130115Z
UID:10025039-1766658600-1766662200@www.hovemethodistchurch.co.uk
SUMMARY:Shuang Yang (white crane Tai Chi)
DESCRIPTION:
URL:https://www.hovemethodistchurch.co.uk/event/shuang-yang-white-crane-tai-chi-2/2025-12-25/
LOCATION:Hove Methodist Church
ATTACH;FMTTYPE=image/jpeg:https://www.hovemethodistchurch.co.uk/wp-content/uploads/2022/10/nam_yang_600x387.jpg
ORGANIZER;CN="Tom Stiff":MAILTO:tom.stiff@gmail.com
END:VEVENT
BEGIN:VEVENT
DTSTART;TZID=Europe/London:20251225T100000
DTEND;TZID=Europe/London:20251225T120000
DTSTAMP:20260421T060704
CREATED:20221116T191817Z
LAST-MODIFIED:20251209T161905Z
UID:10007197-1766656800-1766664000@www.hovemethodistchurch.co.uk
SUMMARY:Christmas Day Family Service
DESCRIPTION:
URL:https://www.hovemethodistchurch.co.uk/event/christmas-day-family-service/
LOCATION:Hove Methodist Church
CATEGORIES:Religious & Spiritual
ATTACH;FMTTYPE=image/jpeg:https://www.hovemethodistchurch.co.uk/wp-content/uploads/2022/10/hmc-logo_600x387.jpg
END:VEVENT
BEGIN:VEVENT
DTSTART;TZID=Europe/London:20251225T093000
DTEND;TZID=Europe/London:20251225T103000
DTSTAMP:20260421T060704
CREATED:20240803T084858Z
LAST-MODIFIED:20240806T130202Z
UID:10024778-1766655000-1766658600@www.hovemethodistchurch.co.uk
SUMMARY:ChiGung
DESCRIPTION:
URL:https://www.hovemethodistchurch.co.uk/event/chigung/2025-12-25/
LOCATION:Hove Methodist Church
ATTACH;FMTTYPE=image/jpeg:https://www.hovemethodistchurch.co.uk/wp-content/uploads/2022/10/nam_yang_600x387.jpg
ORGANIZER;CN="Tom Stiff":MAILTO:tom.stiff@gmail.com
END:VEVENT
BEGIN:VEVENT
DTSTART;TZID=Europe/London:20251224T193000
DTEND;TZID=Europe/London:20251224T210000
DTSTAMP:20260421T060704
CREATED:20240111T151509Z
LAST-MODIFIED:20240111T151532Z
UID:10021244-1766604600-1766610000@www.hovemethodistchurch.co.uk
SUMMARY:Adult Kickboxing
DESCRIPTION:In the gym.
URL:https://www.hovemethodistchurch.co.uk/event/adult-kickboxing-9/2025-12-24/
LOCATION:Hove Methodist Church
CATEGORIES:Health & Fitness
ATTACH;FMTTYPE=image/jpeg:https://www.hovemethodistchurch.co.uk/wp-content/uploads/2022/10/nam_yang_600x387.jpg
ORGANIZER;CN="Tom Stiff":MAILTO:tom.stiff@gmail.com
END:VEVENT
BEGIN:VEVENT
DTSTART;TZID=Europe/London:20251224T140000
DTEND;TZID=Europe/London:20251224T153000
DTSTAMP:20260421T060704
CREATED:20231027T135809Z
LAST-MODIFIED:20251209T161828Z
UID:10009073-1766584800-1766590200@www.hovemethodistchurch.co.uk
SUMMARY:Messy Christingle Service
DESCRIPTION:
URL:https://www.hovemethodistchurch.co.uk/event/christingle/
LOCATION:Hove Methodist Church
CATEGORIES:Social
ATTACH;FMTTYPE=image/jpeg:https://www.hovemethodistchurch.co.uk/wp-content/uploads/2022/10/hmc-logo_600x387.jpg
END:VEVENT
BEGIN:VEVENT
DTSTART;TZID=Europe/London:20251224T100000
DTEND;TZID=Europe/London:20251224T120000
DTSTAMP:20260421T060704
CREATED:20241120T133627Z
LAST-MODIFIED:20251209T161755Z
UID:10025492-1766570400-1766577600@www.hovemethodistchurch.co.uk
SUMMARY:Veg Prep & Hot Dinks in the Hall
DESCRIPTION:
URL:https://www.hovemethodistchurch.co.uk/event/veg-prep-hot-dinks-in-the-hall/
END:VEVENT
BEGIN:VEVENT
DTSTART;TZID=Europe/London:20251224T093000
DTEND;TZID=Europe/London:20251224T110000
DTSTAMP:20260421T060704
CREATED:20240111T151228Z
LAST-MODIFIED:20240111T151319Z
UID:10020722-1766568600-1766574000@www.hovemethodistchurch.co.uk
SUMMARY:Adult Kickboxing
DESCRIPTION:In the gym.
URL:https://www.hovemethodistchurch.co.uk/event/adult-kickboxing-8/2025-12-24/
LOCATION:Hove Methodist Church
CATEGORIES:Health & Fitness
ATTACH;FMTTYPE=image/jpeg:https://www.hovemethodistchurch.co.uk/wp-content/uploads/2022/10/nam_yang_600x387.jpg
ORGANIZER;CN="Tom Stiff":MAILTO:tom.stiff@gmail.com
END:VEVENT
BEGIN:VEVENT
DTSTART;TZID=Europe/London:20251223T193000
DTEND;TZID=Europe/London:20251223T214500
DTSTAMP:20260421T060704
CREATED:20221007T165917Z
LAST-MODIFIED:20221007T165917Z
UID:10003584-1766518200-1766526300@www.hovemethodistchurch.co.uk
SUMMARY:Brighton & Hove Camera Club
DESCRIPTION:See https://bhcc-online.org/ for main programme of events and contacts
URL:https://www.hovemethodistchurch.co.uk/event/brighton-hove-camera-club/2025-12-23/
LOCATION:Hove Methodist Church
CATEGORIES:Arts & Entertainment
ATTACH;FMTTYPE=image/jpeg:https://www.hovemethodistchurch.co.uk/wp-content/uploads/2022/10/bh-camerclub-logo.jpg
END:VEVENT
BEGIN:VEVENT
DTSTART;TZID=Europe/London:20251223T193000
DTEND;TZID=Europe/London:20251223T203000
DTSTAMP:20260421T060704
CREATED:20240111T151018Z
LAST-MODIFIED:20240111T151042Z
UID:10020200-1766518200-1766521800@www.hovemethodistchurch.co.uk
SUMMARY:Adult Kickboxing
DESCRIPTION:In the gym.
URL:https://www.hovemethodistchurch.co.uk/event/adult-kickboxing-7/2025-12-23/
LOCATION:Hove Methodist Church
CATEGORIES:Health & Fitness
ATTACH;FMTTYPE=image/jpeg:https://www.hovemethodistchurch.co.uk/wp-content/uploads/2022/10/nam_yang_600x387.jpg
ORGANIZER;CN="Tom Stiff":MAILTO:tom.stiff@gmail.com
END:VEVENT
BEGIN:VEVENT
DTSTART;TZID=Europe/London:20251223T183000
DTEND;TZID=Europe/London:20251223T193000
DTSTAMP:20260421T060704
CREATED:20240111T150831Z
LAST-MODIFIED:20240111T150915Z
UID:10019678-1766514600-1766518200@www.hovemethodistchurch.co.uk
SUMMARY:Adult Kickboxing
DESCRIPTION:In the gym.
URL:https://www.hovemethodistchurch.co.uk/event/adult-kickboxing-6/2025-12-23/
LOCATION:Hove Methodist Church
CATEGORIES:Health & Fitness
ATTACH;FMTTYPE=image/jpeg:https://www.hovemethodistchurch.co.uk/wp-content/uploads/2022/10/nam_yang_600x387.jpg
ORGANIZER;CN="Tom Stiff":MAILTO:tom.stiff@gmail.com
END:VEVENT
BEGIN:VEVENT
DTSTART;TZID=Europe/London:20251223T180000
DTEND;TZID=Europe/London:20251223T200000
DTSTAMP:20260421T060704
CREATED:20221007T164556Z
LAST-MODIFIED:20221007T164556Z
UID:10000263-1766512800-1766520000@www.hovemethodistchurch.co.uk
SUMMARY:Martlets Choir
DESCRIPTION:In the Sanctuary. Rehearsals £5\, first trial free.
URL:https://www.hovemethodistchurch.co.uk/event/martlets-choir/2025-12-23/
LOCATION:Hove Methodist Church
CATEGORIES:Music
ATTACH;FMTTYPE=image/jpeg:https://www.hovemethodistchurch.co.uk/wp-content/uploads/2022/10/martlets-logo.jpg
ORGANIZER;CN="Ann Borg":MAILTO:ann.borg@martlets.org.uk
END:VEVENT
END:VCALENDAR