BEGIN:VCALENDAR
VERSION:2.0
PRODID:-//Hove Methodist Church - ECPv6.15.20//NONSGML v1.0//EN
CALSCALE:GREGORIAN
METHOD:PUBLISH
X-ORIGINAL-URL:https://www.hovemethodistchurch.co.uk
X-WR-CALDESC:Events for Hove Methodist Church
REFRESH-INTERVAL;VALUE=DURATION:PT1H
X-Robots-Tag:noindex
X-PUBLISHED-TTL:PT1H
BEGIN:VTIMEZONE
TZID:Europe/London
BEGIN:DAYLIGHT
TZOFFSETFROM:+0000
TZOFFSETTO:+0100
TZNAME:BST
DTSTART:20240331T010000
END:DAYLIGHT
BEGIN:STANDARD
TZOFFSETFROM:+0100
TZOFFSETTO:+0000
TZNAME:GMT
DTSTART:20241027T010000
END:STANDARD
BEGIN:DAYLIGHT
TZOFFSETFROM:+0000
TZOFFSETTO:+0100
TZNAME:BST
DTSTART:20250330T010000
END:DAYLIGHT
BEGIN:STANDARD
TZOFFSETFROM:+0100
TZOFFSETTO:+0000
TZNAME:GMT
DTSTART:20251026T010000
END:STANDARD
BEGIN:DAYLIGHT
TZOFFSETFROM:+0000
TZOFFSETTO:+0100
TZNAME:BST
DTSTART:20260329T010000
END:DAYLIGHT
BEGIN:STANDARD
TZOFFSETFROM:+0100
TZOFFSETTO:+0000
TZNAME:GMT
DTSTART:20261025T010000
END:STANDARD
END:VTIMEZONE
BEGIN:VEVENT
DTSTART;TZID=Europe/London:20250525T103000
DTEND;TZID=Europe/London:20250525T120000
DTSTAMP:20260423T190458
CREATED:20221117T151805Z
LAST-MODIFIED:20231027T140411Z
UID:10009206-1748169000-1748174400@www.hovemethodistchurch.co.uk
SUMMARY:Hove Methodists Sunday Worship
DESCRIPTION:In the Sanctuary\, all welcome.
URL:https://www.hovemethodistchurch.co.uk/event/hove-methodists-sunday-worship/2025-05-25/
LOCATION:Hove Methodist Church
CATEGORIES:Religious & Spiritual
ATTACH;FMTTYPE=image/jpeg:https://www.hovemethodistchurch.co.uk/wp-content/uploads/2022/10/hmc-logo_600x387.jpg
END:VEVENT
BEGIN:VEVENT
DTSTART;TZID=Europe/London:20250519T143000
DTEND;TZID=Europe/London:20250519T160000
DTSTAMP:20260423T190458
CREATED:20221006T143912Z
LAST-MODIFIED:20221007T165150Z
UID:10002782-1747665000-1747670400@www.hovemethodistchurch.co.uk
SUMMARY:The Monday Guild
DESCRIPTION:Drop-in fellowship group in the church.
URL:https://www.hovemethodistchurch.co.uk/event/the-monday-guild/2025-05-19/
LOCATION:Hove Methodist Church
CATEGORIES:Religious & Spiritual,Social
ATTACH;FMTTYPE=image/jpeg:https://www.hovemethodistchurch.co.uk/wp-content/uploads/2022/10/the-monday-guild-logo.jpg
END:VEVENT
BEGIN:VEVENT
DTSTART;TZID=Europe/London:20250518T103000
DTEND;TZID=Europe/London:20250518T120000
DTSTAMP:20260423T190458
CREATED:20221117T151805Z
LAST-MODIFIED:20231027T140411Z
UID:10009205-1747564200-1747569600@www.hovemethodistchurch.co.uk
SUMMARY:Hove Methodists Sunday Worship
DESCRIPTION:In the Sanctuary\, all welcome.
URL:https://www.hovemethodistchurch.co.uk/event/hove-methodists-sunday-worship/2025-05-18/
LOCATION:Hove Methodist Church
CATEGORIES:Religious & Spiritual
ATTACH;FMTTYPE=image/jpeg:https://www.hovemethodistchurch.co.uk/wp-content/uploads/2022/10/hmc-logo_600x387.jpg
END:VEVENT
BEGIN:VEVENT
DTSTART;TZID=Europe/London:20250512T143000
DTEND;TZID=Europe/London:20250512T160000
DTSTAMP:20260423T190458
CREATED:20221006T143912Z
LAST-MODIFIED:20221007T165150Z
UID:10002781-1747060200-1747065600@www.hovemethodistchurch.co.uk
SUMMARY:The Monday Guild
DESCRIPTION:Drop-in fellowship group in the church.
URL:https://www.hovemethodistchurch.co.uk/event/the-monday-guild/2025-05-12/
LOCATION:Hove Methodist Church
CATEGORIES:Religious & Spiritual,Social
ATTACH;FMTTYPE=image/jpeg:https://www.hovemethodistchurch.co.uk/wp-content/uploads/2022/10/the-monday-guild-logo.jpg
END:VEVENT
BEGIN:VEVENT
DTSTART;TZID=Europe/London:20250511T103000
DTEND;TZID=Europe/London:20250511T120000
DTSTAMP:20260423T190458
CREATED:20221117T151805Z
LAST-MODIFIED:20231027T140411Z
UID:10009204-1746959400-1746964800@www.hovemethodistchurch.co.uk
SUMMARY:Hove Methodists Sunday Worship
DESCRIPTION:In the Sanctuary\, all welcome.
URL:https://www.hovemethodistchurch.co.uk/event/hove-methodists-sunday-worship/2025-05-11/
LOCATION:Hove Methodist Church
CATEGORIES:Religious & Spiritual
ATTACH;FMTTYPE=image/jpeg:https://www.hovemethodistchurch.co.uk/wp-content/uploads/2022/10/hmc-logo_600x387.jpg
END:VEVENT
BEGIN:VEVENT
DTSTART;TZID=Europe/London:20250505T143000
DTEND;TZID=Europe/London:20250505T160000
DTSTAMP:20260423T190458
CREATED:20221006T143912Z
LAST-MODIFIED:20221007T165150Z
UID:10002780-1746455400-1746460800@www.hovemethodistchurch.co.uk
SUMMARY:The Monday Guild
DESCRIPTION:Drop-in fellowship group in the church.
URL:https://www.hovemethodistchurch.co.uk/event/the-monday-guild/2025-05-05/
LOCATION:Hove Methodist Church
CATEGORIES:Religious & Spiritual,Social
ATTACH;FMTTYPE=image/jpeg:https://www.hovemethodistchurch.co.uk/wp-content/uploads/2022/10/the-monday-guild-logo.jpg
END:VEVENT
BEGIN:VEVENT
DTSTART;TZID=Europe/London:20250504T103000
DTEND;TZID=Europe/London:20250504T120000
DTSTAMP:20260423T190458
CREATED:20221117T151805Z
LAST-MODIFIED:20231027T140411Z
UID:10009203-1746354600-1746360000@www.hovemethodistchurch.co.uk
SUMMARY:Hove Methodists Sunday Worship
DESCRIPTION:In the Sanctuary\, all welcome.
URL:https://www.hovemethodistchurch.co.uk/event/hove-methodists-sunday-worship/2025-05-04/
LOCATION:Hove Methodist Church
CATEGORIES:Religious & Spiritual
ATTACH;FMTTYPE=image/jpeg:https://www.hovemethodistchurch.co.uk/wp-content/uploads/2022/10/hmc-logo_600x387.jpg
END:VEVENT
BEGIN:VEVENT
DTSTART;TZID=Europe/London:20250428T143000
DTEND;TZID=Europe/London:20250428T160000
DTSTAMP:20260423T190458
CREATED:20221006T143912Z
LAST-MODIFIED:20221007T165150Z
UID:10002779-1745850600-1745856000@www.hovemethodistchurch.co.uk
SUMMARY:The Monday Guild
DESCRIPTION:Drop-in fellowship group in the church.
URL:https://www.hovemethodistchurch.co.uk/event/the-monday-guild/2025-04-28/
LOCATION:Hove Methodist Church
CATEGORIES:Religious & Spiritual,Social
ATTACH;FMTTYPE=image/jpeg:https://www.hovemethodistchurch.co.uk/wp-content/uploads/2022/10/the-monday-guild-logo.jpg
END:VEVENT
BEGIN:VEVENT
DTSTART;TZID=Europe/London:20250427T103000
DTEND;TZID=Europe/London:20250427T120000
DTSTAMP:20260423T190458
CREATED:20221117T151805Z
LAST-MODIFIED:20231027T140411Z
UID:10009202-1745749800-1745755200@www.hovemethodistchurch.co.uk
SUMMARY:Hove Methodists Sunday Worship
DESCRIPTION:In the Sanctuary\, all welcome.
URL:https://www.hovemethodistchurch.co.uk/event/hove-methodists-sunday-worship/2025-04-27/
LOCATION:Hove Methodist Church
CATEGORIES:Religious & Spiritual
ATTACH;FMTTYPE=image/jpeg:https://www.hovemethodistchurch.co.uk/wp-content/uploads/2022/10/hmc-logo_600x387.jpg
END:VEVENT
BEGIN:VEVENT
DTSTART;TZID=Europe/London:20250421T143000
DTEND;TZID=Europe/London:20250421T160000
DTSTAMP:20260423T190458
CREATED:20221006T143912Z
LAST-MODIFIED:20221007T165150Z
UID:10002778-1745245800-1745251200@www.hovemethodistchurch.co.uk
SUMMARY:The Monday Guild
DESCRIPTION:Drop-in fellowship group in the church.
URL:https://www.hovemethodistchurch.co.uk/event/the-monday-guild/2025-04-21/
LOCATION:Hove Methodist Church
CATEGORIES:Religious & Spiritual,Social
ATTACH;FMTTYPE=image/jpeg:https://www.hovemethodistchurch.co.uk/wp-content/uploads/2022/10/the-monday-guild-logo.jpg
END:VEVENT
BEGIN:VEVENT
DTSTART;TZID=Europe/London:20250420T103000
DTEND;TZID=Europe/London:20250420T120000
DTSTAMP:20260423T190458
CREATED:20221117T151805Z
LAST-MODIFIED:20231027T140411Z
UID:10009201-1745145000-1745150400@www.hovemethodistchurch.co.uk
SUMMARY:Hove Methodists Sunday Worship
DESCRIPTION:In the Sanctuary\, all welcome.
URL:https://www.hovemethodistchurch.co.uk/event/hove-methodists-sunday-worship/2025-04-20/
LOCATION:Hove Methodist Church
CATEGORIES:Religious & Spiritual
ATTACH;FMTTYPE=image/jpeg:https://www.hovemethodistchurch.co.uk/wp-content/uploads/2022/10/hmc-logo_600x387.jpg
END:VEVENT
BEGIN:VEVENT
DTSTART;TZID=Europe/London:20250414T143000
DTEND;TZID=Europe/London:20250414T160000
DTSTAMP:20260423T190458
CREATED:20221006T143912Z
LAST-MODIFIED:20221007T165150Z
UID:10002777-1744641000-1744646400@www.hovemethodistchurch.co.uk
SUMMARY:The Monday Guild
DESCRIPTION:Drop-in fellowship group in the church.
URL:https://www.hovemethodistchurch.co.uk/event/the-monday-guild/2025-04-14/
LOCATION:Hove Methodist Church
CATEGORIES:Religious & Spiritual,Social
ATTACH;FMTTYPE=image/jpeg:https://www.hovemethodistchurch.co.uk/wp-content/uploads/2022/10/the-monday-guild-logo.jpg
END:VEVENT
BEGIN:VEVENT
DTSTART;TZID=Europe/London:20250413T103000
DTEND;TZID=Europe/London:20250413T120000
DTSTAMP:20260423T190458
CREATED:20221117T151805Z
LAST-MODIFIED:20231027T140411Z
UID:10009200-1744540200-1744545600@www.hovemethodistchurch.co.uk
SUMMARY:Hove Methodists Sunday Worship
DESCRIPTION:In the Sanctuary\, all welcome.
URL:https://www.hovemethodistchurch.co.uk/event/hove-methodists-sunday-worship/2025-04-13/
LOCATION:Hove Methodist Church
CATEGORIES:Religious & Spiritual
ATTACH;FMTTYPE=image/jpeg:https://www.hovemethodistchurch.co.uk/wp-content/uploads/2022/10/hmc-logo_600x387.jpg
END:VEVENT
BEGIN:VEVENT
DTSTART;TZID=Europe/London:20250407T143000
DTEND;TZID=Europe/London:20250407T160000
DTSTAMP:20260423T190458
CREATED:20221006T143912Z
LAST-MODIFIED:20221007T165150Z
UID:10002776-1744036200-1744041600@www.hovemethodistchurch.co.uk
SUMMARY:The Monday Guild
DESCRIPTION:Drop-in fellowship group in the church.
URL:https://www.hovemethodistchurch.co.uk/event/the-monday-guild/2025-04-07/
LOCATION:Hove Methodist Church
CATEGORIES:Religious & Spiritual,Social
ATTACH;FMTTYPE=image/jpeg:https://www.hovemethodistchurch.co.uk/wp-content/uploads/2022/10/the-monday-guild-logo.jpg
END:VEVENT
BEGIN:VEVENT
DTSTART;TZID=Europe/London:20250406T103000
DTEND;TZID=Europe/London:20250406T120000
DTSTAMP:20260423T190458
CREATED:20221117T151805Z
LAST-MODIFIED:20231027T140411Z
UID:10009199-1743935400-1743940800@www.hovemethodistchurch.co.uk
SUMMARY:Hove Methodists Sunday Worship
DESCRIPTION:In the Sanctuary\, all welcome.
URL:https://www.hovemethodistchurch.co.uk/event/hove-methodists-sunday-worship/2025-04-06/
LOCATION:Hove Methodist Church
CATEGORIES:Religious & Spiritual
ATTACH;FMTTYPE=image/jpeg:https://www.hovemethodistchurch.co.uk/wp-content/uploads/2022/10/hmc-logo_600x387.jpg
END:VEVENT
BEGIN:VEVENT
DTSTART;TZID=Europe/London:20250331T143000
DTEND;TZID=Europe/London:20250331T160000
DTSTAMP:20260423T190458
CREATED:20221006T143912Z
LAST-MODIFIED:20221007T165150Z
UID:10002775-1743431400-1743436800@www.hovemethodistchurch.co.uk
SUMMARY:The Monday Guild
DESCRIPTION:Drop-in fellowship group in the church.
URL:https://www.hovemethodistchurch.co.uk/event/the-monday-guild/2025-03-31/
LOCATION:Hove Methodist Church
CATEGORIES:Religious & Spiritual,Social
ATTACH;FMTTYPE=image/jpeg:https://www.hovemethodistchurch.co.uk/wp-content/uploads/2022/10/the-monday-guild-logo.jpg
END:VEVENT
BEGIN:VEVENT
DTSTART;TZID=Europe/London:20250330T103000
DTEND;TZID=Europe/London:20250330T120000
DTSTAMP:20260423T190458
CREATED:20221117T151805Z
LAST-MODIFIED:20231027T140411Z
UID:10009198-1743330600-1743336000@www.hovemethodistchurch.co.uk
SUMMARY:Hove Methodists Sunday Worship
DESCRIPTION:In the Sanctuary\, all welcome.
URL:https://www.hovemethodistchurch.co.uk/event/hove-methodists-sunday-worship/2025-03-30/
LOCATION:Hove Methodist Church
CATEGORIES:Religious & Spiritual
ATTACH;FMTTYPE=image/jpeg:https://www.hovemethodistchurch.co.uk/wp-content/uploads/2022/10/hmc-logo_600x387.jpg
END:VEVENT
BEGIN:VEVENT
DTSTART;TZID=Europe/London:20250324T143000
DTEND;TZID=Europe/London:20250324T160000
DTSTAMP:20260423T190458
CREATED:20221006T143912Z
LAST-MODIFIED:20221007T165150Z
UID:10002774-1742826600-1742832000@www.hovemethodistchurch.co.uk
SUMMARY:The Monday Guild
DESCRIPTION:Drop-in fellowship group in the church.
URL:https://www.hovemethodistchurch.co.uk/event/the-monday-guild/2025-03-24/
LOCATION:Hove Methodist Church
CATEGORIES:Religious & Spiritual,Social
ATTACH;FMTTYPE=image/jpeg:https://www.hovemethodistchurch.co.uk/wp-content/uploads/2022/10/the-monday-guild-logo.jpg
END:VEVENT
BEGIN:VEVENT
DTSTART;TZID=Europe/London:20250323T103000
DTEND;TZID=Europe/London:20250323T120000
DTSTAMP:20260423T190458
CREATED:20221117T151805Z
LAST-MODIFIED:20231027T140411Z
UID:10009197-1742725800-1742731200@www.hovemethodistchurch.co.uk
SUMMARY:Hove Methodists Sunday Worship
DESCRIPTION:In the Sanctuary\, all welcome.
URL:https://www.hovemethodistchurch.co.uk/event/hove-methodists-sunday-worship/2025-03-23/
LOCATION:Hove Methodist Church
CATEGORIES:Religious & Spiritual
ATTACH;FMTTYPE=image/jpeg:https://www.hovemethodistchurch.co.uk/wp-content/uploads/2022/10/hmc-logo_600x387.jpg
END:VEVENT
BEGIN:VEVENT
DTSTART;TZID=Europe/London:20250317T143000
DTEND;TZID=Europe/London:20250317T160000
DTSTAMP:20260423T190458
CREATED:20221006T143912Z
LAST-MODIFIED:20221007T165150Z
UID:10002773-1742221800-1742227200@www.hovemethodistchurch.co.uk
SUMMARY:The Monday Guild
DESCRIPTION:Drop-in fellowship group in the church.
URL:https://www.hovemethodistchurch.co.uk/event/the-monday-guild/2025-03-17/
LOCATION:Hove Methodist Church
CATEGORIES:Religious & Spiritual,Social
ATTACH;FMTTYPE=image/jpeg:https://www.hovemethodistchurch.co.uk/wp-content/uploads/2022/10/the-monday-guild-logo.jpg
END:VEVENT
BEGIN:VEVENT
DTSTART;TZID=Europe/London:20250316T103000
DTEND;TZID=Europe/London:20250316T120000
DTSTAMP:20260423T190458
CREATED:20221117T151805Z
LAST-MODIFIED:20231027T140411Z
UID:10009196-1742121000-1742126400@www.hovemethodistchurch.co.uk
SUMMARY:Hove Methodists Sunday Worship
DESCRIPTION:In the Sanctuary\, all welcome.
URL:https://www.hovemethodistchurch.co.uk/event/hove-methodists-sunday-worship/2025-03-16/
LOCATION:Hove Methodist Church
CATEGORIES:Religious & Spiritual
ATTACH;FMTTYPE=image/jpeg:https://www.hovemethodistchurch.co.uk/wp-content/uploads/2022/10/hmc-logo_600x387.jpg
END:VEVENT
BEGIN:VEVENT
DTSTART;TZID=Europe/London:20250310T143000
DTEND;TZID=Europe/London:20250310T160000
DTSTAMP:20260423T190458
CREATED:20221006T143912Z
LAST-MODIFIED:20221007T165150Z
UID:10002772-1741617000-1741622400@www.hovemethodistchurch.co.uk
SUMMARY:The Monday Guild
DESCRIPTION:Drop-in fellowship group in the church.
URL:https://www.hovemethodistchurch.co.uk/event/the-monday-guild/2025-03-10/
LOCATION:Hove Methodist Church
CATEGORIES:Religious & Spiritual,Social
ATTACH;FMTTYPE=image/jpeg:https://www.hovemethodistchurch.co.uk/wp-content/uploads/2022/10/the-monday-guild-logo.jpg
END:VEVENT
BEGIN:VEVENT
DTSTART;TZID=Europe/London:20250309T103000
DTEND;TZID=Europe/London:20250309T120000
DTSTAMP:20260423T190458
CREATED:20221117T151805Z
LAST-MODIFIED:20231027T140411Z
UID:10009195-1741516200-1741521600@www.hovemethodistchurch.co.uk
SUMMARY:Hove Methodists Sunday Worship
DESCRIPTION:In the Sanctuary\, all welcome.
URL:https://www.hovemethodistchurch.co.uk/event/hove-methodists-sunday-worship/2025-03-09/
LOCATION:Hove Methodist Church
CATEGORIES:Religious & Spiritual
ATTACH;FMTTYPE=image/jpeg:https://www.hovemethodistchurch.co.uk/wp-content/uploads/2022/10/hmc-logo_600x387.jpg
END:VEVENT
BEGIN:VEVENT
DTSTART;TZID=Europe/London:20250303T143000
DTEND;TZID=Europe/London:20250303T160000
DTSTAMP:20260423T190458
CREATED:20221006T143912Z
LAST-MODIFIED:20221007T165150Z
UID:10002771-1741012200-1741017600@www.hovemethodistchurch.co.uk
SUMMARY:The Monday Guild
DESCRIPTION:Drop-in fellowship group in the church.
URL:https://www.hovemethodistchurch.co.uk/event/the-monday-guild/2025-03-03/
LOCATION:Hove Methodist Church
CATEGORIES:Religious & Spiritual,Social
ATTACH;FMTTYPE=image/jpeg:https://www.hovemethodistchurch.co.uk/wp-content/uploads/2022/10/the-monday-guild-logo.jpg
END:VEVENT
BEGIN:VEVENT
DTSTART;TZID=Europe/London:20250302T103000
DTEND;TZID=Europe/London:20250302T120000
DTSTAMP:20260423T190458
CREATED:20221117T151805Z
LAST-MODIFIED:20231027T140411Z
UID:10009194-1740911400-1740916800@www.hovemethodistchurch.co.uk
SUMMARY:Hove Methodists Sunday Worship
DESCRIPTION:In the Sanctuary\, all welcome.
URL:https://www.hovemethodistchurch.co.uk/event/hove-methodists-sunday-worship/2025-03-02/
LOCATION:Hove Methodist Church
CATEGORIES:Religious & Spiritual
ATTACH;FMTTYPE=image/jpeg:https://www.hovemethodistchurch.co.uk/wp-content/uploads/2022/10/hmc-logo_600x387.jpg
END:VEVENT
BEGIN:VEVENT
DTSTART;TZID=Europe/London:20250224T143000
DTEND;TZID=Europe/London:20250224T160000
DTSTAMP:20260423T190458
CREATED:20221006T143912Z
LAST-MODIFIED:20221007T165150Z
UID:10002770-1740407400-1740412800@www.hovemethodistchurch.co.uk
SUMMARY:The Monday Guild
DESCRIPTION:Drop-in fellowship group in the church.
URL:https://www.hovemethodistchurch.co.uk/event/the-monday-guild/2025-02-24/
LOCATION:Hove Methodist Church
CATEGORIES:Religious & Spiritual,Social
ATTACH;FMTTYPE=image/jpeg:https://www.hovemethodistchurch.co.uk/wp-content/uploads/2022/10/the-monday-guild-logo.jpg
END:VEVENT
BEGIN:VEVENT
DTSTART;TZID=Europe/London:20250223T103000
DTEND;TZID=Europe/London:20250223T120000
DTSTAMP:20260423T190458
CREATED:20221117T151805Z
LAST-MODIFIED:20231027T140411Z
UID:10009193-1740306600-1740312000@www.hovemethodistchurch.co.uk
SUMMARY:Hove Methodists Sunday Worship
DESCRIPTION:In the Sanctuary\, all welcome.
URL:https://www.hovemethodistchurch.co.uk/event/hove-methodists-sunday-worship/2025-02-23/
LOCATION:Hove Methodist Church
CATEGORIES:Religious & Spiritual
ATTACH;FMTTYPE=image/jpeg:https://www.hovemethodistchurch.co.uk/wp-content/uploads/2022/10/hmc-logo_600x387.jpg
END:VEVENT
BEGIN:VEVENT
DTSTART;TZID=Europe/London:20250217T143000
DTEND;TZID=Europe/London:20250217T160000
DTSTAMP:20260423T190458
CREATED:20221006T143912Z
LAST-MODIFIED:20221007T165150Z
UID:10002769-1739802600-1739808000@www.hovemethodistchurch.co.uk
SUMMARY:The Monday Guild
DESCRIPTION:Drop-in fellowship group in the church.
URL:https://www.hovemethodistchurch.co.uk/event/the-monday-guild/2025-02-17/
LOCATION:Hove Methodist Church
CATEGORIES:Religious & Spiritual,Social
ATTACH;FMTTYPE=image/jpeg:https://www.hovemethodistchurch.co.uk/wp-content/uploads/2022/10/the-monday-guild-logo.jpg
END:VEVENT
BEGIN:VEVENT
DTSTART;TZID=Europe/London:20250216T103000
DTEND;TZID=Europe/London:20250216T120000
DTSTAMP:20260423T190458
CREATED:20221117T151805Z
LAST-MODIFIED:20231027T140411Z
UID:10009192-1739701800-1739707200@www.hovemethodistchurch.co.uk
SUMMARY:Hove Methodists Sunday Worship
DESCRIPTION:In the Sanctuary\, all welcome.
URL:https://www.hovemethodistchurch.co.uk/event/hove-methodists-sunday-worship/2025-02-16/
LOCATION:Hove Methodist Church
CATEGORIES:Religious & Spiritual
ATTACH;FMTTYPE=image/jpeg:https://www.hovemethodistchurch.co.uk/wp-content/uploads/2022/10/hmc-logo_600x387.jpg
END:VEVENT
BEGIN:VEVENT
DTSTART;TZID=Europe/London:20250210T143000
DTEND;TZID=Europe/London:20250210T160000
DTSTAMP:20260423T190458
CREATED:20221006T143912Z
LAST-MODIFIED:20221007T165150Z
UID:10002768-1739197800-1739203200@www.hovemethodistchurch.co.uk
SUMMARY:The Monday Guild
DESCRIPTION:Drop-in fellowship group in the church.
URL:https://www.hovemethodistchurch.co.uk/event/the-monday-guild/2025-02-10/
LOCATION:Hove Methodist Church
CATEGORIES:Religious & Spiritual,Social
ATTACH;FMTTYPE=image/jpeg:https://www.hovemethodistchurch.co.uk/wp-content/uploads/2022/10/the-monday-guild-logo.jpg
END:VEVENT
END:VCALENDAR