BEGIN:VCALENDAR
VERSION:2.0
PRODID:-//Hove Methodist Church - ECPv6.15.20//NONSGML v1.0//EN
CALSCALE:GREGORIAN
METHOD:PUBLISH
X-WR-CALNAME:Hove Methodist Church
X-ORIGINAL-URL:https://www.hovemethodistchurch.co.uk
X-WR-CALDESC:Events for Hove Methodist Church
REFRESH-INTERVAL;VALUE=DURATION:PT1H
X-Robots-Tag:noindex
X-PUBLISHED-TTL:PT1H
BEGIN:VTIMEZONE
TZID:Europe/London
BEGIN:DAYLIGHT
TZOFFSETFROM:+0000
TZOFFSETTO:+0100
TZNAME:BST
DTSTART:20250330T010000
END:DAYLIGHT
BEGIN:STANDARD
TZOFFSETFROM:+0100
TZOFFSETTO:+0000
TZNAME:GMT
DTSTART:20251026T010000
END:STANDARD
BEGIN:DAYLIGHT
TZOFFSETFROM:+0000
TZOFFSETTO:+0100
TZNAME:BST
DTSTART:20260329T010000
END:DAYLIGHT
BEGIN:STANDARD
TZOFFSETFROM:+0100
TZOFFSETTO:+0000
TZNAME:GMT
DTSTART:20261025T010000
END:STANDARD
BEGIN:DAYLIGHT
TZOFFSETFROM:+0000
TZOFFSETTO:+0100
TZNAME:BST
DTSTART:20270328T010000
END:DAYLIGHT
BEGIN:STANDARD
TZOFFSETFROM:+0100
TZOFFSETTO:+0000
TZNAME:GMT
DTSTART:20271031T010000
END:STANDARD
END:VTIMEZONE
BEGIN:VEVENT
DTSTART;TZID=Europe/London:20260906T103000
DTEND;TZID=Europe/London:20260906T120000
DTSTAMP:20260421T181309
CREATED:20221117T151805Z
LAST-MODIFIED:20231027T140411Z
UID:10009273-1788690600-1788696000@www.hovemethodistchurch.co.uk
SUMMARY:Hove Methodists Sunday Worship
DESCRIPTION:In the Sanctuary\, all welcome.
URL:https://www.hovemethodistchurch.co.uk/event/hove-methodists-sunday-worship/2026-09-06/
LOCATION:Hove Methodist Church
CATEGORIES:Religious & Spiritual
ATTACH;FMTTYPE=image/jpeg:https://www.hovemethodistchurch.co.uk/wp-content/uploads/2022/10/hmc-logo_600x387.jpg
END:VEVENT
BEGIN:VEVENT
DTSTART;TZID=Europe/London:20260907T143000
DTEND;TZID=Europe/London:20260907T160000
DTSTAMP:20260421T181309
CREATED:20221006T143912Z
LAST-MODIFIED:20221007T165150Z
UID:10002850-1788791400-1788796800@www.hovemethodistchurch.co.uk
SUMMARY:The Monday Guild
DESCRIPTION:Drop-in fellowship group in the church.
URL:https://www.hovemethodistchurch.co.uk/event/the-monday-guild/2026-09-07/
LOCATION:Hove Methodist Church
CATEGORIES:Religious & Spiritual,Social
ATTACH;FMTTYPE=image/jpeg:https://www.hovemethodistchurch.co.uk/wp-content/uploads/2022/10/the-monday-guild-logo.jpg
END:VEVENT
BEGIN:VEVENT
DTSTART;TZID=Europe/London:20260913T103000
DTEND;TZID=Europe/London:20260913T120000
DTSTAMP:20260421T181309
CREATED:20221117T151805Z
LAST-MODIFIED:20231027T140411Z
UID:10009274-1789295400-1789300800@www.hovemethodistchurch.co.uk
SUMMARY:Hove Methodists Sunday Worship
DESCRIPTION:In the Sanctuary\, all welcome.
URL:https://www.hovemethodistchurch.co.uk/event/hove-methodists-sunday-worship/2026-09-13/
LOCATION:Hove Methodist Church
CATEGORIES:Religious & Spiritual
ATTACH;FMTTYPE=image/jpeg:https://www.hovemethodistchurch.co.uk/wp-content/uploads/2022/10/hmc-logo_600x387.jpg
END:VEVENT
BEGIN:VEVENT
DTSTART;TZID=Europe/London:20260914T143000
DTEND;TZID=Europe/London:20260914T160000
DTSTAMP:20260421T181309
CREATED:20221006T143912Z
LAST-MODIFIED:20221007T165150Z
UID:10002851-1789396200-1789401600@www.hovemethodistchurch.co.uk
SUMMARY:The Monday Guild
DESCRIPTION:Drop-in fellowship group in the church.
URL:https://www.hovemethodistchurch.co.uk/event/the-monday-guild/2026-09-14/
LOCATION:Hove Methodist Church
CATEGORIES:Religious & Spiritual,Social
ATTACH;FMTTYPE=image/jpeg:https://www.hovemethodistchurch.co.uk/wp-content/uploads/2022/10/the-monday-guild-logo.jpg
END:VEVENT
BEGIN:VEVENT
DTSTART;TZID=Europe/London:20260920T103000
DTEND;TZID=Europe/London:20260920T120000
DTSTAMP:20260421T181309
CREATED:20221117T151805Z
LAST-MODIFIED:20231027T140411Z
UID:10009275-1789900200-1789905600@www.hovemethodistchurch.co.uk
SUMMARY:Hove Methodists Sunday Worship
DESCRIPTION:In the Sanctuary\, all welcome.
URL:https://www.hovemethodistchurch.co.uk/event/hove-methodists-sunday-worship/2026-09-20/
LOCATION:Hove Methodist Church
CATEGORIES:Religious & Spiritual
ATTACH;FMTTYPE=image/jpeg:https://www.hovemethodistchurch.co.uk/wp-content/uploads/2022/10/hmc-logo_600x387.jpg
END:VEVENT
BEGIN:VEVENT
DTSTART;TZID=Europe/London:20260921T143000
DTEND;TZID=Europe/London:20260921T160000
DTSTAMP:20260421T181309
CREATED:20221006T143912Z
LAST-MODIFIED:20221007T165150Z
UID:10002852-1790001000-1790006400@www.hovemethodistchurch.co.uk
SUMMARY:The Monday Guild
DESCRIPTION:Drop-in fellowship group in the church.
URL:https://www.hovemethodistchurch.co.uk/event/the-monday-guild/2026-09-21/
LOCATION:Hove Methodist Church
CATEGORIES:Religious & Spiritual,Social
ATTACH;FMTTYPE=image/jpeg:https://www.hovemethodistchurch.co.uk/wp-content/uploads/2022/10/the-monday-guild-logo.jpg
END:VEVENT
BEGIN:VEVENT
DTSTART;TZID=Europe/London:20260927T103000
DTEND;TZID=Europe/London:20260927T120000
DTSTAMP:20260421T181309
CREATED:20221117T151805Z
LAST-MODIFIED:20231027T140411Z
UID:10009276-1790505000-1790510400@www.hovemethodistchurch.co.uk
SUMMARY:Hove Methodists Sunday Worship
DESCRIPTION:In the Sanctuary\, all welcome.
URL:https://www.hovemethodistchurch.co.uk/event/hove-methodists-sunday-worship/2026-09-27/
LOCATION:Hove Methodist Church
CATEGORIES:Religious & Spiritual
ATTACH;FMTTYPE=image/jpeg:https://www.hovemethodistchurch.co.uk/wp-content/uploads/2022/10/hmc-logo_600x387.jpg
END:VEVENT
BEGIN:VEVENT
DTSTART;TZID=Europe/London:20260928T143000
DTEND;TZID=Europe/London:20260928T160000
DTSTAMP:20260421T181309
CREATED:20221006T143912Z
LAST-MODIFIED:20221007T165150Z
UID:10002853-1790605800-1790611200@www.hovemethodistchurch.co.uk
SUMMARY:The Monday Guild
DESCRIPTION:Drop-in fellowship group in the church.
URL:https://www.hovemethodistchurch.co.uk/event/the-monday-guild/2026-09-28/
LOCATION:Hove Methodist Church
CATEGORIES:Religious & Spiritual,Social
ATTACH;FMTTYPE=image/jpeg:https://www.hovemethodistchurch.co.uk/wp-content/uploads/2022/10/the-monday-guild-logo.jpg
END:VEVENT
BEGIN:VEVENT
DTSTART;TZID=Europe/London:20261004T103000
DTEND;TZID=Europe/London:20261004T120000
DTSTAMP:20260421T181309
CREATED:20221117T151805Z
LAST-MODIFIED:20231027T140411Z
UID:10009277-1791109800-1791115200@www.hovemethodistchurch.co.uk
SUMMARY:Hove Methodists Sunday Worship
DESCRIPTION:In the Sanctuary\, all welcome.
URL:https://www.hovemethodistchurch.co.uk/event/hove-methodists-sunday-worship/2026-10-04/
LOCATION:Hove Methodist Church
CATEGORIES:Religious & Spiritual
ATTACH;FMTTYPE=image/jpeg:https://www.hovemethodistchurch.co.uk/wp-content/uploads/2022/10/hmc-logo_600x387.jpg
END:VEVENT
BEGIN:VEVENT
DTSTART;TZID=Europe/London:20261005T143000
DTEND;TZID=Europe/London:20261005T160000
DTSTAMP:20260421T181309
CREATED:20221006T143912Z
LAST-MODIFIED:20221007T165150Z
UID:10002854-1791210600-1791216000@www.hovemethodistchurch.co.uk
SUMMARY:The Monday Guild
DESCRIPTION:Drop-in fellowship group in the church.
URL:https://www.hovemethodistchurch.co.uk/event/the-monday-guild/2026-10-05/
LOCATION:Hove Methodist Church
CATEGORIES:Religious & Spiritual,Social
ATTACH;FMTTYPE=image/jpeg:https://www.hovemethodistchurch.co.uk/wp-content/uploads/2022/10/the-monday-guild-logo.jpg
END:VEVENT
BEGIN:VEVENT
DTSTART;TZID=Europe/London:20261011T103000
DTEND;TZID=Europe/London:20261011T120000
DTSTAMP:20260421T181309
CREATED:20221117T151805Z
LAST-MODIFIED:20231027T140411Z
UID:10009278-1791714600-1791720000@www.hovemethodistchurch.co.uk
SUMMARY:Hove Methodists Sunday Worship
DESCRIPTION:In the Sanctuary\, all welcome.
URL:https://www.hovemethodistchurch.co.uk/event/hove-methodists-sunday-worship/2026-10-11/
LOCATION:Hove Methodist Church
CATEGORIES:Religious & Spiritual
ATTACH;FMTTYPE=image/jpeg:https://www.hovemethodistchurch.co.uk/wp-content/uploads/2022/10/hmc-logo_600x387.jpg
END:VEVENT
BEGIN:VEVENT
DTSTART;TZID=Europe/London:20261012T143000
DTEND;TZID=Europe/London:20261012T160000
DTSTAMP:20260421T181309
CREATED:20221006T143912Z
LAST-MODIFIED:20221007T165150Z
UID:10002855-1791815400-1791820800@www.hovemethodistchurch.co.uk
SUMMARY:The Monday Guild
DESCRIPTION:Drop-in fellowship group in the church.
URL:https://www.hovemethodistchurch.co.uk/event/the-monday-guild/2026-10-12/
LOCATION:Hove Methodist Church
CATEGORIES:Religious & Spiritual,Social
ATTACH;FMTTYPE=image/jpeg:https://www.hovemethodistchurch.co.uk/wp-content/uploads/2022/10/the-monday-guild-logo.jpg
END:VEVENT
BEGIN:VEVENT
DTSTART;TZID=Europe/London:20261018T103000
DTEND;TZID=Europe/London:20261018T120000
DTSTAMP:20260421T181309
CREATED:20221117T151805Z
LAST-MODIFIED:20231027T140411Z
UID:10009279-1792319400-1792324800@www.hovemethodistchurch.co.uk
SUMMARY:Hove Methodists Sunday Worship
DESCRIPTION:In the Sanctuary\, all welcome.
URL:https://www.hovemethodistchurch.co.uk/event/hove-methodists-sunday-worship/2026-10-18/
LOCATION:Hove Methodist Church
CATEGORIES:Religious & Spiritual
ATTACH;FMTTYPE=image/jpeg:https://www.hovemethodistchurch.co.uk/wp-content/uploads/2022/10/hmc-logo_600x387.jpg
END:VEVENT
BEGIN:VEVENT
DTSTART;TZID=Europe/London:20261019T143000
DTEND;TZID=Europe/London:20261019T160000
DTSTAMP:20260421T181309
CREATED:20221006T143912Z
LAST-MODIFIED:20221007T165150Z
UID:10002856-1792420200-1792425600@www.hovemethodistchurch.co.uk
SUMMARY:The Monday Guild
DESCRIPTION:Drop-in fellowship group in the church.
URL:https://www.hovemethodistchurch.co.uk/event/the-monday-guild/2026-10-19/
LOCATION:Hove Methodist Church
CATEGORIES:Religious & Spiritual,Social
ATTACH;FMTTYPE=image/jpeg:https://www.hovemethodistchurch.co.uk/wp-content/uploads/2022/10/the-monday-guild-logo.jpg
END:VEVENT
BEGIN:VEVENT
DTSTART;TZID=Europe/London:20261025T103000
DTEND;TZID=Europe/London:20261025T120000
DTSTAMP:20260421T181309
CREATED:20221117T151805Z
LAST-MODIFIED:20231027T140411Z
UID:10009280-1792924200-1792929600@www.hovemethodistchurch.co.uk
SUMMARY:Hove Methodists Sunday Worship
DESCRIPTION:In the Sanctuary\, all welcome.
URL:https://www.hovemethodistchurch.co.uk/event/hove-methodists-sunday-worship/2026-10-25/
LOCATION:Hove Methodist Church
CATEGORIES:Religious & Spiritual
ATTACH;FMTTYPE=image/jpeg:https://www.hovemethodistchurch.co.uk/wp-content/uploads/2022/10/hmc-logo_600x387.jpg
END:VEVENT
BEGIN:VEVENT
DTSTART;TZID=Europe/London:20261026T143000
DTEND;TZID=Europe/London:20261026T160000
DTSTAMP:20260421T181309
CREATED:20221006T143912Z
LAST-MODIFIED:20221007T165150Z
UID:10002857-1793025000-1793030400@www.hovemethodistchurch.co.uk
SUMMARY:The Monday Guild
DESCRIPTION:Drop-in fellowship group in the church.
URL:https://www.hovemethodistchurch.co.uk/event/the-monday-guild/2026-10-26/
LOCATION:Hove Methodist Church
CATEGORIES:Religious & Spiritual,Social
ATTACH;FMTTYPE=image/jpeg:https://www.hovemethodistchurch.co.uk/wp-content/uploads/2022/10/the-monday-guild-logo.jpg
END:VEVENT
BEGIN:VEVENT
DTSTART;TZID=Europe/London:20261101T103000
DTEND;TZID=Europe/London:20261101T120000
DTSTAMP:20260421T181309
CREATED:20221117T151805Z
LAST-MODIFIED:20231027T140411Z
UID:10009281-1793529000-1793534400@www.hovemethodistchurch.co.uk
SUMMARY:Hove Methodists Sunday Worship
DESCRIPTION:In the Sanctuary\, all welcome.
URL:https://www.hovemethodistchurch.co.uk/event/hove-methodists-sunday-worship/2026-11-01/
LOCATION:Hove Methodist Church
CATEGORIES:Religious & Spiritual
ATTACH;FMTTYPE=image/jpeg:https://www.hovemethodistchurch.co.uk/wp-content/uploads/2022/10/hmc-logo_600x387.jpg
END:VEVENT
BEGIN:VEVENT
DTSTART;TZID=Europe/London:20261102T143000
DTEND;TZID=Europe/London:20261102T160000
DTSTAMP:20260421T181309
CREATED:20221006T143912Z
LAST-MODIFIED:20221007T165150Z
UID:10002858-1793629800-1793635200@www.hovemethodistchurch.co.uk
SUMMARY:The Monday Guild
DESCRIPTION:Drop-in fellowship group in the church.
URL:https://www.hovemethodistchurch.co.uk/event/the-monday-guild/2026-11-02/
LOCATION:Hove Methodist Church
CATEGORIES:Religious & Spiritual,Social
ATTACH;FMTTYPE=image/jpeg:https://www.hovemethodistchurch.co.uk/wp-content/uploads/2022/10/the-monday-guild-logo.jpg
END:VEVENT
BEGIN:VEVENT
DTSTART;TZID=Europe/London:20261108T103000
DTEND;TZID=Europe/London:20261108T120000
DTSTAMP:20260421T181309
CREATED:20221117T151805Z
LAST-MODIFIED:20231027T140411Z
UID:10009282-1794133800-1794139200@www.hovemethodistchurch.co.uk
SUMMARY:Hove Methodists Sunday Worship
DESCRIPTION:In the Sanctuary\, all welcome.
URL:https://www.hovemethodistchurch.co.uk/event/hove-methodists-sunday-worship/2026-11-08/
LOCATION:Hove Methodist Church
CATEGORIES:Religious & Spiritual
ATTACH;FMTTYPE=image/jpeg:https://www.hovemethodistchurch.co.uk/wp-content/uploads/2022/10/hmc-logo_600x387.jpg
END:VEVENT
BEGIN:VEVENT
DTSTART;TZID=Europe/London:20261109T143000
DTEND;TZID=Europe/London:20261109T160000
DTSTAMP:20260421T181309
CREATED:20221006T143912Z
LAST-MODIFIED:20221007T165150Z
UID:10002859-1794234600-1794240000@www.hovemethodistchurch.co.uk
SUMMARY:The Monday Guild
DESCRIPTION:Drop-in fellowship group in the church.
URL:https://www.hovemethodistchurch.co.uk/event/the-monday-guild/2026-11-09/
LOCATION:Hove Methodist Church
CATEGORIES:Religious & Spiritual,Social
ATTACH;FMTTYPE=image/jpeg:https://www.hovemethodistchurch.co.uk/wp-content/uploads/2022/10/the-monday-guild-logo.jpg
END:VEVENT
BEGIN:VEVENT
DTSTART;TZID=Europe/London:20261115T103000
DTEND;TZID=Europe/London:20261115T120000
DTSTAMP:20260421T181309
CREATED:20221117T151805Z
LAST-MODIFIED:20231027T140411Z
UID:10009283-1794738600-1794744000@www.hovemethodistchurch.co.uk
SUMMARY:Hove Methodists Sunday Worship
DESCRIPTION:In the Sanctuary\, all welcome.
URL:https://www.hovemethodistchurch.co.uk/event/hove-methodists-sunday-worship/2026-11-15/
LOCATION:Hove Methodist Church
CATEGORIES:Religious & Spiritual
ATTACH;FMTTYPE=image/jpeg:https://www.hovemethodistchurch.co.uk/wp-content/uploads/2022/10/hmc-logo_600x387.jpg
END:VEVENT
BEGIN:VEVENT
DTSTART;TZID=Europe/London:20261116T143000
DTEND;TZID=Europe/London:20261116T160000
DTSTAMP:20260421T181309
CREATED:20221006T143912Z
LAST-MODIFIED:20221007T165150Z
UID:10002860-1794839400-1794844800@www.hovemethodistchurch.co.uk
SUMMARY:The Monday Guild
DESCRIPTION:Drop-in fellowship group in the church.
URL:https://www.hovemethodistchurch.co.uk/event/the-monday-guild/2026-11-16/
LOCATION:Hove Methodist Church
CATEGORIES:Religious & Spiritual,Social
ATTACH;FMTTYPE=image/jpeg:https://www.hovemethodistchurch.co.uk/wp-content/uploads/2022/10/the-monday-guild-logo.jpg
END:VEVENT
BEGIN:VEVENT
DTSTART;TZID=Europe/London:20261122T103000
DTEND;TZID=Europe/London:20261122T120000
DTSTAMP:20260421T181309
CREATED:20221117T151805Z
LAST-MODIFIED:20231027T140411Z
UID:10009284-1795343400-1795348800@www.hovemethodistchurch.co.uk
SUMMARY:Hove Methodists Sunday Worship
DESCRIPTION:In the Sanctuary\, all welcome.
URL:https://www.hovemethodistchurch.co.uk/event/hove-methodists-sunday-worship/2026-11-22/
LOCATION:Hove Methodist Church
CATEGORIES:Religious & Spiritual
ATTACH;FMTTYPE=image/jpeg:https://www.hovemethodistchurch.co.uk/wp-content/uploads/2022/10/hmc-logo_600x387.jpg
END:VEVENT
BEGIN:VEVENT
DTSTART;TZID=Europe/London:20261123T143000
DTEND;TZID=Europe/London:20261123T160000
DTSTAMP:20260421T181309
CREATED:20221006T143912Z
LAST-MODIFIED:20221007T165150Z
UID:10002861-1795444200-1795449600@www.hovemethodistchurch.co.uk
SUMMARY:The Monday Guild
DESCRIPTION:Drop-in fellowship group in the church.
URL:https://www.hovemethodistchurch.co.uk/event/the-monday-guild/2026-11-23/
LOCATION:Hove Methodist Church
CATEGORIES:Religious & Spiritual,Social
ATTACH;FMTTYPE=image/jpeg:https://www.hovemethodistchurch.co.uk/wp-content/uploads/2022/10/the-monday-guild-logo.jpg
END:VEVENT
BEGIN:VEVENT
DTSTART;TZID=Europe/London:20261129T103000
DTEND;TZID=Europe/London:20261129T120000
DTSTAMP:20260421T181309
CREATED:20221117T151805Z
LAST-MODIFIED:20231027T140411Z
UID:10009285-1795948200-1795953600@www.hovemethodistchurch.co.uk
SUMMARY:Hove Methodists Sunday Worship
DESCRIPTION:In the Sanctuary\, all welcome.
URL:https://www.hovemethodistchurch.co.uk/event/hove-methodists-sunday-worship/2026-11-29/
LOCATION:Hove Methodist Church
CATEGORIES:Religious & Spiritual
ATTACH;FMTTYPE=image/jpeg:https://www.hovemethodistchurch.co.uk/wp-content/uploads/2022/10/hmc-logo_600x387.jpg
END:VEVENT
BEGIN:VEVENT
DTSTART;TZID=Europe/London:20261130T143000
DTEND;TZID=Europe/London:20261130T160000
DTSTAMP:20260421T181309
CREATED:20221006T143912Z
LAST-MODIFIED:20221007T165150Z
UID:10002862-1796049000-1796054400@www.hovemethodistchurch.co.uk
SUMMARY:The Monday Guild
DESCRIPTION:Drop-in fellowship group in the church.
URL:https://www.hovemethodistchurch.co.uk/event/the-monday-guild/2026-11-30/
LOCATION:Hove Methodist Church
CATEGORIES:Religious & Spiritual,Social
ATTACH;FMTTYPE=image/jpeg:https://www.hovemethodistchurch.co.uk/wp-content/uploads/2022/10/the-monday-guild-logo.jpg
END:VEVENT
BEGIN:VEVENT
DTSTART;TZID=Europe/London:20261206T103000
DTEND;TZID=Europe/London:20261206T120000
DTSTAMP:20260421T181309
CREATED:20221117T151805Z
LAST-MODIFIED:20231027T140411Z
UID:10009286-1796553000-1796558400@www.hovemethodistchurch.co.uk
SUMMARY:Hove Methodists Sunday Worship
DESCRIPTION:In the Sanctuary\, all welcome.
URL:https://www.hovemethodistchurch.co.uk/event/hove-methodists-sunday-worship/2026-12-06/
LOCATION:Hove Methodist Church
CATEGORIES:Religious & Spiritual
ATTACH;FMTTYPE=image/jpeg:https://www.hovemethodistchurch.co.uk/wp-content/uploads/2022/10/hmc-logo_600x387.jpg
END:VEVENT
BEGIN:VEVENT
DTSTART;TZID=Europe/London:20261207T143000
DTEND;TZID=Europe/London:20261207T160000
DTSTAMP:20260421T181309
CREATED:20221006T143912Z
LAST-MODIFIED:20221007T165150Z
UID:10002863-1796653800-1796659200@www.hovemethodistchurch.co.uk
SUMMARY:The Monday Guild
DESCRIPTION:Drop-in fellowship group in the church.
URL:https://www.hovemethodistchurch.co.uk/event/the-monday-guild/2026-12-07/
LOCATION:Hove Methodist Church
CATEGORIES:Religious & Spiritual,Social
ATTACH;FMTTYPE=image/jpeg:https://www.hovemethodistchurch.co.uk/wp-content/uploads/2022/10/the-monday-guild-logo.jpg
END:VEVENT
BEGIN:VEVENT
DTSTART;TZID=Europe/London:20261213T103000
DTEND;TZID=Europe/London:20261213T120000
DTSTAMP:20260421T181309
CREATED:20221117T151805Z
LAST-MODIFIED:20231027T140411Z
UID:10009287-1797157800-1797163200@www.hovemethodistchurch.co.uk
SUMMARY:Hove Methodists Sunday Worship
DESCRIPTION:In the Sanctuary\, all welcome.
URL:https://www.hovemethodistchurch.co.uk/event/hove-methodists-sunday-worship/2026-12-13/
LOCATION:Hove Methodist Church
CATEGORIES:Religious & Spiritual
ATTACH;FMTTYPE=image/jpeg:https://www.hovemethodistchurch.co.uk/wp-content/uploads/2022/10/hmc-logo_600x387.jpg
END:VEVENT
BEGIN:VEVENT
DTSTART;TZID=Europe/London:20261214T143000
DTEND;TZID=Europe/London:20261214T160000
DTSTAMP:20260421T181309
CREATED:20221006T143912Z
LAST-MODIFIED:20221007T165150Z
UID:10002864-1797258600-1797264000@www.hovemethodistchurch.co.uk
SUMMARY:The Monday Guild
DESCRIPTION:Drop-in fellowship group in the church.
URL:https://www.hovemethodistchurch.co.uk/event/the-monday-guild/2026-12-14/
LOCATION:Hove Methodist Church
CATEGORIES:Religious & Spiritual,Social
ATTACH;FMTTYPE=image/jpeg:https://www.hovemethodistchurch.co.uk/wp-content/uploads/2022/10/the-monday-guild-logo.jpg
END:VEVENT
END:VCALENDAR