BEGIN:VCALENDAR
VERSION:2.0
PRODID:-//Hove Methodist Church - ECPv6.15.20//NONSGML v1.0//EN
CALSCALE:GREGORIAN
METHOD:PUBLISH
X-WR-CALNAME:Hove Methodist Church
X-ORIGINAL-URL:https://www.hovemethodistchurch.co.uk
X-WR-CALDESC:Events for Hove Methodist Church
REFRESH-INTERVAL;VALUE=DURATION:PT1H
X-Robots-Tag:noindex
X-PUBLISHED-TTL:PT1H
BEGIN:VTIMEZONE
TZID:Europe/London
BEGIN:DAYLIGHT
TZOFFSETFROM:+0000
TZOFFSETTO:+0100
TZNAME:BST
DTSTART:20210328T010000
END:DAYLIGHT
BEGIN:STANDARD
TZOFFSETFROM:+0100
TZOFFSETTO:+0000
TZNAME:GMT
DTSTART:20211031T010000
END:STANDARD
BEGIN:DAYLIGHT
TZOFFSETFROM:+0000
TZOFFSETTO:+0100
TZNAME:BST
DTSTART:20220327T010000
END:DAYLIGHT
BEGIN:STANDARD
TZOFFSETFROM:+0100
TZOFFSETTO:+0000
TZNAME:GMT
DTSTART:20221030T010000
END:STANDARD
BEGIN:DAYLIGHT
TZOFFSETFROM:+0000
TZOFFSETTO:+0100
TZNAME:BST
DTSTART:20230326T010000
END:DAYLIGHT
BEGIN:STANDARD
TZOFFSETFROM:+0100
TZOFFSETTO:+0000
TZNAME:GMT
DTSTART:20231029T010000
END:STANDARD
BEGIN:DAYLIGHT
TZOFFSETFROM:+0000
TZOFFSETTO:+0100
TZNAME:BST
DTSTART:20240331T010000
END:DAYLIGHT
BEGIN:STANDARD
TZOFFSETFROM:+0100
TZOFFSETTO:+0000
TZNAME:GMT
DTSTART:20241027T010000
END:STANDARD
END:VTIMEZONE
BEGIN:VEVENT
DTSTART;TZID=Europe/London:20230119T103000
DTEND;TZID=Europe/London:20230119T113000
DTSTAMP:20260425T195909
CREATED:20221012T131003Z
LAST-MODIFIED:20221012T145259Z
UID:10005576-1674124200-1674127800@www.hovemethodistchurch.co.uk
SUMMARY:Thursday Midweek Communion
DESCRIPTION:Lively discussion and informal communion with refreshments.
URL:https://www.hovemethodistchurch.co.uk/event/thursday-midweek-communion/2023-01-19/
LOCATION:Hove Methodist Church
CATEGORIES:Religious & Spiritual
ATTACH;FMTTYPE=image/jpeg:https://www.hovemethodistchurch.co.uk/wp-content/uploads/2022/10/hmc-logo_600x387.jpg
END:VEVENT
BEGIN:VEVENT
DTSTART;TZID=Europe/London:20230116T143000
DTEND;TZID=Europe/London:20230116T160000
DTSTAMP:20260425T195910
CREATED:20221006T143912Z
LAST-MODIFIED:20221007T165150Z
UID:10002660-1673879400-1673884800@www.hovemethodistchurch.co.uk
SUMMARY:The Monday Guild
DESCRIPTION:Drop-in fellowship group in the church.
URL:https://www.hovemethodistchurch.co.uk/event/the-monday-guild/2023-01-16/
LOCATION:Hove Methodist Church
CATEGORIES:Religious & Spiritual,Social
ATTACH;FMTTYPE=image/jpeg:https://www.hovemethodistchurch.co.uk/wp-content/uploads/2022/10/the-monday-guild-logo.jpg
END:VEVENT
BEGIN:VEVENT
DTSTART;TZID=Europe/London:20230115T130000
DTEND;TZID=Europe/London:20230115T170000
DTSTAMP:20260425T195910
CREATED:20221012T150156Z
LAST-MODIFIED:20221012T150156Z
UID:10007039-1673787600-1673802000@www.hovemethodistchurch.co.uk
SUMMARY:Pilgrim Centre (Korean Church) Sunday Service
DESCRIPTION:
URL:https://www.hovemethodistchurch.co.uk/event/pilgrim-centre-korean-church-sunday-service/2023-01-15/
LOCATION:Hove Methodist Church
CATEGORIES:Religious & Spiritual
ATTACH;FMTTYPE=image/jpeg:https://www.hovemethodistchurch.co.uk/wp-content/uploads/2022/10/brighton-korean-church-logo.jpg
END:VEVENT
BEGIN:VEVENT
DTSTART;TZID=Europe/London:20230115T103000
DTEND;TZID=Europe/London:20230115T120000
DTSTAMP:20260425T195910
CREATED:20221117T151805Z
LAST-MODIFIED:20231027T140411Z
UID:10009083-1673778600-1673784000@www.hovemethodistchurch.co.uk
SUMMARY:Hove Methodists Sunday Worship
DESCRIPTION:In the Sanctuary\, all welcome.
URL:https://www.hovemethodistchurch.co.uk/event/hove-methodists-sunday-worship/2023-01-15/
LOCATION:Hove Methodist Church
CATEGORIES:Religious & Spiritual
ATTACH;FMTTYPE=image/jpeg:https://www.hovemethodistchurch.co.uk/wp-content/uploads/2022/10/hmc-logo_600x387.jpg
END:VEVENT
BEGIN:VEVENT
DTSTART;TZID=Europe/London:20230114T100000
DTEND;TZID=Europe/London:20230114T140000
DTSTAMP:20260425T195910
CREATED:20221012T141813Z
LAST-MODIFIED:20221012T143007Z
UID:10006673-1673690400-1673704800@www.hovemethodistchurch.co.uk
SUMMARY:Seventh Day Adventists Service
DESCRIPTION:See brightonandhove.adventistchurch.org.uk/ for details and contacts
URL:https://www.hovemethodistchurch.co.uk/event/seventh-day-adventists-service/2023-01-14/
LOCATION:Hove Methodist Church
CATEGORIES:Religious & Spiritual
ATTACH;FMTTYPE=image/jpeg:https://www.hovemethodistchurch.co.uk/wp-content/uploads/2022/10/seventh-day-adventist-logo.jpg
END:VEVENT
BEGIN:VEVENT
DTSTART;TZID=Europe/London:20230112T103000
DTEND;TZID=Europe/London:20230112T113000
DTSTAMP:20260425T195910
CREATED:20221012T131003Z
LAST-MODIFIED:20221012T145259Z
UID:10005575-1673519400-1673523000@www.hovemethodistchurch.co.uk
SUMMARY:Thursday Midweek Communion
DESCRIPTION:Lively discussion and informal communion with refreshments.
URL:https://www.hovemethodistchurch.co.uk/event/thursday-midweek-communion/2023-01-12/
LOCATION:Hove Methodist Church
CATEGORIES:Religious & Spiritual
ATTACH;FMTTYPE=image/jpeg:https://www.hovemethodistchurch.co.uk/wp-content/uploads/2022/10/hmc-logo_600x387.jpg
END:VEVENT
BEGIN:VEVENT
DTSTART;TZID=Europe/London:20230109T143000
DTEND;TZID=Europe/London:20230109T160000
DTSTAMP:20260425T195910
CREATED:20221006T143912Z
LAST-MODIFIED:20221007T165150Z
UID:10002659-1673274600-1673280000@www.hovemethodistchurch.co.uk
SUMMARY:The Monday Guild
DESCRIPTION:Drop-in fellowship group in the church.
URL:https://www.hovemethodistchurch.co.uk/event/the-monday-guild/2023-01-09/
LOCATION:Hove Methodist Church
CATEGORIES:Religious & Spiritual,Social
ATTACH;FMTTYPE=image/jpeg:https://www.hovemethodistchurch.co.uk/wp-content/uploads/2022/10/the-monday-guild-logo.jpg
END:VEVENT
BEGIN:VEVENT
DTSTART;TZID=Europe/London:20230108T130000
DTEND;TZID=Europe/London:20230108T170000
DTSTAMP:20260425T195910
CREATED:20221012T150156Z
LAST-MODIFIED:20221012T150156Z
UID:10007038-1673182800-1673197200@www.hovemethodistchurch.co.uk
SUMMARY:Pilgrim Centre (Korean Church) Sunday Service
DESCRIPTION:
URL:https://www.hovemethodistchurch.co.uk/event/pilgrim-centre-korean-church-sunday-service/2023-01-08/
LOCATION:Hove Methodist Church
CATEGORIES:Religious & Spiritual
ATTACH;FMTTYPE=image/jpeg:https://www.hovemethodistchurch.co.uk/wp-content/uploads/2022/10/brighton-korean-church-logo.jpg
END:VEVENT
BEGIN:VEVENT
DTSTART;TZID=Europe/London:20230108T103000
DTEND;TZID=Europe/London:20230108T120000
DTSTAMP:20260425T195910
CREATED:20221117T151805Z
LAST-MODIFIED:20231027T140411Z
UID:10009082-1673173800-1673179200@www.hovemethodistchurch.co.uk
SUMMARY:Hove Methodists Sunday Worship
DESCRIPTION:In the Sanctuary\, all welcome.
URL:https://www.hovemethodistchurch.co.uk/event/hove-methodists-sunday-worship/2023-01-08/
LOCATION:Hove Methodist Church
CATEGORIES:Religious & Spiritual
ATTACH;FMTTYPE=image/jpeg:https://www.hovemethodistchurch.co.uk/wp-content/uploads/2022/10/hmc-logo_600x387.jpg
END:VEVENT
BEGIN:VEVENT
DTSTART;TZID=Europe/London:20230107T100000
DTEND;TZID=Europe/London:20230107T140000
DTSTAMP:20260425T195910
CREATED:20221012T141813Z
LAST-MODIFIED:20221012T143007Z
UID:10006672-1673085600-1673100000@www.hovemethodistchurch.co.uk
SUMMARY:Seventh Day Adventists Service
DESCRIPTION:See brightonandhove.adventistchurch.org.uk/ for details and contacts
URL:https://www.hovemethodistchurch.co.uk/event/seventh-day-adventists-service/2023-01-07/
LOCATION:Hove Methodist Church
CATEGORIES:Religious & Spiritual
ATTACH;FMTTYPE=image/jpeg:https://www.hovemethodistchurch.co.uk/wp-content/uploads/2022/10/seventh-day-adventist-logo.jpg
END:VEVENT
BEGIN:VEVENT
DTSTART;TZID=Europe/London:20230105T103000
DTEND;TZID=Europe/London:20230105T113000
DTSTAMP:20260425T195910
CREATED:20221012T131003Z
LAST-MODIFIED:20221012T145259Z
UID:10005574-1672914600-1672918200@www.hovemethodistchurch.co.uk
SUMMARY:Thursday Midweek Communion
DESCRIPTION:Lively discussion and informal communion with refreshments.
URL:https://www.hovemethodistchurch.co.uk/event/thursday-midweek-communion/2023-01-05/
LOCATION:Hove Methodist Church
CATEGORIES:Religious & Spiritual
ATTACH;FMTTYPE=image/jpeg:https://www.hovemethodistchurch.co.uk/wp-content/uploads/2022/10/hmc-logo_600x387.jpg
END:VEVENT
BEGIN:VEVENT
DTSTART;TZID=Europe/London:20230102T143000
DTEND;TZID=Europe/London:20230102T160000
DTSTAMP:20260425T195910
CREATED:20221006T143912Z
LAST-MODIFIED:20221007T165150Z
UID:10002658-1672669800-1672675200@www.hovemethodistchurch.co.uk
SUMMARY:The Monday Guild
DESCRIPTION:Drop-in fellowship group in the church.
URL:https://www.hovemethodistchurch.co.uk/event/the-monday-guild/2023-01-02/
LOCATION:Hove Methodist Church
CATEGORIES:Religious & Spiritual,Social
ATTACH;FMTTYPE=image/jpeg:https://www.hovemethodistchurch.co.uk/wp-content/uploads/2022/10/the-monday-guild-logo.jpg
END:VEVENT
BEGIN:VEVENT
DTSTART;TZID=Europe/London:20230101T130000
DTEND;TZID=Europe/London:20230101T170000
DTSTAMP:20260425T195910
CREATED:20221012T150156Z
LAST-MODIFIED:20221012T150156Z
UID:10007037-1672578000-1672592400@www.hovemethodistchurch.co.uk
SUMMARY:Pilgrim Centre (Korean Church) Sunday Service
DESCRIPTION:
URL:https://www.hovemethodistchurch.co.uk/event/pilgrim-centre-korean-church-sunday-service/2023-01-01/
LOCATION:Hove Methodist Church
CATEGORIES:Religious & Spiritual
ATTACH;FMTTYPE=image/jpeg:https://www.hovemethodistchurch.co.uk/wp-content/uploads/2022/10/brighton-korean-church-logo.jpg
END:VEVENT
BEGIN:VEVENT
DTSTART;TZID=Europe/London:20230101T103000
DTEND;TZID=Europe/London:20230101T120000
DTSTAMP:20260425T195910
CREATED:20221117T151805Z
LAST-MODIFIED:20231027T140411Z
UID:10009081-1672569000-1672574400@www.hovemethodistchurch.co.uk
SUMMARY:Hove Methodists Sunday Worship
DESCRIPTION:In the Sanctuary\, all welcome.
URL:https://www.hovemethodistchurch.co.uk/event/hove-methodists-sunday-worship/2023-01-01/
LOCATION:Hove Methodist Church
CATEGORIES:Religious & Spiritual
ATTACH;FMTTYPE=image/jpeg:https://www.hovemethodistchurch.co.uk/wp-content/uploads/2022/10/hmc-logo_600x387.jpg
END:VEVENT
BEGIN:VEVENT
DTSTART;TZID=Europe/London:20221231T100000
DTEND;TZID=Europe/London:20221231T140000
DTSTAMP:20260425T195910
CREATED:20221012T141813Z
LAST-MODIFIED:20221012T143007Z
UID:10006671-1672480800-1672495200@www.hovemethodistchurch.co.uk
SUMMARY:Seventh Day Adventists Service
DESCRIPTION:See brightonandhove.adventistchurch.org.uk/ for details and contacts
URL:https://www.hovemethodistchurch.co.uk/event/seventh-day-adventists-service/2022-12-31/
LOCATION:Hove Methodist Church
CATEGORIES:Religious & Spiritual
ATTACH;FMTTYPE=image/jpeg:https://www.hovemethodistchurch.co.uk/wp-content/uploads/2022/10/seventh-day-adventist-logo.jpg
END:VEVENT
BEGIN:VEVENT
DTSTART;TZID=Europe/London:20221229T103000
DTEND;TZID=Europe/London:20221229T113000
DTSTAMP:20260425T195910
CREATED:20221012T131003Z
LAST-MODIFIED:20221012T145259Z
UID:10005573-1672309800-1672313400@www.hovemethodistchurch.co.uk
SUMMARY:Thursday Midweek Communion
DESCRIPTION:Lively discussion and informal communion with refreshments.
URL:https://www.hovemethodistchurch.co.uk/event/thursday-midweek-communion/2022-12-29/
LOCATION:Hove Methodist Church
CATEGORIES:Religious & Spiritual
ATTACH;FMTTYPE=image/jpeg:https://www.hovemethodistchurch.co.uk/wp-content/uploads/2022/10/hmc-logo_600x387.jpg
END:VEVENT
BEGIN:VEVENT
DTSTART;TZID=Europe/London:20221226T143000
DTEND;TZID=Europe/London:20221226T160000
DTSTAMP:20260425T195910
CREATED:20221006T143912Z
LAST-MODIFIED:20221007T165150Z
UID:10002657-1672065000-1672070400@www.hovemethodistchurch.co.uk
SUMMARY:The Monday Guild
DESCRIPTION:Drop-in fellowship group in the church.
URL:https://www.hovemethodistchurch.co.uk/event/the-monday-guild/2022-12-26/
LOCATION:Hove Methodist Church
CATEGORIES:Religious & Spiritual,Social
ATTACH;FMTTYPE=image/jpeg:https://www.hovemethodistchurch.co.uk/wp-content/uploads/2022/10/the-monday-guild-logo.jpg
END:VEVENT
BEGIN:VEVENT
DTSTART;TZID=Europe/London:20221225T130000
DTEND;TZID=Europe/London:20221225T170000
DTSTAMP:20260425T195910
CREATED:20221012T150156Z
LAST-MODIFIED:20221012T150156Z
UID:10007036-1671973200-1671987600@www.hovemethodistchurch.co.uk
SUMMARY:Pilgrim Centre (Korean Church) Sunday Service
DESCRIPTION:
URL:https://www.hovemethodistchurch.co.uk/event/pilgrim-centre-korean-church-sunday-service/2022-12-25/
LOCATION:Hove Methodist Church
CATEGORIES:Religious & Spiritual
ATTACH;FMTTYPE=image/jpeg:https://www.hovemethodistchurch.co.uk/wp-content/uploads/2022/10/brighton-korean-church-logo.jpg
END:VEVENT
BEGIN:VEVENT
DTSTART;TZID=Europe/London:20221224T113000
DTEND;TZID=Europe/London:20221225T013000
DTSTAMP:20260425T195910
CREATED:20221116T153444Z
LAST-MODIFIED:20221116T153444Z
UID:10007194-1671881400-1671931800@www.hovemethodistchurch.co.uk
SUMMARY:Online Midnight Service
DESCRIPTION:
URL:https://www.hovemethodistchurch.co.uk/event/online-midnight-service/
LOCATION:Hove Methodist Church
CATEGORIES:Religious & Spiritual
ATTACH;FMTTYPE=image/jpeg:https://www.hovemethodistchurch.co.uk/wp-content/uploads/2022/10/hmc-logo_600x387.jpg
END:VEVENT
BEGIN:VEVENT
DTSTART;TZID=Europe/London:20221224T100000
DTEND;TZID=Europe/London:20221224T140000
DTSTAMP:20260425T195910
CREATED:20221012T141813Z
LAST-MODIFIED:20221012T143007Z
UID:10006670-1671876000-1671890400@www.hovemethodistchurch.co.uk
SUMMARY:Seventh Day Adventists Service
DESCRIPTION:See brightonandhove.adventistchurch.org.uk/ for details and contacts
URL:https://www.hovemethodistchurch.co.uk/event/seventh-day-adventists-service/2022-12-24/
LOCATION:Hove Methodist Church
CATEGORIES:Religious & Spiritual
ATTACH;FMTTYPE=image/jpeg:https://www.hovemethodistchurch.co.uk/wp-content/uploads/2022/10/seventh-day-adventist-logo.jpg
END:VEVENT
BEGIN:VEVENT
DTSTART;TZID=Europe/London:20221222T103000
DTEND;TZID=Europe/London:20221222T113000
DTSTAMP:20260425T195910
CREATED:20221012T131003Z
LAST-MODIFIED:20221012T145259Z
UID:10005572-1671705000-1671708600@www.hovemethodistchurch.co.uk
SUMMARY:Thursday Midweek Communion
DESCRIPTION:Lively discussion and informal communion with refreshments.
URL:https://www.hovemethodistchurch.co.uk/event/thursday-midweek-communion/2022-12-22/
LOCATION:Hove Methodist Church
CATEGORIES:Religious & Spiritual
ATTACH;FMTTYPE=image/jpeg:https://www.hovemethodistchurch.co.uk/wp-content/uploads/2022/10/hmc-logo_600x387.jpg
END:VEVENT
BEGIN:VEVENT
DTSTART;TZID=Europe/London:20221219T143000
DTEND;TZID=Europe/London:20221219T160000
DTSTAMP:20260425T195910
CREATED:20221006T143912Z
LAST-MODIFIED:20221007T165150Z
UID:10002656-1671460200-1671465600@www.hovemethodistchurch.co.uk
SUMMARY:The Monday Guild
DESCRIPTION:Drop-in fellowship group in the church.
URL:https://www.hovemethodistchurch.co.uk/event/the-monday-guild/2022-12-19/
LOCATION:Hove Methodist Church
CATEGORIES:Religious & Spiritual,Social
ATTACH;FMTTYPE=image/jpeg:https://www.hovemethodistchurch.co.uk/wp-content/uploads/2022/10/the-monday-guild-logo.jpg
END:VEVENT
BEGIN:VEVENT
DTSTART;TZID=Europe/London:20221218T130000
DTEND;TZID=Europe/London:20221218T170000
DTSTAMP:20260425T195910
CREATED:20221012T150156Z
LAST-MODIFIED:20221012T150156Z
UID:10007035-1671368400-1671382800@www.hovemethodistchurch.co.uk
SUMMARY:Pilgrim Centre (Korean Church) Sunday Service
DESCRIPTION:
URL:https://www.hovemethodistchurch.co.uk/event/pilgrim-centre-korean-church-sunday-service/2022-12-18/
LOCATION:Hove Methodist Church
CATEGORIES:Religious & Spiritual
ATTACH;FMTTYPE=image/jpeg:https://www.hovemethodistchurch.co.uk/wp-content/uploads/2022/10/brighton-korean-church-logo.jpg
END:VEVENT
BEGIN:VEVENT
DTSTART;TZID=Europe/London:20221218T103000
DTEND;TZID=Europe/London:20221218T120000
DTSTAMP:20260425T195910
CREATED:20221117T151805Z
LAST-MODIFIED:20231027T140411Z
UID:10009080-1671359400-1671364800@www.hovemethodistchurch.co.uk
SUMMARY:Hove Methodists Sunday Worship
DESCRIPTION:In the Sanctuary\, all welcome.
URL:https://www.hovemethodistchurch.co.uk/event/hove-methodists-sunday-worship/2022-12-18/
LOCATION:Hove Methodist Church
CATEGORIES:Religious & Spiritual
ATTACH;FMTTYPE=image/jpeg:https://www.hovemethodistchurch.co.uk/wp-content/uploads/2022/10/hmc-logo_600x387.jpg
END:VEVENT
BEGIN:VEVENT
DTSTART;TZID=Europe/London:20221217T100000
DTEND;TZID=Europe/London:20221217T140000
DTSTAMP:20260425T195910
CREATED:20221012T141813Z
LAST-MODIFIED:20221012T143007Z
UID:10006669-1671271200-1671285600@www.hovemethodistchurch.co.uk
SUMMARY:Seventh Day Adventists Service
DESCRIPTION:See brightonandhove.adventistchurch.org.uk/ for details and contacts
URL:https://www.hovemethodistchurch.co.uk/event/seventh-day-adventists-service/2022-12-17/
LOCATION:Hove Methodist Church
CATEGORIES:Religious & Spiritual
ATTACH;FMTTYPE=image/jpeg:https://www.hovemethodistchurch.co.uk/wp-content/uploads/2022/10/seventh-day-adventist-logo.jpg
END:VEVENT
BEGIN:VEVENT
DTSTART;TZID=Europe/London:20221215T103000
DTEND;TZID=Europe/London:20221215T113000
DTSTAMP:20260425T195910
CREATED:20221012T131003Z
LAST-MODIFIED:20221012T145259Z
UID:10005571-1671100200-1671103800@www.hovemethodistchurch.co.uk
SUMMARY:Thursday Midweek Communion
DESCRIPTION:Lively discussion and informal communion with refreshments.
URL:https://www.hovemethodistchurch.co.uk/event/thursday-midweek-communion/2022-12-15/
LOCATION:Hove Methodist Church
CATEGORIES:Religious & Spiritual
ATTACH;FMTTYPE=image/jpeg:https://www.hovemethodistchurch.co.uk/wp-content/uploads/2022/10/hmc-logo_600x387.jpg
END:VEVENT
BEGIN:VEVENT
DTSTART;TZID=Europe/London:20221212T143000
DTEND;TZID=Europe/London:20221212T160000
DTSTAMP:20260425T195910
CREATED:20221006T143912Z
LAST-MODIFIED:20221007T165150Z
UID:10002655-1670855400-1670860800@www.hovemethodistchurch.co.uk
SUMMARY:The Monday Guild
DESCRIPTION:Drop-in fellowship group in the church.
URL:https://www.hovemethodistchurch.co.uk/event/the-monday-guild/2022-12-12/
LOCATION:Hove Methodist Church
CATEGORIES:Religious & Spiritual,Social
ATTACH;FMTTYPE=image/jpeg:https://www.hovemethodistchurch.co.uk/wp-content/uploads/2022/10/the-monday-guild-logo.jpg
END:VEVENT
BEGIN:VEVENT
DTSTART;TZID=Europe/London:20221211T160000
DTEND;TZID=Europe/London:20221211T170000
DTSTAMP:20260425T195910
CREATED:20221116T191520Z
LAST-MODIFIED:20221116T191605Z
UID:10007196-1670774400-1670778000@www.hovemethodistchurch.co.uk
SUMMARY:Service of Carols
DESCRIPTION:Candlelit carols and readings in the church followed by mince pies
URL:https://www.hovemethodistchurch.co.uk/event/service-of-carols/
LOCATION:Hove Methodist Church
CATEGORIES:Music,Religious & Spiritual
ATTACH;FMTTYPE=image/jpeg:https://www.hovemethodistchurch.co.uk/wp-content/uploads/2022/10/hmc-logo_600x387.jpg
END:VEVENT
BEGIN:VEVENT
DTSTART;TZID=Europe/London:20221211T130000
DTEND;TZID=Europe/London:20221211T170000
DTSTAMP:20260425T195910
CREATED:20221012T150156Z
LAST-MODIFIED:20221012T150156Z
UID:10007034-1670763600-1670778000@www.hovemethodistchurch.co.uk
SUMMARY:Pilgrim Centre (Korean Church) Sunday Service
DESCRIPTION:
URL:https://www.hovemethodistchurch.co.uk/event/pilgrim-centre-korean-church-sunday-service/2022-12-11/
LOCATION:Hove Methodist Church
CATEGORIES:Religious & Spiritual
ATTACH;FMTTYPE=image/jpeg:https://www.hovemethodistchurch.co.uk/wp-content/uploads/2022/10/brighton-korean-church-logo.jpg
END:VEVENT
BEGIN:VEVENT
DTSTART;TZID=Europe/London:20221211T103000
DTEND;TZID=Europe/London:20221211T120000
DTSTAMP:20260425T195910
CREATED:20221117T151805Z
LAST-MODIFIED:20231027T140411Z
UID:10009079-1670754600-1670760000@www.hovemethodistchurch.co.uk
SUMMARY:Hove Methodists Sunday Worship
DESCRIPTION:In the Sanctuary\, all welcome.
URL:https://www.hovemethodistchurch.co.uk/event/hove-methodists-sunday-worship/2022-12-11/
LOCATION:Hove Methodist Church
CATEGORIES:Religious & Spiritual
ATTACH;FMTTYPE=image/jpeg:https://www.hovemethodistchurch.co.uk/wp-content/uploads/2022/10/hmc-logo_600x387.jpg
END:VEVENT
END:VCALENDAR