BEGIN:VCALENDAR
VERSION:2.0
PRODID:-//Hove Methodist Church - ECPv6.15.20//NONSGML v1.0//EN
CALSCALE:GREGORIAN
METHOD:PUBLISH
X-WR-CALNAME:Hove Methodist Church
X-ORIGINAL-URL:https://www.hovemethodistchurch.co.uk
X-WR-CALDESC:Events for Hove Methodist Church
REFRESH-INTERVAL;VALUE=DURATION:PT1H
X-Robots-Tag:noindex
X-PUBLISHED-TTL:PT1H
BEGIN:VTIMEZONE
TZID:Europe/London
BEGIN:DAYLIGHT
TZOFFSETFROM:+0000
TZOFFSETTO:+0100
TZNAME:BST
DTSTART:20220327T010000
END:DAYLIGHT
BEGIN:STANDARD
TZOFFSETFROM:+0100
TZOFFSETTO:+0000
TZNAME:GMT
DTSTART:20221030T010000
END:STANDARD
BEGIN:DAYLIGHT
TZOFFSETFROM:+0000
TZOFFSETTO:+0100
TZNAME:BST
DTSTART:20230326T010000
END:DAYLIGHT
BEGIN:STANDARD
TZOFFSETFROM:+0100
TZOFFSETTO:+0000
TZNAME:GMT
DTSTART:20231029T010000
END:STANDARD
BEGIN:DAYLIGHT
TZOFFSETFROM:+0000
TZOFFSETTO:+0100
TZNAME:BST
DTSTART:20240331T010000
END:DAYLIGHT
BEGIN:STANDARD
TZOFFSETFROM:+0100
TZOFFSETTO:+0000
TZNAME:GMT
DTSTART:20241027T010000
END:STANDARD
END:VTIMEZONE
BEGIN:VEVENT
DTSTART;TZID=Europe/London:20230220T143000
DTEND;TZID=Europe/London:20230220T160000
DTSTAMP:20260425T163951
CREATED:20221006T143912Z
LAST-MODIFIED:20221007T165150Z
UID:10002665-1676903400-1676908800@www.hovemethodistchurch.co.uk
SUMMARY:The Monday Guild
DESCRIPTION:Drop-in fellowship group in the church.
URL:https://www.hovemethodistchurch.co.uk/event/the-monday-guild/2023-02-20/
LOCATION:Hove Methodist Church
CATEGORIES:Religious & Spiritual,Social
ATTACH;FMTTYPE=image/jpeg:https://www.hovemethodistchurch.co.uk/wp-content/uploads/2022/10/the-monday-guild-logo.jpg
END:VEVENT
BEGIN:VEVENT
DTSTART;TZID=Europe/London:20230219T130000
DTEND;TZID=Europe/London:20230219T170000
DTSTAMP:20260425T163951
CREATED:20221012T150156Z
LAST-MODIFIED:20221012T150156Z
UID:10007044-1676811600-1676826000@www.hovemethodistchurch.co.uk
SUMMARY:Pilgrim Centre (Korean Church) Sunday Service
DESCRIPTION:
URL:https://www.hovemethodistchurch.co.uk/event/pilgrim-centre-korean-church-sunday-service/2023-02-19/
LOCATION:Hove Methodist Church
CATEGORIES:Religious & Spiritual
ATTACH;FMTTYPE=image/jpeg:https://www.hovemethodistchurch.co.uk/wp-content/uploads/2022/10/brighton-korean-church-logo.jpg
END:VEVENT
BEGIN:VEVENT
DTSTART;TZID=Europe/London:20230219T103000
DTEND;TZID=Europe/London:20230219T120000
DTSTAMP:20260425T163952
CREATED:20221117T151805Z
LAST-MODIFIED:20231027T140411Z
UID:10009088-1676802600-1676808000@www.hovemethodistchurch.co.uk
SUMMARY:Hove Methodists Sunday Worship
DESCRIPTION:In the Sanctuary\, all welcome.
URL:https://www.hovemethodistchurch.co.uk/event/hove-methodists-sunday-worship/2023-02-19/
LOCATION:Hove Methodist Church
CATEGORIES:Religious & Spiritual
ATTACH;FMTTYPE=image/jpeg:https://www.hovemethodistchurch.co.uk/wp-content/uploads/2022/10/hmc-logo_600x387.jpg
END:VEVENT
BEGIN:VEVENT
DTSTART;TZID=Europe/London:20230218T100000
DTEND;TZID=Europe/London:20230218T140000
DTSTAMP:20260425T163952
CREATED:20221012T141813Z
LAST-MODIFIED:20221012T143007Z
UID:10006678-1676714400-1676728800@www.hovemethodistchurch.co.uk
SUMMARY:Seventh Day Adventists Service
DESCRIPTION:See brightonandhove.adventistchurch.org.uk/ for details and contacts
URL:https://www.hovemethodistchurch.co.uk/event/seventh-day-adventists-service/2023-02-18/
LOCATION:Hove Methodist Church
CATEGORIES:Religious & Spiritual
ATTACH;FMTTYPE=image/jpeg:https://www.hovemethodistchurch.co.uk/wp-content/uploads/2022/10/seventh-day-adventist-logo.jpg
END:VEVENT
BEGIN:VEVENT
DTSTART;TZID=Europe/London:20230216T103000
DTEND;TZID=Europe/London:20230216T113000
DTSTAMP:20260425T163952
CREATED:20221012T131003Z
LAST-MODIFIED:20221012T145259Z
UID:10005580-1676543400-1676547000@www.hovemethodistchurch.co.uk
SUMMARY:Thursday Midweek Communion
DESCRIPTION:Lively discussion and informal communion with refreshments.
URL:https://www.hovemethodistchurch.co.uk/event/thursday-midweek-communion/2023-02-16/
LOCATION:Hove Methodist Church
CATEGORIES:Religious & Spiritual
ATTACH;FMTTYPE=image/jpeg:https://www.hovemethodistchurch.co.uk/wp-content/uploads/2022/10/hmc-logo_600x387.jpg
END:VEVENT
BEGIN:VEVENT
DTSTART;TZID=Europe/London:20230213T143000
DTEND;TZID=Europe/London:20230213T160000
DTSTAMP:20260425T163952
CREATED:20221006T143912Z
LAST-MODIFIED:20221007T165150Z
UID:10002664-1676298600-1676304000@www.hovemethodistchurch.co.uk
SUMMARY:The Monday Guild
DESCRIPTION:Drop-in fellowship group in the church.
URL:https://www.hovemethodistchurch.co.uk/event/the-monday-guild/2023-02-13/
LOCATION:Hove Methodist Church
CATEGORIES:Religious & Spiritual,Social
ATTACH;FMTTYPE=image/jpeg:https://www.hovemethodistchurch.co.uk/wp-content/uploads/2022/10/the-monday-guild-logo.jpg
END:VEVENT
BEGIN:VEVENT
DTSTART;TZID=Europe/London:20230212T130000
DTEND;TZID=Europe/London:20230212T170000
DTSTAMP:20260425T163952
CREATED:20221012T150156Z
LAST-MODIFIED:20221012T150156Z
UID:10007043-1676206800-1676221200@www.hovemethodistchurch.co.uk
SUMMARY:Pilgrim Centre (Korean Church) Sunday Service
DESCRIPTION:
URL:https://www.hovemethodistchurch.co.uk/event/pilgrim-centre-korean-church-sunday-service/2023-02-12/
LOCATION:Hove Methodist Church
CATEGORIES:Religious & Spiritual
ATTACH;FMTTYPE=image/jpeg:https://www.hovemethodistchurch.co.uk/wp-content/uploads/2022/10/brighton-korean-church-logo.jpg
END:VEVENT
BEGIN:VEVENT
DTSTART;TZID=Europe/London:20230212T103000
DTEND;TZID=Europe/London:20230212T120000
DTSTAMP:20260425T163952
CREATED:20221117T151805Z
LAST-MODIFIED:20231027T140411Z
UID:10009087-1676197800-1676203200@www.hovemethodistchurch.co.uk
SUMMARY:Hove Methodists Sunday Worship
DESCRIPTION:In the Sanctuary\, all welcome.
URL:https://www.hovemethodistchurch.co.uk/event/hove-methodists-sunday-worship/2023-02-12/
LOCATION:Hove Methodist Church
CATEGORIES:Religious & Spiritual
ATTACH;FMTTYPE=image/jpeg:https://www.hovemethodistchurch.co.uk/wp-content/uploads/2022/10/hmc-logo_600x387.jpg
END:VEVENT
BEGIN:VEVENT
DTSTART;TZID=Europe/London:20230211T100000
DTEND;TZID=Europe/London:20230211T140000
DTSTAMP:20260425T163952
CREATED:20221012T141813Z
LAST-MODIFIED:20221012T143007Z
UID:10006677-1676109600-1676124000@www.hovemethodistchurch.co.uk
SUMMARY:Seventh Day Adventists Service
DESCRIPTION:See brightonandhove.adventistchurch.org.uk/ for details and contacts
URL:https://www.hovemethodistchurch.co.uk/event/seventh-day-adventists-service/2023-02-11/
LOCATION:Hove Methodist Church
CATEGORIES:Religious & Spiritual
ATTACH;FMTTYPE=image/jpeg:https://www.hovemethodistchurch.co.uk/wp-content/uploads/2022/10/seventh-day-adventist-logo.jpg
END:VEVENT
BEGIN:VEVENT
DTSTART;TZID=Europe/London:20230209T103000
DTEND;TZID=Europe/London:20230209T113000
DTSTAMP:20260425T163952
CREATED:20221012T131003Z
LAST-MODIFIED:20221012T145259Z
UID:10005579-1675938600-1675942200@www.hovemethodistchurch.co.uk
SUMMARY:Thursday Midweek Communion
DESCRIPTION:Lively discussion and informal communion with refreshments.
URL:https://www.hovemethodistchurch.co.uk/event/thursday-midweek-communion/2023-02-09/
LOCATION:Hove Methodist Church
CATEGORIES:Religious & Spiritual
ATTACH;FMTTYPE=image/jpeg:https://www.hovemethodistchurch.co.uk/wp-content/uploads/2022/10/hmc-logo_600x387.jpg
END:VEVENT
BEGIN:VEVENT
DTSTART;TZID=Europe/London:20230206T143000
DTEND;TZID=Europe/London:20230206T160000
DTSTAMP:20260425T163952
CREATED:20221006T143912Z
LAST-MODIFIED:20221007T165150Z
UID:10002663-1675693800-1675699200@www.hovemethodistchurch.co.uk
SUMMARY:The Monday Guild
DESCRIPTION:Drop-in fellowship group in the church.
URL:https://www.hovemethodistchurch.co.uk/event/the-monday-guild/2023-02-06/
LOCATION:Hove Methodist Church
CATEGORIES:Religious & Spiritual,Social
ATTACH;FMTTYPE=image/jpeg:https://www.hovemethodistchurch.co.uk/wp-content/uploads/2022/10/the-monday-guild-logo.jpg
END:VEVENT
BEGIN:VEVENT
DTSTART;TZID=Europe/London:20230205T130000
DTEND;TZID=Europe/London:20230205T170000
DTSTAMP:20260425T163952
CREATED:20221012T150156Z
LAST-MODIFIED:20221012T150156Z
UID:10007042-1675602000-1675616400@www.hovemethodistchurch.co.uk
SUMMARY:Pilgrim Centre (Korean Church) Sunday Service
DESCRIPTION:
URL:https://www.hovemethodistchurch.co.uk/event/pilgrim-centre-korean-church-sunday-service/2023-02-05/
LOCATION:Hove Methodist Church
CATEGORIES:Religious & Spiritual
ATTACH;FMTTYPE=image/jpeg:https://www.hovemethodistchurch.co.uk/wp-content/uploads/2022/10/brighton-korean-church-logo.jpg
END:VEVENT
BEGIN:VEVENT
DTSTART;TZID=Europe/London:20230205T103000
DTEND;TZID=Europe/London:20230205T120000
DTSTAMP:20260425T163952
CREATED:20221117T151805Z
LAST-MODIFIED:20231027T140411Z
UID:10009086-1675593000-1675598400@www.hovemethodistchurch.co.uk
SUMMARY:Hove Methodists Sunday Worship
DESCRIPTION:In the Sanctuary\, all welcome.
URL:https://www.hovemethodistchurch.co.uk/event/hove-methodists-sunday-worship/2023-02-05/
LOCATION:Hove Methodist Church
CATEGORIES:Religious & Spiritual
ATTACH;FMTTYPE=image/jpeg:https://www.hovemethodistchurch.co.uk/wp-content/uploads/2022/10/hmc-logo_600x387.jpg
END:VEVENT
BEGIN:VEVENT
DTSTART;TZID=Europe/London:20230204T100000
DTEND;TZID=Europe/London:20230204T140000
DTSTAMP:20260425T163952
CREATED:20221012T141813Z
LAST-MODIFIED:20221012T143007Z
UID:10006676-1675504800-1675519200@www.hovemethodistchurch.co.uk
SUMMARY:Seventh Day Adventists Service
DESCRIPTION:See brightonandhove.adventistchurch.org.uk/ for details and contacts
URL:https://www.hovemethodistchurch.co.uk/event/seventh-day-adventists-service/2023-02-04/
LOCATION:Hove Methodist Church
CATEGORIES:Religious & Spiritual
ATTACH;FMTTYPE=image/jpeg:https://www.hovemethodistchurch.co.uk/wp-content/uploads/2022/10/seventh-day-adventist-logo.jpg
END:VEVENT
BEGIN:VEVENT
DTSTART;TZID=Europe/London:20230202T103000
DTEND;TZID=Europe/London:20230202T113000
DTSTAMP:20260425T163952
CREATED:20221012T131003Z
LAST-MODIFIED:20221012T145259Z
UID:10005578-1675333800-1675337400@www.hovemethodistchurch.co.uk
SUMMARY:Thursday Midweek Communion
DESCRIPTION:Lively discussion and informal communion with refreshments.
URL:https://www.hovemethodistchurch.co.uk/event/thursday-midweek-communion/2023-02-02/
LOCATION:Hove Methodist Church
CATEGORIES:Religious & Spiritual
ATTACH;FMTTYPE=image/jpeg:https://www.hovemethodistchurch.co.uk/wp-content/uploads/2022/10/hmc-logo_600x387.jpg
END:VEVENT
BEGIN:VEVENT
DTSTART;TZID=Europe/London:20230130T143000
DTEND;TZID=Europe/London:20230130T160000
DTSTAMP:20260425T163952
CREATED:20221006T143912Z
LAST-MODIFIED:20221007T165150Z
UID:10002662-1675089000-1675094400@www.hovemethodistchurch.co.uk
SUMMARY:The Monday Guild
DESCRIPTION:Drop-in fellowship group in the church.
URL:https://www.hovemethodistchurch.co.uk/event/the-monday-guild/2023-01-30/
LOCATION:Hove Methodist Church
CATEGORIES:Religious & Spiritual,Social
ATTACH;FMTTYPE=image/jpeg:https://www.hovemethodistchurch.co.uk/wp-content/uploads/2022/10/the-monday-guild-logo.jpg
END:VEVENT
BEGIN:VEVENT
DTSTART;TZID=Europe/London:20230129T130000
DTEND;TZID=Europe/London:20230129T170000
DTSTAMP:20260425T163952
CREATED:20221012T150156Z
LAST-MODIFIED:20221012T150156Z
UID:10007041-1674997200-1675011600@www.hovemethodistchurch.co.uk
SUMMARY:Pilgrim Centre (Korean Church) Sunday Service
DESCRIPTION:
URL:https://www.hovemethodistchurch.co.uk/event/pilgrim-centre-korean-church-sunday-service/2023-01-29/
LOCATION:Hove Methodist Church
CATEGORIES:Religious & Spiritual
ATTACH;FMTTYPE=image/jpeg:https://www.hovemethodistchurch.co.uk/wp-content/uploads/2022/10/brighton-korean-church-logo.jpg
END:VEVENT
BEGIN:VEVENT
DTSTART;TZID=Europe/London:20230129T103000
DTEND;TZID=Europe/London:20230129T120000
DTSTAMP:20260425T163952
CREATED:20221117T151805Z
LAST-MODIFIED:20231027T140411Z
UID:10009085-1674988200-1674993600@www.hovemethodistchurch.co.uk
SUMMARY:Hove Methodists Sunday Worship
DESCRIPTION:In the Sanctuary\, all welcome.
URL:https://www.hovemethodistchurch.co.uk/event/hove-methodists-sunday-worship/2023-01-29/
LOCATION:Hove Methodist Church
CATEGORIES:Religious & Spiritual
ATTACH;FMTTYPE=image/jpeg:https://www.hovemethodistchurch.co.uk/wp-content/uploads/2022/10/hmc-logo_600x387.jpg
END:VEVENT
BEGIN:VEVENT
DTSTART;TZID=Europe/London:20230128T100000
DTEND;TZID=Europe/London:20230128T140000
DTSTAMP:20260425T163952
CREATED:20221012T141813Z
LAST-MODIFIED:20221012T143007Z
UID:10006675-1674900000-1674914400@www.hovemethodistchurch.co.uk
SUMMARY:Seventh Day Adventists Service
DESCRIPTION:See brightonandhove.adventistchurch.org.uk/ for details and contacts
URL:https://www.hovemethodistchurch.co.uk/event/seventh-day-adventists-service/2023-01-28/
LOCATION:Hove Methodist Church
CATEGORIES:Religious & Spiritual
ATTACH;FMTTYPE=image/jpeg:https://www.hovemethodistchurch.co.uk/wp-content/uploads/2022/10/seventh-day-adventist-logo.jpg
END:VEVENT
BEGIN:VEVENT
DTSTART;TZID=Europe/London:20230126T103000
DTEND;TZID=Europe/London:20230126T113000
DTSTAMP:20260425T163952
CREATED:20221012T131003Z
LAST-MODIFIED:20221012T145259Z
UID:10005577-1674729000-1674732600@www.hovemethodistchurch.co.uk
SUMMARY:Thursday Midweek Communion
DESCRIPTION:Lively discussion and informal communion with refreshments.
URL:https://www.hovemethodistchurch.co.uk/event/thursday-midweek-communion/2023-01-26/
LOCATION:Hove Methodist Church
CATEGORIES:Religious & Spiritual
ATTACH;FMTTYPE=image/jpeg:https://www.hovemethodistchurch.co.uk/wp-content/uploads/2022/10/hmc-logo_600x387.jpg
END:VEVENT
BEGIN:VEVENT
DTSTART;TZID=Europe/London:20230123T143000
DTEND;TZID=Europe/London:20230123T160000
DTSTAMP:20260425T163952
CREATED:20221006T143912Z
LAST-MODIFIED:20221007T165150Z
UID:10002661-1674484200-1674489600@www.hovemethodistchurch.co.uk
SUMMARY:The Monday Guild
DESCRIPTION:Drop-in fellowship group in the church.
URL:https://www.hovemethodistchurch.co.uk/event/the-monday-guild/2023-01-23/
LOCATION:Hove Methodist Church
CATEGORIES:Religious & Spiritual,Social
ATTACH;FMTTYPE=image/jpeg:https://www.hovemethodistchurch.co.uk/wp-content/uploads/2022/10/the-monday-guild-logo.jpg
END:VEVENT
BEGIN:VEVENT
DTSTART;TZID=Europe/London:20230122T130000
DTEND;TZID=Europe/London:20230122T170000
DTSTAMP:20260425T163952
CREATED:20221012T150156Z
LAST-MODIFIED:20221012T150156Z
UID:10007040-1674392400-1674406800@www.hovemethodistchurch.co.uk
SUMMARY:Pilgrim Centre (Korean Church) Sunday Service
DESCRIPTION:
URL:https://www.hovemethodistchurch.co.uk/event/pilgrim-centre-korean-church-sunday-service/2023-01-22/
LOCATION:Hove Methodist Church
CATEGORIES:Religious & Spiritual
ATTACH;FMTTYPE=image/jpeg:https://www.hovemethodistchurch.co.uk/wp-content/uploads/2022/10/brighton-korean-church-logo.jpg
END:VEVENT
BEGIN:VEVENT
DTSTART;TZID=Europe/London:20230122T103000
DTEND;TZID=Europe/London:20230122T120000
DTSTAMP:20260425T163952
CREATED:20221117T151805Z
LAST-MODIFIED:20231027T140411Z
UID:10009084-1674383400-1674388800@www.hovemethodistchurch.co.uk
SUMMARY:Hove Methodists Sunday Worship
DESCRIPTION:In the Sanctuary\, all welcome.
URL:https://www.hovemethodistchurch.co.uk/event/hove-methodists-sunday-worship/2023-01-22/
LOCATION:Hove Methodist Church
CATEGORIES:Religious & Spiritual
ATTACH;FMTTYPE=image/jpeg:https://www.hovemethodistchurch.co.uk/wp-content/uploads/2022/10/hmc-logo_600x387.jpg
END:VEVENT
BEGIN:VEVENT
DTSTART;TZID=Europe/London:20230121T100000
DTEND;TZID=Europe/London:20230121T140000
DTSTAMP:20260425T163952
CREATED:20221012T141813Z
LAST-MODIFIED:20221012T143007Z
UID:10006674-1674295200-1674309600@www.hovemethodistchurch.co.uk
SUMMARY:Seventh Day Adventists Service
DESCRIPTION:See brightonandhove.adventistchurch.org.uk/ for details and contacts
URL:https://www.hovemethodistchurch.co.uk/event/seventh-day-adventists-service/2023-01-21/
LOCATION:Hove Methodist Church
CATEGORIES:Religious & Spiritual
ATTACH;FMTTYPE=image/jpeg:https://www.hovemethodistchurch.co.uk/wp-content/uploads/2022/10/seventh-day-adventist-logo.jpg
END:VEVENT
BEGIN:VEVENT
DTSTART;TZID=Europe/London:20230119T103000
DTEND;TZID=Europe/London:20230119T113000
DTSTAMP:20260425T163952
CREATED:20221012T131003Z
LAST-MODIFIED:20221012T145259Z
UID:10005576-1674124200-1674127800@www.hovemethodistchurch.co.uk
SUMMARY:Thursday Midweek Communion
DESCRIPTION:Lively discussion and informal communion with refreshments.
URL:https://www.hovemethodistchurch.co.uk/event/thursday-midweek-communion/2023-01-19/
LOCATION:Hove Methodist Church
CATEGORIES:Religious & Spiritual
ATTACH;FMTTYPE=image/jpeg:https://www.hovemethodistchurch.co.uk/wp-content/uploads/2022/10/hmc-logo_600x387.jpg
END:VEVENT
BEGIN:VEVENT
DTSTART;TZID=Europe/London:20230116T143000
DTEND;TZID=Europe/London:20230116T160000
DTSTAMP:20260425T163952
CREATED:20221006T143912Z
LAST-MODIFIED:20221007T165150Z
UID:10002660-1673879400-1673884800@www.hovemethodistchurch.co.uk
SUMMARY:The Monday Guild
DESCRIPTION:Drop-in fellowship group in the church.
URL:https://www.hovemethodistchurch.co.uk/event/the-monday-guild/2023-01-16/
LOCATION:Hove Methodist Church
CATEGORIES:Religious & Spiritual,Social
ATTACH;FMTTYPE=image/jpeg:https://www.hovemethodistchurch.co.uk/wp-content/uploads/2022/10/the-monday-guild-logo.jpg
END:VEVENT
BEGIN:VEVENT
DTSTART;TZID=Europe/London:20230115T130000
DTEND;TZID=Europe/London:20230115T170000
DTSTAMP:20260425T163952
CREATED:20221012T150156Z
LAST-MODIFIED:20221012T150156Z
UID:10007039-1673787600-1673802000@www.hovemethodistchurch.co.uk
SUMMARY:Pilgrim Centre (Korean Church) Sunday Service
DESCRIPTION:
URL:https://www.hovemethodistchurch.co.uk/event/pilgrim-centre-korean-church-sunday-service/2023-01-15/
LOCATION:Hove Methodist Church
CATEGORIES:Religious & Spiritual
ATTACH;FMTTYPE=image/jpeg:https://www.hovemethodistchurch.co.uk/wp-content/uploads/2022/10/brighton-korean-church-logo.jpg
END:VEVENT
BEGIN:VEVENT
DTSTART;TZID=Europe/London:20230115T103000
DTEND;TZID=Europe/London:20230115T120000
DTSTAMP:20260425T163952
CREATED:20221117T151805Z
LAST-MODIFIED:20231027T140411Z
UID:10009083-1673778600-1673784000@www.hovemethodistchurch.co.uk
SUMMARY:Hove Methodists Sunday Worship
DESCRIPTION:In the Sanctuary\, all welcome.
URL:https://www.hovemethodistchurch.co.uk/event/hove-methodists-sunday-worship/2023-01-15/
LOCATION:Hove Methodist Church
CATEGORIES:Religious & Spiritual
ATTACH;FMTTYPE=image/jpeg:https://www.hovemethodistchurch.co.uk/wp-content/uploads/2022/10/hmc-logo_600x387.jpg
END:VEVENT
BEGIN:VEVENT
DTSTART;TZID=Europe/London:20230114T100000
DTEND;TZID=Europe/London:20230114T140000
DTSTAMP:20260425T163952
CREATED:20221012T141813Z
LAST-MODIFIED:20221012T143007Z
UID:10006673-1673690400-1673704800@www.hovemethodistchurch.co.uk
SUMMARY:Seventh Day Adventists Service
DESCRIPTION:See brightonandhove.adventistchurch.org.uk/ for details and contacts
URL:https://www.hovemethodistchurch.co.uk/event/seventh-day-adventists-service/2023-01-14/
LOCATION:Hove Methodist Church
CATEGORIES:Religious & Spiritual
ATTACH;FMTTYPE=image/jpeg:https://www.hovemethodistchurch.co.uk/wp-content/uploads/2022/10/seventh-day-adventist-logo.jpg
END:VEVENT
BEGIN:VEVENT
DTSTART;TZID=Europe/London:20230112T103000
DTEND;TZID=Europe/London:20230112T113000
DTSTAMP:20260425T163952
CREATED:20221012T131003Z
LAST-MODIFIED:20221012T145259Z
UID:10005575-1673519400-1673523000@www.hovemethodistchurch.co.uk
SUMMARY:Thursday Midweek Communion
DESCRIPTION:Lively discussion and informal communion with refreshments.
URL:https://www.hovemethodistchurch.co.uk/event/thursday-midweek-communion/2023-01-12/
LOCATION:Hove Methodist Church
CATEGORIES:Religious & Spiritual
ATTACH;FMTTYPE=image/jpeg:https://www.hovemethodistchurch.co.uk/wp-content/uploads/2022/10/hmc-logo_600x387.jpg
END:VEVENT
END:VCALENDAR