BEGIN:VCALENDAR
VERSION:2.0
PRODID:-//Hove Methodist Church - ECPv6.15.20//NONSGML v1.0//EN
CALSCALE:GREGORIAN
METHOD:PUBLISH
X-WR-CALNAME:Hove Methodist Church
X-ORIGINAL-URL:https://www.hovemethodistchurch.co.uk
X-WR-CALDESC:Events for Hove Methodist Church
REFRESH-INTERVAL;VALUE=DURATION:PT1H
X-Robots-Tag:noindex
X-PUBLISHED-TTL:PT1H
BEGIN:VTIMEZONE
TZID:Europe/London
BEGIN:DAYLIGHT
TZOFFSETFROM:+0000
TZOFFSETTO:+0100
TZNAME:BST
DTSTART:20220327T010000
END:DAYLIGHT
BEGIN:STANDARD
TZOFFSETFROM:+0100
TZOFFSETTO:+0000
TZNAME:GMT
DTSTART:20221030T010000
END:STANDARD
BEGIN:DAYLIGHT
TZOFFSETFROM:+0000
TZOFFSETTO:+0100
TZNAME:BST
DTSTART:20230326T010000
END:DAYLIGHT
BEGIN:STANDARD
TZOFFSETFROM:+0100
TZOFFSETTO:+0000
TZNAME:GMT
DTSTART:20231029T010000
END:STANDARD
BEGIN:DAYLIGHT
TZOFFSETFROM:+0000
TZOFFSETTO:+0100
TZNAME:BST
DTSTART:20240331T010000
END:DAYLIGHT
BEGIN:STANDARD
TZOFFSETFROM:+0100
TZOFFSETTO:+0000
TZNAME:GMT
DTSTART:20241027T010000
END:STANDARD
END:VTIMEZONE
BEGIN:VEVENT
DTSTART;TZID=Europe/London:20230326T103000
DTEND;TZID=Europe/London:20230326T120000
DTSTAMP:20260425T132154
CREATED:20221117T151805Z
LAST-MODIFIED:20231027T140411Z
UID:10009093-1679826600-1679832000@www.hovemethodistchurch.co.uk
SUMMARY:Hove Methodists Sunday Worship
DESCRIPTION:In the Sanctuary\, all welcome.
URL:https://www.hovemethodistchurch.co.uk/event/hove-methodists-sunday-worship/2023-03-26/
LOCATION:Hove Methodist Church
CATEGORIES:Religious & Spiritual
ATTACH;FMTTYPE=image/jpeg:https://www.hovemethodistchurch.co.uk/wp-content/uploads/2022/10/hmc-logo_600x387.jpg
END:VEVENT
BEGIN:VEVENT
DTSTART;TZID=Europe/London:20230325T100000
DTEND;TZID=Europe/London:20230325T140000
DTSTAMP:20260425T132154
CREATED:20221012T141813Z
LAST-MODIFIED:20221012T143007Z
UID:10006683-1679738400-1679752800@www.hovemethodistchurch.co.uk
SUMMARY:Seventh Day Adventists Service
DESCRIPTION:See brightonandhove.adventistchurch.org.uk/ for details and contacts
URL:https://www.hovemethodistchurch.co.uk/event/seventh-day-adventists-service/2023-03-25/
LOCATION:Hove Methodist Church
CATEGORIES:Religious & Spiritual
ATTACH;FMTTYPE=image/jpeg:https://www.hovemethodistchurch.co.uk/wp-content/uploads/2022/10/seventh-day-adventist-logo.jpg
END:VEVENT
BEGIN:VEVENT
DTSTART;TZID=Europe/London:20230323T103000
DTEND;TZID=Europe/London:20230323T113000
DTSTAMP:20260425T132154
CREATED:20221012T131003Z
LAST-MODIFIED:20221012T145259Z
UID:10005585-1679567400-1679571000@www.hovemethodistchurch.co.uk
SUMMARY:Thursday Midweek Communion
DESCRIPTION:Lively discussion and informal communion with refreshments.
URL:https://www.hovemethodistchurch.co.uk/event/thursday-midweek-communion/2023-03-23/
LOCATION:Hove Methodist Church
CATEGORIES:Religious & Spiritual
ATTACH;FMTTYPE=image/jpeg:https://www.hovemethodistchurch.co.uk/wp-content/uploads/2022/10/hmc-logo_600x387.jpg
END:VEVENT
BEGIN:VEVENT
DTSTART;TZID=Europe/London:20230320T143000
DTEND;TZID=Europe/London:20230320T160000
DTSTAMP:20260425T132154
CREATED:20221006T143912Z
LAST-MODIFIED:20221007T165150Z
UID:10002669-1679322600-1679328000@www.hovemethodistchurch.co.uk
SUMMARY:The Monday Guild
DESCRIPTION:Drop-in fellowship group in the church.
URL:https://www.hovemethodistchurch.co.uk/event/the-monday-guild/2023-03-20/
LOCATION:Hove Methodist Church
CATEGORIES:Religious & Spiritual,Social
ATTACH;FMTTYPE=image/jpeg:https://www.hovemethodistchurch.co.uk/wp-content/uploads/2022/10/the-monday-guild-logo.jpg
END:VEVENT
BEGIN:VEVENT
DTSTART;TZID=Europe/London:20230319T130000
DTEND;TZID=Europe/London:20230319T170000
DTSTAMP:20260425T132154
CREATED:20221012T150156Z
LAST-MODIFIED:20221012T150156Z
UID:10007048-1679230800-1679245200@www.hovemethodistchurch.co.uk
SUMMARY:Pilgrim Centre (Korean Church) Sunday Service
DESCRIPTION:
URL:https://www.hovemethodistchurch.co.uk/event/pilgrim-centre-korean-church-sunday-service/2023-03-19/
LOCATION:Hove Methodist Church
CATEGORIES:Religious & Spiritual
ATTACH;FMTTYPE=image/jpeg:https://www.hovemethodistchurch.co.uk/wp-content/uploads/2022/10/brighton-korean-church-logo.jpg
END:VEVENT
BEGIN:VEVENT
DTSTART;TZID=Europe/London:20230319T103000
DTEND;TZID=Europe/London:20230319T120000
DTSTAMP:20260425T132154
CREATED:20221117T151805Z
LAST-MODIFIED:20231027T140411Z
UID:10009092-1679221800-1679227200@www.hovemethodistchurch.co.uk
SUMMARY:Hove Methodists Sunday Worship
DESCRIPTION:In the Sanctuary\, all welcome.
URL:https://www.hovemethodistchurch.co.uk/event/hove-methodists-sunday-worship/2023-03-19/
LOCATION:Hove Methodist Church
CATEGORIES:Religious & Spiritual
ATTACH;FMTTYPE=image/jpeg:https://www.hovemethodistchurch.co.uk/wp-content/uploads/2022/10/hmc-logo_600x387.jpg
END:VEVENT
BEGIN:VEVENT
DTSTART;TZID=Europe/London:20230318T100000
DTEND;TZID=Europe/London:20230318T140000
DTSTAMP:20260425T132154
CREATED:20221012T141813Z
LAST-MODIFIED:20221012T143007Z
UID:10006682-1679133600-1679148000@www.hovemethodistchurch.co.uk
SUMMARY:Seventh Day Adventists Service
DESCRIPTION:See brightonandhove.adventistchurch.org.uk/ for details and contacts
URL:https://www.hovemethodistchurch.co.uk/event/seventh-day-adventists-service/2023-03-18/
LOCATION:Hove Methodist Church
CATEGORIES:Religious & Spiritual
ATTACH;FMTTYPE=image/jpeg:https://www.hovemethodistchurch.co.uk/wp-content/uploads/2022/10/seventh-day-adventist-logo.jpg
END:VEVENT
BEGIN:VEVENT
DTSTART;TZID=Europe/London:20230316T103000
DTEND;TZID=Europe/London:20230316T113000
DTSTAMP:20260425T132154
CREATED:20221012T131003Z
LAST-MODIFIED:20221012T145259Z
UID:10005584-1678962600-1678966200@www.hovemethodistchurch.co.uk
SUMMARY:Thursday Midweek Communion
DESCRIPTION:Lively discussion and informal communion with refreshments.
URL:https://www.hovemethodistchurch.co.uk/event/thursday-midweek-communion/2023-03-16/
LOCATION:Hove Methodist Church
CATEGORIES:Religious & Spiritual
ATTACH;FMTTYPE=image/jpeg:https://www.hovemethodistchurch.co.uk/wp-content/uploads/2022/10/hmc-logo_600x387.jpg
END:VEVENT
BEGIN:VEVENT
DTSTART;TZID=Europe/London:20230313T143000
DTEND;TZID=Europe/London:20230313T160000
DTSTAMP:20260425T132154
CREATED:20221006T143912Z
LAST-MODIFIED:20221007T165150Z
UID:10002668-1678717800-1678723200@www.hovemethodistchurch.co.uk
SUMMARY:The Monday Guild
DESCRIPTION:Drop-in fellowship group in the church.
URL:https://www.hovemethodistchurch.co.uk/event/the-monday-guild/2023-03-13/
LOCATION:Hove Methodist Church
CATEGORIES:Religious & Spiritual,Social
ATTACH;FMTTYPE=image/jpeg:https://www.hovemethodistchurch.co.uk/wp-content/uploads/2022/10/the-monday-guild-logo.jpg
END:VEVENT
BEGIN:VEVENT
DTSTART;TZID=Europe/London:20230312T130000
DTEND;TZID=Europe/London:20230312T170000
DTSTAMP:20260425T132154
CREATED:20221012T150156Z
LAST-MODIFIED:20221012T150156Z
UID:10007047-1678626000-1678640400@www.hovemethodistchurch.co.uk
SUMMARY:Pilgrim Centre (Korean Church) Sunday Service
DESCRIPTION:
URL:https://www.hovemethodistchurch.co.uk/event/pilgrim-centre-korean-church-sunday-service/2023-03-12/
LOCATION:Hove Methodist Church
CATEGORIES:Religious & Spiritual
ATTACH;FMTTYPE=image/jpeg:https://www.hovemethodistchurch.co.uk/wp-content/uploads/2022/10/brighton-korean-church-logo.jpg
END:VEVENT
BEGIN:VEVENT
DTSTART;TZID=Europe/London:20230312T103000
DTEND;TZID=Europe/London:20230312T120000
DTSTAMP:20260425T132154
CREATED:20221117T151805Z
LAST-MODIFIED:20231027T140411Z
UID:10009091-1678617000-1678622400@www.hovemethodistchurch.co.uk
SUMMARY:Hove Methodists Sunday Worship
DESCRIPTION:In the Sanctuary\, all welcome.
URL:https://www.hovemethodistchurch.co.uk/event/hove-methodists-sunday-worship/2023-03-12/
LOCATION:Hove Methodist Church
CATEGORIES:Religious & Spiritual
ATTACH;FMTTYPE=image/jpeg:https://www.hovemethodistchurch.co.uk/wp-content/uploads/2022/10/hmc-logo_600x387.jpg
END:VEVENT
BEGIN:VEVENT
DTSTART;TZID=Europe/London:20230311T100000
DTEND;TZID=Europe/London:20230311T140000
DTSTAMP:20260425T132154
CREATED:20221012T141813Z
LAST-MODIFIED:20221012T143007Z
UID:10006681-1678528800-1678543200@www.hovemethodistchurch.co.uk
SUMMARY:Seventh Day Adventists Service
DESCRIPTION:See brightonandhove.adventistchurch.org.uk/ for details and contacts
URL:https://www.hovemethodistchurch.co.uk/event/seventh-day-adventists-service/2023-03-11/
LOCATION:Hove Methodist Church
CATEGORIES:Religious & Spiritual
ATTACH;FMTTYPE=image/jpeg:https://www.hovemethodistchurch.co.uk/wp-content/uploads/2022/10/seventh-day-adventist-logo.jpg
END:VEVENT
BEGIN:VEVENT
DTSTART;TZID=Europe/London:20230309T103000
DTEND;TZID=Europe/London:20230309T113000
DTSTAMP:20260425T132154
CREATED:20221012T131003Z
LAST-MODIFIED:20221012T145259Z
UID:10005583-1678357800-1678361400@www.hovemethodistchurch.co.uk
SUMMARY:Thursday Midweek Communion
DESCRIPTION:Lively discussion and informal communion with refreshments.
URL:https://www.hovemethodistchurch.co.uk/event/thursday-midweek-communion/2023-03-09/
LOCATION:Hove Methodist Church
CATEGORIES:Religious & Spiritual
ATTACH;FMTTYPE=image/jpeg:https://www.hovemethodistchurch.co.uk/wp-content/uploads/2022/10/hmc-logo_600x387.jpg
END:VEVENT
BEGIN:VEVENT
DTSTART;TZID=Europe/London:20230306T143000
DTEND;TZID=Europe/London:20230306T160000
DTSTAMP:20260425T132154
CREATED:20221006T143912Z
LAST-MODIFIED:20221007T165150Z
UID:10002667-1678113000-1678118400@www.hovemethodistchurch.co.uk
SUMMARY:The Monday Guild
DESCRIPTION:Drop-in fellowship group in the church.
URL:https://www.hovemethodistchurch.co.uk/event/the-monday-guild/2023-03-06/
LOCATION:Hove Methodist Church
CATEGORIES:Religious & Spiritual,Social
ATTACH;FMTTYPE=image/jpeg:https://www.hovemethodistchurch.co.uk/wp-content/uploads/2022/10/the-monday-guild-logo.jpg
END:VEVENT
BEGIN:VEVENT
DTSTART;TZID=Europe/London:20230305T130000
DTEND;TZID=Europe/London:20230305T170000
DTSTAMP:20260425T132154
CREATED:20221012T150156Z
LAST-MODIFIED:20221012T150156Z
UID:10007046-1678021200-1678035600@www.hovemethodistchurch.co.uk
SUMMARY:Pilgrim Centre (Korean Church) Sunday Service
DESCRIPTION:
URL:https://www.hovemethodistchurch.co.uk/event/pilgrim-centre-korean-church-sunday-service/2023-03-05/
LOCATION:Hove Methodist Church
CATEGORIES:Religious & Spiritual
ATTACH;FMTTYPE=image/jpeg:https://www.hovemethodistchurch.co.uk/wp-content/uploads/2022/10/brighton-korean-church-logo.jpg
END:VEVENT
BEGIN:VEVENT
DTSTART;TZID=Europe/London:20230305T103000
DTEND;TZID=Europe/London:20230305T120000
DTSTAMP:20260425T132154
CREATED:20221117T151805Z
LAST-MODIFIED:20231027T140411Z
UID:10009090-1678012200-1678017600@www.hovemethodistchurch.co.uk
SUMMARY:Hove Methodists Sunday Worship
DESCRIPTION:In the Sanctuary\, all welcome.
URL:https://www.hovemethodistchurch.co.uk/event/hove-methodists-sunday-worship/2023-03-05/
LOCATION:Hove Methodist Church
CATEGORIES:Religious & Spiritual
ATTACH;FMTTYPE=image/jpeg:https://www.hovemethodistchurch.co.uk/wp-content/uploads/2022/10/hmc-logo_600x387.jpg
END:VEVENT
BEGIN:VEVENT
DTSTART;TZID=Europe/London:20230304T100000
DTEND;TZID=Europe/London:20230304T140000
DTSTAMP:20260425T132154
CREATED:20221012T141813Z
LAST-MODIFIED:20221012T143007Z
UID:10006680-1677924000-1677938400@www.hovemethodistchurch.co.uk
SUMMARY:Seventh Day Adventists Service
DESCRIPTION:See brightonandhove.adventistchurch.org.uk/ for details and contacts
URL:https://www.hovemethodistchurch.co.uk/event/seventh-day-adventists-service/2023-03-04/
LOCATION:Hove Methodist Church
CATEGORIES:Religious & Spiritual
ATTACH;FMTTYPE=image/jpeg:https://www.hovemethodistchurch.co.uk/wp-content/uploads/2022/10/seventh-day-adventist-logo.jpg
END:VEVENT
BEGIN:VEVENT
DTSTART;TZID=Europe/London:20230302T103000
DTEND;TZID=Europe/London:20230302T113000
DTSTAMP:20260425T132154
CREATED:20221012T131003Z
LAST-MODIFIED:20221012T145259Z
UID:10005582-1677753000-1677756600@www.hovemethodistchurch.co.uk
SUMMARY:Thursday Midweek Communion
DESCRIPTION:Lively discussion and informal communion with refreshments.
URL:https://www.hovemethodistchurch.co.uk/event/thursday-midweek-communion/2023-03-02/
LOCATION:Hove Methodist Church
CATEGORIES:Religious & Spiritual
ATTACH;FMTTYPE=image/jpeg:https://www.hovemethodistchurch.co.uk/wp-content/uploads/2022/10/hmc-logo_600x387.jpg
END:VEVENT
BEGIN:VEVENT
DTSTART;TZID=Europe/London:20230227T143000
DTEND;TZID=Europe/London:20230227T160000
DTSTAMP:20260425T132154
CREATED:20221006T143912Z
LAST-MODIFIED:20221007T165150Z
UID:10002666-1677508200-1677513600@www.hovemethodistchurch.co.uk
SUMMARY:The Monday Guild
DESCRIPTION:Drop-in fellowship group in the church.
URL:https://www.hovemethodistchurch.co.uk/event/the-monday-guild/2023-02-27/
LOCATION:Hove Methodist Church
CATEGORIES:Religious & Spiritual,Social
ATTACH;FMTTYPE=image/jpeg:https://www.hovemethodistchurch.co.uk/wp-content/uploads/2022/10/the-monday-guild-logo.jpg
END:VEVENT
BEGIN:VEVENT
DTSTART;TZID=Europe/London:20230226T130000
DTEND;TZID=Europe/London:20230226T170000
DTSTAMP:20260425T132154
CREATED:20221012T150156Z
LAST-MODIFIED:20221012T150156Z
UID:10007045-1677416400-1677430800@www.hovemethodistchurch.co.uk
SUMMARY:Pilgrim Centre (Korean Church) Sunday Service
DESCRIPTION:
URL:https://www.hovemethodistchurch.co.uk/event/pilgrim-centre-korean-church-sunday-service/2023-02-26/
LOCATION:Hove Methodist Church
CATEGORIES:Religious & Spiritual
ATTACH;FMTTYPE=image/jpeg:https://www.hovemethodistchurch.co.uk/wp-content/uploads/2022/10/brighton-korean-church-logo.jpg
END:VEVENT
BEGIN:VEVENT
DTSTART;TZID=Europe/London:20230226T103000
DTEND;TZID=Europe/London:20230226T120000
DTSTAMP:20260425T132154
CREATED:20221117T151805Z
LAST-MODIFIED:20231027T140411Z
UID:10009089-1677407400-1677412800@www.hovemethodistchurch.co.uk
SUMMARY:Hove Methodists Sunday Worship
DESCRIPTION:In the Sanctuary\, all welcome.
URL:https://www.hovemethodistchurch.co.uk/event/hove-methodists-sunday-worship/2023-02-26/
LOCATION:Hove Methodist Church
CATEGORIES:Religious & Spiritual
ATTACH;FMTTYPE=image/jpeg:https://www.hovemethodistchurch.co.uk/wp-content/uploads/2022/10/hmc-logo_600x387.jpg
END:VEVENT
BEGIN:VEVENT
DTSTART;TZID=Europe/London:20230225T100000
DTEND;TZID=Europe/London:20230225T140000
DTSTAMP:20260425T132154
CREATED:20221012T141813Z
LAST-MODIFIED:20221012T143007Z
UID:10006679-1677319200-1677333600@www.hovemethodistchurch.co.uk
SUMMARY:Seventh Day Adventists Service
DESCRIPTION:See brightonandhove.adventistchurch.org.uk/ for details and contacts
URL:https://www.hovemethodistchurch.co.uk/event/seventh-day-adventists-service/2023-02-25/
LOCATION:Hove Methodist Church
CATEGORIES:Religious & Spiritual
ATTACH;FMTTYPE=image/jpeg:https://www.hovemethodistchurch.co.uk/wp-content/uploads/2022/10/seventh-day-adventist-logo.jpg
END:VEVENT
BEGIN:VEVENT
DTSTART;TZID=Europe/London:20230224T190000
DTEND;TZID=Europe/London:20230224T200000
DTSTAMP:20260425T132154
CREATED:20230201T155507Z
LAST-MODIFIED:20230201T155655Z
UID:10007870-1677265200-1677268800@www.hovemethodistchurch.co.uk
SUMMARY:Interfaith Vigil
DESCRIPTION:1 Year from the invasion of Ukraine \nto remember all suffering and displaced peoples\n7-8pm\nAll are welcome. Free to attend.\nFor more info contact the church office \n  \n 
URL:https://www.hovemethodistchurch.co.uk/event/interfaith-vigil/
LOCATION:Hove Methodist Church
CATEGORIES:Religious & Spiritual
ATTACH;FMTTYPE=image/jpeg:https://www.hovemethodistchurch.co.uk/wp-content/uploads/2023/02/Interfaith-Vigil.jpg
END:VEVENT
BEGIN:VEVENT
DTSTART;TZID=Europe/London:20230223T103000
DTEND;TZID=Europe/London:20230223T113000
DTSTAMP:20260425T132154
CREATED:20221012T131003Z
LAST-MODIFIED:20221012T145259Z
UID:10005581-1677148200-1677151800@www.hovemethodistchurch.co.uk
SUMMARY:Thursday Midweek Communion
DESCRIPTION:Lively discussion and informal communion with refreshments.
URL:https://www.hovemethodistchurch.co.uk/event/thursday-midweek-communion/2023-02-23/
LOCATION:Hove Methodist Church
CATEGORIES:Religious & Spiritual
ATTACH;FMTTYPE=image/jpeg:https://www.hovemethodistchurch.co.uk/wp-content/uploads/2022/10/hmc-logo_600x387.jpg
END:VEVENT
BEGIN:VEVENT
DTSTART;TZID=Europe/London:20230220T143000
DTEND;TZID=Europe/London:20230220T160000
DTSTAMP:20260425T132154
CREATED:20221006T143912Z
LAST-MODIFIED:20221007T165150Z
UID:10002665-1676903400-1676908800@www.hovemethodistchurch.co.uk
SUMMARY:The Monday Guild
DESCRIPTION:Drop-in fellowship group in the church.
URL:https://www.hovemethodistchurch.co.uk/event/the-monday-guild/2023-02-20/
LOCATION:Hove Methodist Church
CATEGORIES:Religious & Spiritual,Social
ATTACH;FMTTYPE=image/jpeg:https://www.hovemethodistchurch.co.uk/wp-content/uploads/2022/10/the-monday-guild-logo.jpg
END:VEVENT
BEGIN:VEVENT
DTSTART;TZID=Europe/London:20230219T130000
DTEND;TZID=Europe/London:20230219T170000
DTSTAMP:20260425T132154
CREATED:20221012T150156Z
LAST-MODIFIED:20221012T150156Z
UID:10007044-1676811600-1676826000@www.hovemethodistchurch.co.uk
SUMMARY:Pilgrim Centre (Korean Church) Sunday Service
DESCRIPTION:
URL:https://www.hovemethodistchurch.co.uk/event/pilgrim-centre-korean-church-sunday-service/2023-02-19/
LOCATION:Hove Methodist Church
CATEGORIES:Religious & Spiritual
ATTACH;FMTTYPE=image/jpeg:https://www.hovemethodistchurch.co.uk/wp-content/uploads/2022/10/brighton-korean-church-logo.jpg
END:VEVENT
BEGIN:VEVENT
DTSTART;TZID=Europe/London:20230219T103000
DTEND;TZID=Europe/London:20230219T120000
DTSTAMP:20260425T132154
CREATED:20221117T151805Z
LAST-MODIFIED:20231027T140411Z
UID:10009088-1676802600-1676808000@www.hovemethodistchurch.co.uk
SUMMARY:Hove Methodists Sunday Worship
DESCRIPTION:In the Sanctuary\, all welcome.
URL:https://www.hovemethodistchurch.co.uk/event/hove-methodists-sunday-worship/2023-02-19/
LOCATION:Hove Methodist Church
CATEGORIES:Religious & Spiritual
ATTACH;FMTTYPE=image/jpeg:https://www.hovemethodistchurch.co.uk/wp-content/uploads/2022/10/hmc-logo_600x387.jpg
END:VEVENT
BEGIN:VEVENT
DTSTART;TZID=Europe/London:20230218T100000
DTEND;TZID=Europe/London:20230218T140000
DTSTAMP:20260425T132154
CREATED:20221012T141813Z
LAST-MODIFIED:20221012T143007Z
UID:10006678-1676714400-1676728800@www.hovemethodistchurch.co.uk
SUMMARY:Seventh Day Adventists Service
DESCRIPTION:See brightonandhove.adventistchurch.org.uk/ for details and contacts
URL:https://www.hovemethodistchurch.co.uk/event/seventh-day-adventists-service/2023-02-18/
LOCATION:Hove Methodist Church
CATEGORIES:Religious & Spiritual
ATTACH;FMTTYPE=image/jpeg:https://www.hovemethodistchurch.co.uk/wp-content/uploads/2022/10/seventh-day-adventist-logo.jpg
END:VEVENT
BEGIN:VEVENT
DTSTART;TZID=Europe/London:20230216T103000
DTEND;TZID=Europe/London:20230216T113000
DTSTAMP:20260425T132154
CREATED:20221012T131003Z
LAST-MODIFIED:20221012T145259Z
UID:10005580-1676543400-1676547000@www.hovemethodistchurch.co.uk
SUMMARY:Thursday Midweek Communion
DESCRIPTION:Lively discussion and informal communion with refreshments.
URL:https://www.hovemethodistchurch.co.uk/event/thursday-midweek-communion/2023-02-16/
LOCATION:Hove Methodist Church
CATEGORIES:Religious & Spiritual
ATTACH;FMTTYPE=image/jpeg:https://www.hovemethodistchurch.co.uk/wp-content/uploads/2022/10/hmc-logo_600x387.jpg
END:VEVENT
BEGIN:VEVENT
DTSTART;TZID=Europe/London:20230213T143000
DTEND;TZID=Europe/London:20230213T160000
DTSTAMP:20260425T132154
CREATED:20221006T143912Z
LAST-MODIFIED:20221007T165150Z
UID:10002664-1676298600-1676304000@www.hovemethodistchurch.co.uk
SUMMARY:The Monday Guild
DESCRIPTION:Drop-in fellowship group in the church.
URL:https://www.hovemethodistchurch.co.uk/event/the-monday-guild/2023-02-13/
LOCATION:Hove Methodist Church
CATEGORIES:Religious & Spiritual,Social
ATTACH;FMTTYPE=image/jpeg:https://www.hovemethodistchurch.co.uk/wp-content/uploads/2022/10/the-monday-guild-logo.jpg
END:VEVENT
END:VCALENDAR