BEGIN:VCALENDAR
VERSION:2.0
PRODID:-//Hove Methodist Church - ECPv6.15.20//NONSGML v1.0//EN
CALSCALE:GREGORIAN
METHOD:PUBLISH
X-WR-CALNAME:Hove Methodist Church
X-ORIGINAL-URL:https://www.hovemethodistchurch.co.uk
X-WR-CALDESC:Events for Hove Methodist Church
REFRESH-INTERVAL;VALUE=DURATION:PT1H
X-Robots-Tag:noindex
X-PUBLISHED-TTL:PT1H
BEGIN:VTIMEZONE
TZID:Europe/London
BEGIN:DAYLIGHT
TZOFFSETFROM:+0000
TZOFFSETTO:+0100
TZNAME:BST
DTSTART:20220327T010000
END:DAYLIGHT
BEGIN:STANDARD
TZOFFSETFROM:+0100
TZOFFSETTO:+0000
TZNAME:GMT
DTSTART:20221030T010000
END:STANDARD
BEGIN:DAYLIGHT
TZOFFSETFROM:+0000
TZOFFSETTO:+0100
TZNAME:BST
DTSTART:20230326T010000
END:DAYLIGHT
BEGIN:STANDARD
TZOFFSETFROM:+0100
TZOFFSETTO:+0000
TZNAME:GMT
DTSTART:20231029T010000
END:STANDARD
BEGIN:DAYLIGHT
TZOFFSETFROM:+0000
TZOFFSETTO:+0100
TZNAME:BST
DTSTART:20240331T010000
END:DAYLIGHT
BEGIN:STANDARD
TZOFFSETFROM:+0100
TZOFFSETTO:+0000
TZNAME:GMT
DTSTART:20241027T010000
END:STANDARD
END:VTIMEZONE
BEGIN:VEVENT
DTSTART;TZID=Europe/London:20230722T100000
DTEND;TZID=Europe/London:20230722T140000
DTSTAMP:20260425T020348
CREATED:20221012T141813Z
LAST-MODIFIED:20221012T143007Z
UID:10006700-1690020000-1690034400@www.hovemethodistchurch.co.uk
SUMMARY:Seventh Day Adventists Service
DESCRIPTION:See brightonandhove.adventistchurch.org.uk/ for details and contacts
URL:https://www.hovemethodistchurch.co.uk/event/seventh-day-adventists-service/2023-07-22/
LOCATION:Hove Methodist Church
CATEGORIES:Religious & Spiritual
ATTACH;FMTTYPE=image/jpeg:https://www.hovemethodistchurch.co.uk/wp-content/uploads/2022/10/seventh-day-adventist-logo.jpg
END:VEVENT
BEGIN:VEVENT
DTSTART;TZID=Europe/London:20230720T103000
DTEND;TZID=Europe/London:20230720T113000
DTSTAMP:20260425T020348
CREATED:20221012T131003Z
LAST-MODIFIED:20221012T145259Z
UID:10005602-1689849000-1689852600@www.hovemethodistchurch.co.uk
SUMMARY:Thursday Midweek Communion
DESCRIPTION:Lively discussion and informal communion with refreshments.
URL:https://www.hovemethodistchurch.co.uk/event/thursday-midweek-communion/2023-07-20/
LOCATION:Hove Methodist Church
CATEGORIES:Religious & Spiritual
ATTACH;FMTTYPE=image/jpeg:https://www.hovemethodistchurch.co.uk/wp-content/uploads/2022/10/hmc-logo_600x387.jpg
END:VEVENT
BEGIN:VEVENT
DTSTART;TZID=Europe/London:20230717T143000
DTEND;TZID=Europe/London:20230717T160000
DTSTAMP:20260425T020348
CREATED:20221006T143912Z
LAST-MODIFIED:20221007T165150Z
UID:10002686-1689604200-1689609600@www.hovemethodistchurch.co.uk
SUMMARY:The Monday Guild
DESCRIPTION:Drop-in fellowship group in the church.
URL:https://www.hovemethodistchurch.co.uk/event/the-monday-guild/2023-07-17/
LOCATION:Hove Methodist Church
CATEGORIES:Religious & Spiritual,Social
ATTACH;FMTTYPE=image/jpeg:https://www.hovemethodistchurch.co.uk/wp-content/uploads/2022/10/the-monday-guild-logo.jpg
END:VEVENT
BEGIN:VEVENT
DTSTART;TZID=Europe/London:20230716T130000
DTEND;TZID=Europe/London:20230716T170000
DTSTAMP:20260425T020348
CREATED:20221012T150156Z
LAST-MODIFIED:20221012T150156Z
UID:10007065-1689512400-1689526800@www.hovemethodistchurch.co.uk
SUMMARY:Pilgrim Centre (Korean Church) Sunday Service
DESCRIPTION:
URL:https://www.hovemethodistchurch.co.uk/event/pilgrim-centre-korean-church-sunday-service/2023-07-16/
LOCATION:Hove Methodist Church
CATEGORIES:Religious & Spiritual
ATTACH;FMTTYPE=image/jpeg:https://www.hovemethodistchurch.co.uk/wp-content/uploads/2022/10/brighton-korean-church-logo.jpg
END:VEVENT
BEGIN:VEVENT
DTSTART;TZID=Europe/London:20230716T103000
DTEND;TZID=Europe/London:20230716T120000
DTSTAMP:20260425T020348
CREATED:20221117T151805Z
LAST-MODIFIED:20231027T140411Z
UID:10009109-1689503400-1689508800@www.hovemethodistchurch.co.uk
SUMMARY:Hove Methodists Sunday Worship
DESCRIPTION:In the Sanctuary\, all welcome.
URL:https://www.hovemethodistchurch.co.uk/event/hove-methodists-sunday-worship/2023-07-16/
LOCATION:Hove Methodist Church
CATEGORIES:Religious & Spiritual
ATTACH;FMTTYPE=image/jpeg:https://www.hovemethodistchurch.co.uk/wp-content/uploads/2022/10/hmc-logo_600x387.jpg
END:VEVENT
BEGIN:VEVENT
DTSTART;TZID=Europe/London:20230715T100000
DTEND;TZID=Europe/London:20230715T140000
DTSTAMP:20260425T020348
CREATED:20221012T141813Z
LAST-MODIFIED:20221012T143007Z
UID:10006699-1689415200-1689429600@www.hovemethodistchurch.co.uk
SUMMARY:Seventh Day Adventists Service
DESCRIPTION:See brightonandhove.adventistchurch.org.uk/ for details and contacts
URL:https://www.hovemethodistchurch.co.uk/event/seventh-day-adventists-service/2023-07-15/
LOCATION:Hove Methodist Church
CATEGORIES:Religious & Spiritual
ATTACH;FMTTYPE=image/jpeg:https://www.hovemethodistchurch.co.uk/wp-content/uploads/2022/10/seventh-day-adventist-logo.jpg
END:VEVENT
BEGIN:VEVENT
DTSTART;TZID=Europe/London:20230713T103000
DTEND;TZID=Europe/London:20230713T113000
DTSTAMP:20260425T020348
CREATED:20221012T131003Z
LAST-MODIFIED:20221012T145259Z
UID:10005601-1689244200-1689247800@www.hovemethodistchurch.co.uk
SUMMARY:Thursday Midweek Communion
DESCRIPTION:Lively discussion and informal communion with refreshments.
URL:https://www.hovemethodistchurch.co.uk/event/thursday-midweek-communion/2023-07-13/
LOCATION:Hove Methodist Church
CATEGORIES:Religious & Spiritual
ATTACH;FMTTYPE=image/jpeg:https://www.hovemethodistchurch.co.uk/wp-content/uploads/2022/10/hmc-logo_600x387.jpg
END:VEVENT
BEGIN:VEVENT
DTSTART;TZID=Europe/London:20230710T143000
DTEND;TZID=Europe/London:20230710T160000
DTSTAMP:20260425T020348
CREATED:20221006T143912Z
LAST-MODIFIED:20221007T165150Z
UID:10002685-1688999400-1689004800@www.hovemethodistchurch.co.uk
SUMMARY:The Monday Guild
DESCRIPTION:Drop-in fellowship group in the church.
URL:https://www.hovemethodistchurch.co.uk/event/the-monday-guild/2023-07-10/
LOCATION:Hove Methodist Church
CATEGORIES:Religious & Spiritual,Social
ATTACH;FMTTYPE=image/jpeg:https://www.hovemethodistchurch.co.uk/wp-content/uploads/2022/10/the-monday-guild-logo.jpg
END:VEVENT
BEGIN:VEVENT
DTSTART;TZID=Europe/London:20230709T130000
DTEND;TZID=Europe/London:20230709T170000
DTSTAMP:20260425T020348
CREATED:20221012T150156Z
LAST-MODIFIED:20221012T150156Z
UID:10007064-1688907600-1688922000@www.hovemethodistchurch.co.uk
SUMMARY:Pilgrim Centre (Korean Church) Sunday Service
DESCRIPTION:
URL:https://www.hovemethodistchurch.co.uk/event/pilgrim-centre-korean-church-sunday-service/2023-07-09/
LOCATION:Hove Methodist Church
CATEGORIES:Religious & Spiritual
ATTACH;FMTTYPE=image/jpeg:https://www.hovemethodistchurch.co.uk/wp-content/uploads/2022/10/brighton-korean-church-logo.jpg
END:VEVENT
BEGIN:VEVENT
DTSTART;TZID=Europe/London:20230709T103000
DTEND;TZID=Europe/London:20230709T120000
DTSTAMP:20260425T020348
CREATED:20221117T151805Z
LAST-MODIFIED:20231027T140411Z
UID:10009108-1688898600-1688904000@www.hovemethodistchurch.co.uk
SUMMARY:Hove Methodists Sunday Worship
DESCRIPTION:In the Sanctuary\, all welcome.
URL:https://www.hovemethodistchurch.co.uk/event/hove-methodists-sunday-worship/2023-07-09/
LOCATION:Hove Methodist Church
CATEGORIES:Religious & Spiritual
ATTACH;FMTTYPE=image/jpeg:https://www.hovemethodistchurch.co.uk/wp-content/uploads/2022/10/hmc-logo_600x387.jpg
END:VEVENT
BEGIN:VEVENT
DTSTART;TZID=Europe/London:20230708T100000
DTEND;TZID=Europe/London:20230708T140000
DTSTAMP:20260425T020348
CREATED:20221012T141813Z
LAST-MODIFIED:20221012T143007Z
UID:10006698-1688810400-1688824800@www.hovemethodistchurch.co.uk
SUMMARY:Seventh Day Adventists Service
DESCRIPTION:See brightonandhove.adventistchurch.org.uk/ for details and contacts
URL:https://www.hovemethodistchurch.co.uk/event/seventh-day-adventists-service/2023-07-08/
LOCATION:Hove Methodist Church
CATEGORIES:Religious & Spiritual
ATTACH;FMTTYPE=image/jpeg:https://www.hovemethodistchurch.co.uk/wp-content/uploads/2022/10/seventh-day-adventist-logo.jpg
END:VEVENT
BEGIN:VEVENT
DTSTART;TZID=Europe/London:20230706T103000
DTEND;TZID=Europe/London:20230706T113000
DTSTAMP:20260425T020348
CREATED:20221012T131003Z
LAST-MODIFIED:20221012T145259Z
UID:10005600-1688639400-1688643000@www.hovemethodistchurch.co.uk
SUMMARY:Thursday Midweek Communion
DESCRIPTION:Lively discussion and informal communion with refreshments.
URL:https://www.hovemethodistchurch.co.uk/event/thursday-midweek-communion/2023-07-06/
LOCATION:Hove Methodist Church
CATEGORIES:Religious & Spiritual
ATTACH;FMTTYPE=image/jpeg:https://www.hovemethodistchurch.co.uk/wp-content/uploads/2022/10/hmc-logo_600x387.jpg
END:VEVENT
BEGIN:VEVENT
DTSTART;TZID=Europe/London:20230703T143000
DTEND;TZID=Europe/London:20230703T160000
DTSTAMP:20260425T020348
CREATED:20221006T143912Z
LAST-MODIFIED:20221007T165150Z
UID:10002684-1688394600-1688400000@www.hovemethodistchurch.co.uk
SUMMARY:The Monday Guild
DESCRIPTION:Drop-in fellowship group in the church.
URL:https://www.hovemethodistchurch.co.uk/event/the-monday-guild/2023-07-03/
LOCATION:Hove Methodist Church
CATEGORIES:Religious & Spiritual,Social
ATTACH;FMTTYPE=image/jpeg:https://www.hovemethodistchurch.co.uk/wp-content/uploads/2022/10/the-monday-guild-logo.jpg
END:VEVENT
BEGIN:VEVENT
DTSTART;TZID=Europe/London:20230702T130000
DTEND;TZID=Europe/London:20230702T170000
DTSTAMP:20260425T020348
CREATED:20221012T150156Z
LAST-MODIFIED:20221012T150156Z
UID:10007063-1688302800-1688317200@www.hovemethodistchurch.co.uk
SUMMARY:Pilgrim Centre (Korean Church) Sunday Service
DESCRIPTION:
URL:https://www.hovemethodistchurch.co.uk/event/pilgrim-centre-korean-church-sunday-service/2023-07-02/
LOCATION:Hove Methodist Church
CATEGORIES:Religious & Spiritual
ATTACH;FMTTYPE=image/jpeg:https://www.hovemethodistchurch.co.uk/wp-content/uploads/2022/10/brighton-korean-church-logo.jpg
END:VEVENT
BEGIN:VEVENT
DTSTART;TZID=Europe/London:20230702T103000
DTEND;TZID=Europe/London:20230702T120000
DTSTAMP:20260425T020348
CREATED:20221117T151805Z
LAST-MODIFIED:20231027T140411Z
UID:10009107-1688293800-1688299200@www.hovemethodistchurch.co.uk
SUMMARY:Hove Methodists Sunday Worship
DESCRIPTION:In the Sanctuary\, all welcome.
URL:https://www.hovemethodistchurch.co.uk/event/hove-methodists-sunday-worship/2023-07-02/
LOCATION:Hove Methodist Church
CATEGORIES:Religious & Spiritual
ATTACH;FMTTYPE=image/jpeg:https://www.hovemethodistchurch.co.uk/wp-content/uploads/2022/10/hmc-logo_600x387.jpg
END:VEVENT
BEGIN:VEVENT
DTSTART;TZID=Europe/London:20230701T100000
DTEND;TZID=Europe/London:20230701T140000
DTSTAMP:20260425T020348
CREATED:20221012T141813Z
LAST-MODIFIED:20221012T143007Z
UID:10006697-1688205600-1688220000@www.hovemethodistchurch.co.uk
SUMMARY:Seventh Day Adventists Service
DESCRIPTION:See brightonandhove.adventistchurch.org.uk/ for details and contacts
URL:https://www.hovemethodistchurch.co.uk/event/seventh-day-adventists-service/2023-07-01/
LOCATION:Hove Methodist Church
CATEGORIES:Religious & Spiritual
ATTACH;FMTTYPE=image/jpeg:https://www.hovemethodistchurch.co.uk/wp-content/uploads/2022/10/seventh-day-adventist-logo.jpg
END:VEVENT
BEGIN:VEVENT
DTSTART;TZID=Europe/London:20230629T103000
DTEND;TZID=Europe/London:20230629T113000
DTSTAMP:20260425T020348
CREATED:20221012T131003Z
LAST-MODIFIED:20221012T145259Z
UID:10005599-1688034600-1688038200@www.hovemethodistchurch.co.uk
SUMMARY:Thursday Midweek Communion
DESCRIPTION:Lively discussion and informal communion with refreshments.
URL:https://www.hovemethodistchurch.co.uk/event/thursday-midweek-communion/2023-06-29/
LOCATION:Hove Methodist Church
CATEGORIES:Religious & Spiritual
ATTACH;FMTTYPE=image/jpeg:https://www.hovemethodistchurch.co.uk/wp-content/uploads/2022/10/hmc-logo_600x387.jpg
END:VEVENT
BEGIN:VEVENT
DTSTART;TZID=Europe/London:20230626T143000
DTEND;TZID=Europe/London:20230626T160000
DTSTAMP:20260425T020348
CREATED:20221006T143912Z
LAST-MODIFIED:20221007T165150Z
UID:10002683-1687789800-1687795200@www.hovemethodistchurch.co.uk
SUMMARY:The Monday Guild
DESCRIPTION:Drop-in fellowship group in the church.
URL:https://www.hovemethodistchurch.co.uk/event/the-monday-guild/2023-06-26/
LOCATION:Hove Methodist Church
CATEGORIES:Religious & Spiritual,Social
ATTACH;FMTTYPE=image/jpeg:https://www.hovemethodistchurch.co.uk/wp-content/uploads/2022/10/the-monday-guild-logo.jpg
END:VEVENT
BEGIN:VEVENT
DTSTART;TZID=Europe/London:20230625T130000
DTEND;TZID=Europe/London:20230625T170000
DTSTAMP:20260425T020348
CREATED:20221012T150156Z
LAST-MODIFIED:20221012T150156Z
UID:10007062-1687698000-1687712400@www.hovemethodistchurch.co.uk
SUMMARY:Pilgrim Centre (Korean Church) Sunday Service
DESCRIPTION:
URL:https://www.hovemethodistchurch.co.uk/event/pilgrim-centre-korean-church-sunday-service/2023-06-25/
LOCATION:Hove Methodist Church
CATEGORIES:Religious & Spiritual
ATTACH;FMTTYPE=image/jpeg:https://www.hovemethodistchurch.co.uk/wp-content/uploads/2022/10/brighton-korean-church-logo.jpg
END:VEVENT
BEGIN:VEVENT
DTSTART;TZID=Europe/London:20230625T103000
DTEND;TZID=Europe/London:20230625T120000
DTSTAMP:20260425T020348
CREATED:20221117T151805Z
LAST-MODIFIED:20231027T140411Z
UID:10009106-1687689000-1687694400@www.hovemethodistchurch.co.uk
SUMMARY:Hove Methodists Sunday Worship
DESCRIPTION:In the Sanctuary\, all welcome.
URL:https://www.hovemethodistchurch.co.uk/event/hove-methodists-sunday-worship/2023-06-25/
LOCATION:Hove Methodist Church
CATEGORIES:Religious & Spiritual
ATTACH;FMTTYPE=image/jpeg:https://www.hovemethodistchurch.co.uk/wp-content/uploads/2022/10/hmc-logo_600x387.jpg
END:VEVENT
BEGIN:VEVENT
DTSTART;TZID=Europe/London:20230624T100000
DTEND;TZID=Europe/London:20230624T140000
DTSTAMP:20260425T020348
CREATED:20221012T141813Z
LAST-MODIFIED:20221012T143007Z
UID:10006696-1687600800-1687615200@www.hovemethodistchurch.co.uk
SUMMARY:Seventh Day Adventists Service
DESCRIPTION:See brightonandhove.adventistchurch.org.uk/ for details and contacts
URL:https://www.hovemethodistchurch.co.uk/event/seventh-day-adventists-service/2023-06-24/
LOCATION:Hove Methodist Church
CATEGORIES:Religious & Spiritual
ATTACH;FMTTYPE=image/jpeg:https://www.hovemethodistchurch.co.uk/wp-content/uploads/2022/10/seventh-day-adventist-logo.jpg
END:VEVENT
BEGIN:VEVENT
DTSTART;TZID=Europe/London:20230622T103000
DTEND;TZID=Europe/London:20230622T113000
DTSTAMP:20260425T020348
CREATED:20221012T131003Z
LAST-MODIFIED:20221012T145259Z
UID:10005598-1687429800-1687433400@www.hovemethodistchurch.co.uk
SUMMARY:Thursday Midweek Communion
DESCRIPTION:Lively discussion and informal communion with refreshments.
URL:https://www.hovemethodistchurch.co.uk/event/thursday-midweek-communion/2023-06-22/
LOCATION:Hove Methodist Church
CATEGORIES:Religious & Spiritual
ATTACH;FMTTYPE=image/jpeg:https://www.hovemethodistchurch.co.uk/wp-content/uploads/2022/10/hmc-logo_600x387.jpg
END:VEVENT
BEGIN:VEVENT
DTSTART;TZID=Europe/London:20230619T143000
DTEND;TZID=Europe/London:20230619T160000
DTSTAMP:20260425T020348
CREATED:20221006T143912Z
LAST-MODIFIED:20221007T165150Z
UID:10002682-1687185000-1687190400@www.hovemethodistchurch.co.uk
SUMMARY:The Monday Guild
DESCRIPTION:Drop-in fellowship group in the church.
URL:https://www.hovemethodistchurch.co.uk/event/the-monday-guild/2023-06-19/
LOCATION:Hove Methodist Church
CATEGORIES:Religious & Spiritual,Social
ATTACH;FMTTYPE=image/jpeg:https://www.hovemethodistchurch.co.uk/wp-content/uploads/2022/10/the-monday-guild-logo.jpg
END:VEVENT
BEGIN:VEVENT
DTSTART;TZID=Europe/London:20230618T130000
DTEND;TZID=Europe/London:20230618T170000
DTSTAMP:20260425T020348
CREATED:20221012T150156Z
LAST-MODIFIED:20221012T150156Z
UID:10007061-1687093200-1687107600@www.hovemethodistchurch.co.uk
SUMMARY:Pilgrim Centre (Korean Church) Sunday Service
DESCRIPTION:
URL:https://www.hovemethodistchurch.co.uk/event/pilgrim-centre-korean-church-sunday-service/2023-06-18/
LOCATION:Hove Methodist Church
CATEGORIES:Religious & Spiritual
ATTACH;FMTTYPE=image/jpeg:https://www.hovemethodistchurch.co.uk/wp-content/uploads/2022/10/brighton-korean-church-logo.jpg
END:VEVENT
BEGIN:VEVENT
DTSTART;TZID=Europe/London:20230618T103000
DTEND;TZID=Europe/London:20230618T120000
DTSTAMP:20260425T020348
CREATED:20221117T151805Z
LAST-MODIFIED:20231027T140411Z
UID:10009105-1687084200-1687089600@www.hovemethodistchurch.co.uk
SUMMARY:Hove Methodists Sunday Worship
DESCRIPTION:In the Sanctuary\, all welcome.
URL:https://www.hovemethodistchurch.co.uk/event/hove-methodists-sunday-worship/2023-06-18/
LOCATION:Hove Methodist Church
CATEGORIES:Religious & Spiritual
ATTACH;FMTTYPE=image/jpeg:https://www.hovemethodistchurch.co.uk/wp-content/uploads/2022/10/hmc-logo_600x387.jpg
END:VEVENT
BEGIN:VEVENT
DTSTART;TZID=Europe/London:20230617T100000
DTEND;TZID=Europe/London:20230617T140000
DTSTAMP:20260425T020348
CREATED:20221012T141813Z
LAST-MODIFIED:20221012T143007Z
UID:10006695-1686996000-1687010400@www.hovemethodistchurch.co.uk
SUMMARY:Seventh Day Adventists Service
DESCRIPTION:See brightonandhove.adventistchurch.org.uk/ for details and contacts
URL:https://www.hovemethodistchurch.co.uk/event/seventh-day-adventists-service/2023-06-17/
LOCATION:Hove Methodist Church
CATEGORIES:Religious & Spiritual
ATTACH;FMTTYPE=image/jpeg:https://www.hovemethodistchurch.co.uk/wp-content/uploads/2022/10/seventh-day-adventist-logo.jpg
END:VEVENT
BEGIN:VEVENT
DTSTART;TZID=Europe/London:20230615T103000
DTEND;TZID=Europe/London:20230615T113000
DTSTAMP:20260425T020348
CREATED:20221012T131003Z
LAST-MODIFIED:20221012T145259Z
UID:10005597-1686825000-1686828600@www.hovemethodistchurch.co.uk
SUMMARY:Thursday Midweek Communion
DESCRIPTION:Lively discussion and informal communion with refreshments.
URL:https://www.hovemethodistchurch.co.uk/event/thursday-midweek-communion/2023-06-15/
LOCATION:Hove Methodist Church
CATEGORIES:Religious & Spiritual
ATTACH;FMTTYPE=image/jpeg:https://www.hovemethodistchurch.co.uk/wp-content/uploads/2022/10/hmc-logo_600x387.jpg
END:VEVENT
BEGIN:VEVENT
DTSTART;TZID=Europe/London:20230612T143000
DTEND;TZID=Europe/London:20230612T160000
DTSTAMP:20260425T020348
CREATED:20221006T143912Z
LAST-MODIFIED:20221007T165150Z
UID:10002681-1686580200-1686585600@www.hovemethodistchurch.co.uk
SUMMARY:The Monday Guild
DESCRIPTION:Drop-in fellowship group in the church.
URL:https://www.hovemethodistchurch.co.uk/event/the-monday-guild/2023-06-12/
LOCATION:Hove Methodist Church
CATEGORIES:Religious & Spiritual,Social
ATTACH;FMTTYPE=image/jpeg:https://www.hovemethodistchurch.co.uk/wp-content/uploads/2022/10/the-monday-guild-logo.jpg
END:VEVENT
BEGIN:VEVENT
DTSTART;TZID=Europe/London:20230611T130000
DTEND;TZID=Europe/London:20230611T170000
DTSTAMP:20260425T020348
CREATED:20221012T150156Z
LAST-MODIFIED:20221012T150156Z
UID:10007060-1686488400-1686502800@www.hovemethodistchurch.co.uk
SUMMARY:Pilgrim Centre (Korean Church) Sunday Service
DESCRIPTION:
URL:https://www.hovemethodistchurch.co.uk/event/pilgrim-centre-korean-church-sunday-service/2023-06-11/
LOCATION:Hove Methodist Church
CATEGORIES:Religious & Spiritual
ATTACH;FMTTYPE=image/jpeg:https://www.hovemethodistchurch.co.uk/wp-content/uploads/2022/10/brighton-korean-church-logo.jpg
END:VEVENT
BEGIN:VEVENT
DTSTART;TZID=Europe/London:20230611T103000
DTEND;TZID=Europe/London:20230611T120000
DTSTAMP:20260425T020348
CREATED:20221117T151805Z
LAST-MODIFIED:20231027T140411Z
UID:10009104-1686479400-1686484800@www.hovemethodistchurch.co.uk
SUMMARY:Hove Methodists Sunday Worship
DESCRIPTION:In the Sanctuary\, all welcome.
URL:https://www.hovemethodistchurch.co.uk/event/hove-methodists-sunday-worship/2023-06-11/
LOCATION:Hove Methodist Church
CATEGORIES:Religious & Spiritual
ATTACH;FMTTYPE=image/jpeg:https://www.hovemethodistchurch.co.uk/wp-content/uploads/2022/10/hmc-logo_600x387.jpg
END:VEVENT
END:VCALENDAR