BEGIN:VCALENDAR
VERSION:2.0
PRODID:-//Hove Methodist Church - ECPv6.15.20//NONSGML v1.0//EN
CALSCALE:GREGORIAN
METHOD:PUBLISH
X-ORIGINAL-URL:https://www.hovemethodistchurch.co.uk
X-WR-CALDESC:Events for Hove Methodist Church
REFRESH-INTERVAL;VALUE=DURATION:PT1H
X-Robots-Tag:noindex
X-PUBLISHED-TTL:PT1H
BEGIN:VTIMEZONE
TZID:Europe/London
BEGIN:DAYLIGHT
TZOFFSETFROM:+0000
TZOFFSETTO:+0100
TZNAME:BST
DTSTART:20220327T010000
END:DAYLIGHT
BEGIN:STANDARD
TZOFFSETFROM:+0100
TZOFFSETTO:+0000
TZNAME:GMT
DTSTART:20221030T010000
END:STANDARD
BEGIN:DAYLIGHT
TZOFFSETFROM:+0000
TZOFFSETTO:+0100
TZNAME:BST
DTSTART:20230326T010000
END:DAYLIGHT
BEGIN:STANDARD
TZOFFSETFROM:+0100
TZOFFSETTO:+0000
TZNAME:GMT
DTSTART:20231029T010000
END:STANDARD
BEGIN:DAYLIGHT
TZOFFSETFROM:+0000
TZOFFSETTO:+0100
TZNAME:BST
DTSTART:20240331T010000
END:DAYLIGHT
BEGIN:STANDARD
TZOFFSETFROM:+0100
TZOFFSETTO:+0000
TZNAME:GMT
DTSTART:20241027T010000
END:STANDARD
END:VTIMEZONE
BEGIN:VEVENT
DTSTART;TZID=Europe/London:20231127T143000
DTEND;TZID=Europe/London:20231127T160000
DTSTAMP:20260424T161908
CREATED:20221006T143912Z
LAST-MODIFIED:20221007T165150Z
UID:10002705-1701095400-1701100800@www.hovemethodistchurch.co.uk
SUMMARY:The Monday Guild
DESCRIPTION:Drop-in fellowship group in the church.
URL:https://www.hovemethodistchurch.co.uk/event/the-monday-guild/2023-11-27/
LOCATION:Hove Methodist Church
CATEGORIES:Religious & Spiritual,Social
ATTACH;FMTTYPE=image/jpeg:https://www.hovemethodistchurch.co.uk/wp-content/uploads/2022/10/the-monday-guild-logo.jpg
END:VEVENT
BEGIN:VEVENT
DTSTART;TZID=Europe/London:20231126T103000
DTEND;TZID=Europe/London:20231126T120000
DTSTAMP:20260424T161908
CREATED:20221117T151805Z
LAST-MODIFIED:20231027T140411Z
UID:10009128-1700994600-1701000000@www.hovemethodistchurch.co.uk
SUMMARY:Hove Methodists Sunday Worship
DESCRIPTION:In the Sanctuary\, all welcome.
URL:https://www.hovemethodistchurch.co.uk/event/hove-methodists-sunday-worship/2023-11-26/
LOCATION:Hove Methodist Church
CATEGORIES:Religious & Spiritual
ATTACH;FMTTYPE=image/jpeg:https://www.hovemethodistchurch.co.uk/wp-content/uploads/2022/10/hmc-logo_600x387.jpg
END:VEVENT
BEGIN:VEVENT
DTSTART;TZID=Europe/London:20231120T143000
DTEND;TZID=Europe/London:20231120T160000
DTSTAMP:20260424T161908
CREATED:20221006T143912Z
LAST-MODIFIED:20221007T165150Z
UID:10002704-1700490600-1700496000@www.hovemethodistchurch.co.uk
SUMMARY:The Monday Guild
DESCRIPTION:Drop-in fellowship group in the church.
URL:https://www.hovemethodistchurch.co.uk/event/the-monday-guild/2023-11-20/
LOCATION:Hove Methodist Church
CATEGORIES:Religious & Spiritual,Social
ATTACH;FMTTYPE=image/jpeg:https://www.hovemethodistchurch.co.uk/wp-content/uploads/2022/10/the-monday-guild-logo.jpg
END:VEVENT
BEGIN:VEVENT
DTSTART;TZID=Europe/London:20231119T103000
DTEND;TZID=Europe/London:20231119T120000
DTSTAMP:20260424T161908
CREATED:20221117T151805Z
LAST-MODIFIED:20231027T140411Z
UID:10009127-1700389800-1700395200@www.hovemethodistchurch.co.uk
SUMMARY:Hove Methodists Sunday Worship
DESCRIPTION:In the Sanctuary\, all welcome.
URL:https://www.hovemethodistchurch.co.uk/event/hove-methodists-sunday-worship/2023-11-19/
LOCATION:Hove Methodist Church
CATEGORIES:Religious & Spiritual
ATTACH;FMTTYPE=image/jpeg:https://www.hovemethodistchurch.co.uk/wp-content/uploads/2022/10/hmc-logo_600x387.jpg
END:VEVENT
BEGIN:VEVENT
DTSTART;TZID=Europe/London:20231113T143000
DTEND;TZID=Europe/London:20231113T160000
DTSTAMP:20260424T161908
CREATED:20221006T143912Z
LAST-MODIFIED:20221007T165150Z
UID:10002703-1699885800-1699891200@www.hovemethodistchurch.co.uk
SUMMARY:The Monday Guild
DESCRIPTION:Drop-in fellowship group in the church.
URL:https://www.hovemethodistchurch.co.uk/event/the-monday-guild/2023-11-13/
LOCATION:Hove Methodist Church
CATEGORIES:Religious & Spiritual,Social
ATTACH;FMTTYPE=image/jpeg:https://www.hovemethodistchurch.co.uk/wp-content/uploads/2022/10/the-monday-guild-logo.jpg
END:VEVENT
BEGIN:VEVENT
DTSTART;TZID=Europe/London:20231112T103000
DTEND;TZID=Europe/London:20231112T120000
DTSTAMP:20260424T161908
CREATED:20221117T151805Z
LAST-MODIFIED:20231027T140411Z
UID:10009126-1699785000-1699790400@www.hovemethodistchurch.co.uk
SUMMARY:Hove Methodists Sunday Worship
DESCRIPTION:In the Sanctuary\, all welcome.
URL:https://www.hovemethodistchurch.co.uk/event/hove-methodists-sunday-worship/2023-11-12/
LOCATION:Hove Methodist Church
CATEGORIES:Religious & Spiritual
ATTACH;FMTTYPE=image/jpeg:https://www.hovemethodistchurch.co.uk/wp-content/uploads/2022/10/hmc-logo_600x387.jpg
END:VEVENT
BEGIN:VEVENT
DTSTART;TZID=Europe/London:20231106T143000
DTEND;TZID=Europe/London:20231106T160000
DTSTAMP:20260424T161908
CREATED:20221006T143912Z
LAST-MODIFIED:20221007T165150Z
UID:10002702-1699281000-1699286400@www.hovemethodistchurch.co.uk
SUMMARY:The Monday Guild
DESCRIPTION:Drop-in fellowship group in the church.
URL:https://www.hovemethodistchurch.co.uk/event/the-monday-guild/2023-11-06/
LOCATION:Hove Methodist Church
CATEGORIES:Religious & Spiritual,Social
ATTACH;FMTTYPE=image/jpeg:https://www.hovemethodistchurch.co.uk/wp-content/uploads/2022/10/the-monday-guild-logo.jpg
END:VEVENT
BEGIN:VEVENT
DTSTART;TZID=Europe/London:20231105T103000
DTEND;TZID=Europe/London:20231105T120000
DTSTAMP:20260424T161908
CREATED:20221117T151805Z
LAST-MODIFIED:20231027T140411Z
UID:10009125-1699180200-1699185600@www.hovemethodistchurch.co.uk
SUMMARY:Hove Methodists Sunday Worship
DESCRIPTION:In the Sanctuary\, all welcome.
URL:https://www.hovemethodistchurch.co.uk/event/hove-methodists-sunday-worship/2023-11-05/
LOCATION:Hove Methodist Church
CATEGORIES:Religious & Spiritual
ATTACH;FMTTYPE=image/jpeg:https://www.hovemethodistchurch.co.uk/wp-content/uploads/2022/10/hmc-logo_600x387.jpg
END:VEVENT
BEGIN:VEVENT
DTSTART;TZID=Europe/London:20231030T143000
DTEND;TZID=Europe/London:20231030T160000
DTSTAMP:20260424T161908
CREATED:20221006T143912Z
LAST-MODIFIED:20221007T165150Z
UID:10002701-1698676200-1698681600@www.hovemethodistchurch.co.uk
SUMMARY:The Monday Guild
DESCRIPTION:Drop-in fellowship group in the church.
URL:https://www.hovemethodistchurch.co.uk/event/the-monday-guild/2023-10-30/
LOCATION:Hove Methodist Church
CATEGORIES:Religious & Spiritual,Social
ATTACH;FMTTYPE=image/jpeg:https://www.hovemethodistchurch.co.uk/wp-content/uploads/2022/10/the-monday-guild-logo.jpg
END:VEVENT
BEGIN:VEVENT
DTSTART;TZID=Europe/London:20231029T103000
DTEND;TZID=Europe/London:20231029T120000
DTSTAMP:20260424T161908
CREATED:20221117T151805Z
LAST-MODIFIED:20231027T140411Z
UID:10009124-1698575400-1698580800@www.hovemethodistchurch.co.uk
SUMMARY:Hove Methodists Sunday Worship
DESCRIPTION:In the Sanctuary\, all welcome.
URL:https://www.hovemethodistchurch.co.uk/event/hove-methodists-sunday-worship/2023-10-29/
LOCATION:Hove Methodist Church
CATEGORIES:Religious & Spiritual
ATTACH;FMTTYPE=image/jpeg:https://www.hovemethodistchurch.co.uk/wp-content/uploads/2022/10/hmc-logo_600x387.jpg
END:VEVENT
BEGIN:VEVENT
DTSTART;TZID=Europe/London:20231023T143000
DTEND;TZID=Europe/London:20231023T160000
DTSTAMP:20260424T161908
CREATED:20221006T143912Z
LAST-MODIFIED:20221007T165150Z
UID:10002700-1698071400-1698076800@www.hovemethodistchurch.co.uk
SUMMARY:The Monday Guild
DESCRIPTION:Drop-in fellowship group in the church.
URL:https://www.hovemethodistchurch.co.uk/event/the-monday-guild/2023-10-23/
LOCATION:Hove Methodist Church
CATEGORIES:Religious & Spiritual,Social
ATTACH;FMTTYPE=image/jpeg:https://www.hovemethodistchurch.co.uk/wp-content/uploads/2022/10/the-monday-guild-logo.jpg
END:VEVENT
BEGIN:VEVENT
DTSTART;TZID=Europe/London:20231022T103000
DTEND;TZID=Europe/London:20231022T120000
DTSTAMP:20260424T161908
CREATED:20221117T151805Z
LAST-MODIFIED:20231027T140411Z
UID:10009123-1697970600-1697976000@www.hovemethodistchurch.co.uk
SUMMARY:Hove Methodists Sunday Worship
DESCRIPTION:In the Sanctuary\, all welcome.
URL:https://www.hovemethodistchurch.co.uk/event/hove-methodists-sunday-worship/2023-10-22/
LOCATION:Hove Methodist Church
CATEGORIES:Religious & Spiritual
ATTACH;FMTTYPE=image/jpeg:https://www.hovemethodistchurch.co.uk/wp-content/uploads/2022/10/hmc-logo_600x387.jpg
END:VEVENT
BEGIN:VEVENT
DTSTART;TZID=Europe/London:20231016T143000
DTEND;TZID=Europe/London:20231016T160000
DTSTAMP:20260424T161908
CREATED:20221006T143912Z
LAST-MODIFIED:20221007T165150Z
UID:10002699-1697466600-1697472000@www.hovemethodistchurch.co.uk
SUMMARY:The Monday Guild
DESCRIPTION:Drop-in fellowship group in the church.
URL:https://www.hovemethodistchurch.co.uk/event/the-monday-guild/2023-10-16/
LOCATION:Hove Methodist Church
CATEGORIES:Religious & Spiritual,Social
ATTACH;FMTTYPE=image/jpeg:https://www.hovemethodistchurch.co.uk/wp-content/uploads/2022/10/the-monday-guild-logo.jpg
END:VEVENT
BEGIN:VEVENT
DTSTART;TZID=Europe/London:20231015T103000
DTEND;TZID=Europe/London:20231015T120000
DTSTAMP:20260424T161908
CREATED:20221117T151805Z
LAST-MODIFIED:20231027T140411Z
UID:10009122-1697365800-1697371200@www.hovemethodistchurch.co.uk
SUMMARY:Hove Methodists Sunday Worship
DESCRIPTION:In the Sanctuary\, all welcome.
URL:https://www.hovemethodistchurch.co.uk/event/hove-methodists-sunday-worship/2023-10-15/
LOCATION:Hove Methodist Church
CATEGORIES:Religious & Spiritual
ATTACH;FMTTYPE=image/jpeg:https://www.hovemethodistchurch.co.uk/wp-content/uploads/2022/10/hmc-logo_600x387.jpg
END:VEVENT
BEGIN:VEVENT
DTSTART;TZID=Europe/London:20231009T143000
DTEND;TZID=Europe/London:20231009T160000
DTSTAMP:20260424T161908
CREATED:20221006T143912Z
LAST-MODIFIED:20221007T165150Z
UID:10002698-1696861800-1696867200@www.hovemethodistchurch.co.uk
SUMMARY:The Monday Guild
DESCRIPTION:Drop-in fellowship group in the church.
URL:https://www.hovemethodistchurch.co.uk/event/the-monday-guild/2023-10-09/
LOCATION:Hove Methodist Church
CATEGORIES:Religious & Spiritual,Social
ATTACH;FMTTYPE=image/jpeg:https://www.hovemethodistchurch.co.uk/wp-content/uploads/2022/10/the-monday-guild-logo.jpg
END:VEVENT
BEGIN:VEVENT
DTSTART;TZID=Europe/London:20231008T130000
DTEND;TZID=Europe/London:20231008T170000
DTSTAMP:20260424T161908
CREATED:20221012T150156Z
LAST-MODIFIED:20221012T150156Z
UID:10007077-1696770000-1696784400@www.hovemethodistchurch.co.uk
SUMMARY:Pilgrim Centre (Korean Church) Sunday Service
DESCRIPTION:
URL:https://www.hovemethodistchurch.co.uk/event/pilgrim-centre-korean-church-sunday-service/2023-10-08/
LOCATION:Hove Methodist Church
CATEGORIES:Religious & Spiritual
ATTACH;FMTTYPE=image/jpeg:https://www.hovemethodistchurch.co.uk/wp-content/uploads/2022/10/brighton-korean-church-logo.jpg
END:VEVENT
BEGIN:VEVENT
DTSTART;TZID=Europe/London:20231008T103000
DTEND;TZID=Europe/London:20231008T120000
DTSTAMP:20260424T161908
CREATED:20221117T151805Z
LAST-MODIFIED:20231027T140411Z
UID:10009121-1696761000-1696766400@www.hovemethodistchurch.co.uk
SUMMARY:Hove Methodists Sunday Worship
DESCRIPTION:In the Sanctuary\, all welcome.
URL:https://www.hovemethodistchurch.co.uk/event/hove-methodists-sunday-worship/2023-10-08/
LOCATION:Hove Methodist Church
CATEGORIES:Religious & Spiritual
ATTACH;FMTTYPE=image/jpeg:https://www.hovemethodistchurch.co.uk/wp-content/uploads/2022/10/hmc-logo_600x387.jpg
END:VEVENT
BEGIN:VEVENT
DTSTART;TZID=Europe/London:20231007T100000
DTEND;TZID=Europe/London:20231007T140000
DTSTAMP:20260424T161908
CREATED:20221012T141813Z
LAST-MODIFIED:20221012T143007Z
UID:10006711-1696672800-1696687200@www.hovemethodistchurch.co.uk
SUMMARY:Seventh Day Adventists Service
DESCRIPTION:See brightonandhove.adventistchurch.org.uk/ for details and contacts
URL:https://www.hovemethodistchurch.co.uk/event/seventh-day-adventists-service/2023-10-07/
LOCATION:Hove Methodist Church
CATEGORIES:Religious & Spiritual
ATTACH;FMTTYPE=image/jpeg:https://www.hovemethodistchurch.co.uk/wp-content/uploads/2022/10/seventh-day-adventist-logo.jpg
END:VEVENT
BEGIN:VEVENT
DTSTART;TZID=Europe/London:20231005T103000
DTEND;TZID=Europe/London:20231005T113000
DTSTAMP:20260424T161908
CREATED:20221012T131003Z
LAST-MODIFIED:20221012T145259Z
UID:10005613-1696501800-1696505400@www.hovemethodistchurch.co.uk
SUMMARY:Thursday Midweek Communion
DESCRIPTION:Lively discussion and informal communion with refreshments.
URL:https://www.hovemethodistchurch.co.uk/event/thursday-midweek-communion/2023-10-05/
LOCATION:Hove Methodist Church
CATEGORIES:Religious & Spiritual
ATTACH;FMTTYPE=image/jpeg:https://www.hovemethodistchurch.co.uk/wp-content/uploads/2022/10/hmc-logo_600x387.jpg
END:VEVENT
BEGIN:VEVENT
DTSTART;TZID=Europe/London:20231002T143000
DTEND;TZID=Europe/London:20231002T160000
DTSTAMP:20260424T161908
CREATED:20221006T143912Z
LAST-MODIFIED:20221007T165150Z
UID:10002697-1696257000-1696262400@www.hovemethodistchurch.co.uk
SUMMARY:The Monday Guild
DESCRIPTION:Drop-in fellowship group in the church.
URL:https://www.hovemethodistchurch.co.uk/event/the-monday-guild/2023-10-02/
LOCATION:Hove Methodist Church
CATEGORIES:Religious & Spiritual,Social
ATTACH;FMTTYPE=image/jpeg:https://www.hovemethodistchurch.co.uk/wp-content/uploads/2022/10/the-monday-guild-logo.jpg
END:VEVENT
BEGIN:VEVENT
DTSTART;TZID=Europe/London:20231001T130000
DTEND;TZID=Europe/London:20231001T170000
DTSTAMP:20260424T161908
CREATED:20221012T150156Z
LAST-MODIFIED:20221012T150156Z
UID:10007076-1696165200-1696179600@www.hovemethodistchurch.co.uk
SUMMARY:Pilgrim Centre (Korean Church) Sunday Service
DESCRIPTION:
URL:https://www.hovemethodistchurch.co.uk/event/pilgrim-centre-korean-church-sunday-service/2023-10-01/
LOCATION:Hove Methodist Church
CATEGORIES:Religious & Spiritual
ATTACH;FMTTYPE=image/jpeg:https://www.hovemethodistchurch.co.uk/wp-content/uploads/2022/10/brighton-korean-church-logo.jpg
END:VEVENT
BEGIN:VEVENT
DTSTART;TZID=Europe/London:20231001T103000
DTEND;TZID=Europe/London:20231001T120000
DTSTAMP:20260424T161908
CREATED:20221117T151805Z
LAST-MODIFIED:20231027T140411Z
UID:10009120-1696156200-1696161600@www.hovemethodistchurch.co.uk
SUMMARY:Hove Methodists Sunday Worship
DESCRIPTION:In the Sanctuary\, all welcome.
URL:https://www.hovemethodistchurch.co.uk/event/hove-methodists-sunday-worship/2023-10-01/
LOCATION:Hove Methodist Church
CATEGORIES:Religious & Spiritual
ATTACH;FMTTYPE=image/jpeg:https://www.hovemethodistchurch.co.uk/wp-content/uploads/2022/10/hmc-logo_600x387.jpg
END:VEVENT
BEGIN:VEVENT
DTSTART;TZID=Europe/London:20230930T100000
DTEND;TZID=Europe/London:20230930T140000
DTSTAMP:20260424T161908
CREATED:20221012T141813Z
LAST-MODIFIED:20221012T143007Z
UID:10006710-1696068000-1696082400@www.hovemethodistchurch.co.uk
SUMMARY:Seventh Day Adventists Service
DESCRIPTION:See brightonandhove.adventistchurch.org.uk/ for details and contacts
URL:https://www.hovemethodistchurch.co.uk/event/seventh-day-adventists-service/2023-09-30/
LOCATION:Hove Methodist Church
CATEGORIES:Religious & Spiritual
ATTACH;FMTTYPE=image/jpeg:https://www.hovemethodistchurch.co.uk/wp-content/uploads/2022/10/seventh-day-adventist-logo.jpg
END:VEVENT
BEGIN:VEVENT
DTSTART;TZID=Europe/London:20230928T103000
DTEND;TZID=Europe/London:20230928T113000
DTSTAMP:20260424T161908
CREATED:20221012T131003Z
LAST-MODIFIED:20221012T145259Z
UID:10005612-1695897000-1695900600@www.hovemethodistchurch.co.uk
SUMMARY:Thursday Midweek Communion
DESCRIPTION:Lively discussion and informal communion with refreshments.
URL:https://www.hovemethodistchurch.co.uk/event/thursday-midweek-communion/2023-09-28/
LOCATION:Hove Methodist Church
CATEGORIES:Religious & Spiritual
ATTACH;FMTTYPE=image/jpeg:https://www.hovemethodistchurch.co.uk/wp-content/uploads/2022/10/hmc-logo_600x387.jpg
END:VEVENT
BEGIN:VEVENT
DTSTART;TZID=Europe/London:20230925T143000
DTEND;TZID=Europe/London:20230925T160000
DTSTAMP:20260424T161908
CREATED:20221006T143912Z
LAST-MODIFIED:20221007T165150Z
UID:10002696-1695652200-1695657600@www.hovemethodistchurch.co.uk
SUMMARY:The Monday Guild
DESCRIPTION:Drop-in fellowship group in the church.
URL:https://www.hovemethodistchurch.co.uk/event/the-monday-guild/2023-09-25/
LOCATION:Hove Methodist Church
CATEGORIES:Religious & Spiritual,Social
ATTACH;FMTTYPE=image/jpeg:https://www.hovemethodistchurch.co.uk/wp-content/uploads/2022/10/the-monday-guild-logo.jpg
END:VEVENT
BEGIN:VEVENT
DTSTART;TZID=Europe/London:20230924T130000
DTEND;TZID=Europe/London:20230924T170000
DTSTAMP:20260424T161908
CREATED:20221012T150156Z
LAST-MODIFIED:20221012T150156Z
UID:10007075-1695560400-1695574800@www.hovemethodistchurch.co.uk
SUMMARY:Pilgrim Centre (Korean Church) Sunday Service
DESCRIPTION:
URL:https://www.hovemethodistchurch.co.uk/event/pilgrim-centre-korean-church-sunday-service/2023-09-24/
LOCATION:Hove Methodist Church
CATEGORIES:Religious & Spiritual
ATTACH;FMTTYPE=image/jpeg:https://www.hovemethodistchurch.co.uk/wp-content/uploads/2022/10/brighton-korean-church-logo.jpg
END:VEVENT
BEGIN:VEVENT
DTSTART;TZID=Europe/London:20230924T103000
DTEND;TZID=Europe/London:20230924T120000
DTSTAMP:20260424T161908
CREATED:20221117T151805Z
LAST-MODIFIED:20231027T140411Z
UID:10009119-1695551400-1695556800@www.hovemethodistchurch.co.uk
SUMMARY:Hove Methodists Sunday Worship
DESCRIPTION:In the Sanctuary\, all welcome.
URL:https://www.hovemethodistchurch.co.uk/event/hove-methodists-sunday-worship/2023-09-24/
LOCATION:Hove Methodist Church
CATEGORIES:Religious & Spiritual
ATTACH;FMTTYPE=image/jpeg:https://www.hovemethodistchurch.co.uk/wp-content/uploads/2022/10/hmc-logo_600x387.jpg
END:VEVENT
BEGIN:VEVENT
DTSTART;TZID=Europe/London:20230923T100000
DTEND;TZID=Europe/London:20230923T140000
DTSTAMP:20260424T161908
CREATED:20221012T141813Z
LAST-MODIFIED:20221012T143007Z
UID:10006709-1695463200-1695477600@www.hovemethodistchurch.co.uk
SUMMARY:Seventh Day Adventists Service
DESCRIPTION:See brightonandhove.adventistchurch.org.uk/ for details and contacts
URL:https://www.hovemethodistchurch.co.uk/event/seventh-day-adventists-service/2023-09-23/
LOCATION:Hove Methodist Church
CATEGORIES:Religious & Spiritual
ATTACH;FMTTYPE=image/jpeg:https://www.hovemethodistchurch.co.uk/wp-content/uploads/2022/10/seventh-day-adventist-logo.jpg
END:VEVENT
BEGIN:VEVENT
DTSTART;TZID=Europe/London:20230921T103000
DTEND;TZID=Europe/London:20230921T113000
DTSTAMP:20260424T161908
CREATED:20221012T131003Z
LAST-MODIFIED:20221012T145259Z
UID:10005611-1695292200-1695295800@www.hovemethodistchurch.co.uk
SUMMARY:Thursday Midweek Communion
DESCRIPTION:Lively discussion and informal communion with refreshments.
URL:https://www.hovemethodistchurch.co.uk/event/thursday-midweek-communion/2023-09-21/
LOCATION:Hove Methodist Church
CATEGORIES:Religious & Spiritual
ATTACH;FMTTYPE=image/jpeg:https://www.hovemethodistchurch.co.uk/wp-content/uploads/2022/10/hmc-logo_600x387.jpg
END:VEVENT
BEGIN:VEVENT
DTSTART;TZID=Europe/London:20230918T143000
DTEND;TZID=Europe/London:20230918T160000
DTSTAMP:20260424T161908
CREATED:20221006T143912Z
LAST-MODIFIED:20221007T165150Z
UID:10002695-1695047400-1695052800@www.hovemethodistchurch.co.uk
SUMMARY:The Monday Guild
DESCRIPTION:Drop-in fellowship group in the church.
URL:https://www.hovemethodistchurch.co.uk/event/the-monday-guild/2023-09-18/
LOCATION:Hove Methodist Church
CATEGORIES:Religious & Spiritual,Social
ATTACH;FMTTYPE=image/jpeg:https://www.hovemethodistchurch.co.uk/wp-content/uploads/2022/10/the-monday-guild-logo.jpg
END:VEVENT
END:VCALENDAR