BEGIN:VCALENDAR
VERSION:2.0
PRODID:-//Hove Methodist Church - ECPv6.15.20//NONSGML v1.0//EN
CALSCALE:GREGORIAN
METHOD:PUBLISH
X-WR-CALNAME:Hove Methodist Church
X-ORIGINAL-URL:https://www.hovemethodistchurch.co.uk
X-WR-CALDESC:Events for Hove Methodist Church
REFRESH-INTERVAL;VALUE=DURATION:PT1H
X-Robots-Tag:noindex
X-PUBLISHED-TTL:PT1H
BEGIN:VTIMEZONE
TZID:Europe/London
BEGIN:DAYLIGHT
TZOFFSETFROM:+0000
TZOFFSETTO:+0100
TZNAME:BST
DTSTART:20250330T010000
END:DAYLIGHT
BEGIN:STANDARD
TZOFFSETFROM:+0100
TZOFFSETTO:+0000
TZNAME:GMT
DTSTART:20251026T010000
END:STANDARD
BEGIN:DAYLIGHT
TZOFFSETFROM:+0000
TZOFFSETTO:+0100
TZNAME:BST
DTSTART:20260329T010000
END:DAYLIGHT
BEGIN:STANDARD
TZOFFSETFROM:+0100
TZOFFSETTO:+0000
TZNAME:GMT
DTSTART:20261025T010000
END:STANDARD
BEGIN:DAYLIGHT
TZOFFSETFROM:+0000
TZOFFSETTO:+0100
TZNAME:BST
DTSTART:20270328T010000
END:DAYLIGHT
BEGIN:STANDARD
TZOFFSETFROM:+0100
TZOFFSETTO:+0000
TZNAME:GMT
DTSTART:20271031T010000
END:STANDARD
END:VTIMEZONE
BEGIN:VEVENT
DTSTART;TZID=Europe/London:20260430T093000
DTEND;TZID=Europe/London:20260430T103000
DTSTAMP:20260422T165651
CREATED:20240803T084858Z
LAST-MODIFIED:20240806T130202Z
UID:10024796-1777541400-1777545000@www.hovemethodistchurch.co.uk
SUMMARY:ChiGung
DESCRIPTION:
URL:https://www.hovemethodistchurch.co.uk/event/chigung/2026-04-30/
LOCATION:Hove Methodist Church
ATTACH;FMTTYPE=image/jpeg:https://www.hovemethodistchurch.co.uk/wp-content/uploads/2022/10/nam_yang_600x387.jpg
ORGANIZER;CN="Tom Stiff":MAILTO:tom.stiff@gmail.com
END:VEVENT
BEGIN:VEVENT
DTSTART;TZID=Europe/London:20260430T103000
DTEND;TZID=Europe/London:20260430T113000
DTSTAMP:20260422T165651
CREATED:20240803T085132Z
LAST-MODIFIED:20240806T130115Z
UID:10025057-1777545000-1777548600@www.hovemethodistchurch.co.uk
SUMMARY:Shuang Yang (white crane Tai Chi)
DESCRIPTION:
URL:https://www.hovemethodistchurch.co.uk/event/shuang-yang-white-crane-tai-chi-2/2026-04-30/
LOCATION:Hove Methodist Church
ATTACH;FMTTYPE=image/jpeg:https://www.hovemethodistchurch.co.uk/wp-content/uploads/2022/10/nam_yang_600x387.jpg
ORGANIZER;CN="Tom Stiff":MAILTO:tom.stiff@gmail.com
END:VEVENT
BEGIN:VEVENT
DTSTART;TZID=Europe/London:20260430T113000
DTEND;TZID=Europe/London:20260430T123000
DTSTAMP:20260422T165651
CREATED:20240803T085216Z
LAST-MODIFIED:20240806T130042Z
UID:10025318-1777548600-1777552200@www.hovemethodistchurch.co.uk
SUMMARY:Kung Fu
DESCRIPTION:
URL:https://www.hovemethodistchurch.co.uk/event/kung-fu-2/2026-04-30/
LOCATION:Hove Methodist Church
ATTACH;FMTTYPE=image/jpeg:https://www.hovemethodistchurch.co.uk/wp-content/uploads/2022/10/nam_yang_600x387.jpg
ORGANIZER;CN="Tom Stiff":MAILTO:tom.stiff@gmail.com
END:VEVENT
BEGIN:VEVENT
DTSTART;TZID=Europe/London:20260430T160000
DTEND;TZID=Europe/London:20260430T165000
DTSTAMP:20260422T165651
CREATED:20240111T115706Z
LAST-MODIFIED:20240111T143514Z
UID:10018122-1777564800-1777567800@www.hovemethodistchurch.co.uk
SUMMARY:Junior Kickboxing
DESCRIPTION:In the gym.
URL:https://www.hovemethodistchurch.co.uk/event/junior-kickboxing-3/2026-04-30/
LOCATION:Hove Methodist Church
CATEGORIES:Children,Health & Fitness
ATTACH;FMTTYPE=image/jpeg:https://www.hovemethodistchurch.co.uk/wp-content/uploads/2022/10/nam_yang_600x387.jpg
ORGANIZER;CN="Tom Stiff":MAILTO:tom.stiff@gmail.com
END:VEVENT
BEGIN:VEVENT
DTSTART;TZID=Europe/London:20260430T160000
DTEND;TZID=Europe/London:20260430T210000
DTSTAMP:20260422T165651
CREATED:20250915T123442Z
LAST-MODIFIED:20250915T123442Z
UID:10026877-1777564800-1777582800@www.hovemethodistchurch.co.uk
SUMMARY:Slimming World
DESCRIPTION:In the Hall. \nContact Trish 07821 007 881
URL:https://www.hovemethodistchurch.co.uk/event/slimming-world-5/2026-04-30/
LOCATION:Hove Methodist Church
CATEGORIES:Health & Fitness
ATTACH;FMTTYPE=image/png:https://www.hovemethodistchurch.co.uk/wp-content/uploads/2025/09/Slimming_World2.png
END:VEVENT
BEGIN:VEVENT
DTSTART;TZID=Europe/London:20260430T170000
DTEND;TZID=Europe/London:20260430T180000
DTSTAMP:20260422T165651
CREATED:20240111T115309Z
LAST-MODIFIED:20240111T115508Z
UID:10016496-1777568400-1777572000@www.hovemethodistchurch.co.uk
SUMMARY:Junior Kickboxing
DESCRIPTION:In the gym.
URL:https://www.hovemethodistchurch.co.uk/event/junior-kickboxing-2-2/2026-04-30/
LOCATION:Hove Methodist Church
CATEGORIES:Children,Health & Fitness
ATTACH;FMTTYPE=image/jpeg:https://www.hovemethodistchurch.co.uk/wp-content/uploads/2022/10/nam_yang_600x387.jpg
ORGANIZER;CN="Tom Stiff":MAILTO:tom.stiff@gmail.com
END:VEVENT
BEGIN:VEVENT
DTSTART;TZID=Europe/London:20260430T180000
DTEND;TZID=Europe/London:20260430T190000
DTSTAMP:20260422T165651
CREATED:20240111T114247Z
LAST-MODIFIED:20240111T131212Z
UID:10017279-1777572000-1777575600@www.hovemethodistchurch.co.uk
SUMMARY:Adult Kickboxing
DESCRIPTION:In the gym.
URL:https://www.hovemethodistchurch.co.uk/event/adult-kickboxing-5/2026-04-30/
LOCATION:Hove Methodist Church
CATEGORIES:Health & Fitness
ATTACH;FMTTYPE=image/jpeg:https://www.hovemethodistchurch.co.uk/wp-content/uploads/2022/10/nam_yang_600x387.jpg
ORGANIZER;CN="Tom Stiff":MAILTO:tom.stiff@gmail.com
END:VEVENT
BEGIN:VEVENT
DTSTART;TZID=Europe/London:20260430T190000
DTEND;TZID=Europe/London:20260430T203000
DTSTAMP:20260422T165651
CREATED:20240111T143631Z
LAST-MODIFIED:20240111T150534Z
UID:10018649-1777575600-1777581000@www.hovemethodistchurch.co.uk
SUMMARY:Teens Kickboxing
DESCRIPTION:In the gym.
URL:https://www.hovemethodistchurch.co.uk/event/teens-kickboxing-3/2026-04-30/
LOCATION:Hove Methodist Church
CATEGORIES:Children,Health & Fitness
ATTACH;FMTTYPE=image/jpeg:https://www.hovemethodistchurch.co.uk/wp-content/uploads/2022/10/nam_yang_600x387.jpg
ORGANIZER;CN="Tom Stiff":MAILTO:tom.stiff@gmail.com
END:VEVENT
BEGIN:VEVENT
DTSTART;TZID=Europe/London:20260430T203000
DTEND;TZID=Europe/London:20260430T213000
DTSTAMP:20260422T165651
CREATED:20240111T150627Z
LAST-MODIFIED:20240111T150723Z
UID:10019173-1777581000-1777584600@www.hovemethodistchurch.co.uk
SUMMARY:Adult Kickboxing
DESCRIPTION:In the gym.
URL:https://www.hovemethodistchurch.co.uk/event/adult-kickboxing-4/2026-04-30/
LOCATION:Hove Methodist Church
CATEGORIES:Health & Fitness
ATTACH;FMTTYPE=image/jpeg:https://www.hovemethodistchurch.co.uk/wp-content/uploads/2022/10/nam_yang_600x387.jpg
ORGANIZER;CN="Tom Stiff":MAILTO:tom.stiff@gmail.com
END:VEVENT
END:VCALENDAR