BEGIN:VCALENDAR
VERSION:2.0
PRODID:-//Hove Methodist Church - ECPv6.15.20//NONSGML v1.0//EN
CALSCALE:GREGORIAN
METHOD:PUBLISH
X-WR-CALNAME:Hove Methodist Church
X-ORIGINAL-URL:https://www.hovemethodistchurch.co.uk
X-WR-CALDESC:Events for Hove Methodist Church
REFRESH-INTERVAL;VALUE=DURATION:PT1H
X-Robots-Tag:noindex
X-PUBLISHED-TTL:PT1H
BEGIN:VTIMEZONE
TZID:Europe/London
BEGIN:DAYLIGHT
TZOFFSETFROM:+0000
TZOFFSETTO:+0100
TZNAME:BST
DTSTART:20220327T010000
END:DAYLIGHT
BEGIN:STANDARD
TZOFFSETFROM:+0100
TZOFFSETTO:+0000
TZNAME:GMT
DTSTART:20221030T010000
END:STANDARD
BEGIN:DAYLIGHT
TZOFFSETFROM:+0000
TZOFFSETTO:+0100
TZNAME:BST
DTSTART:20230326T010000
END:DAYLIGHT
BEGIN:STANDARD
TZOFFSETFROM:+0100
TZOFFSETTO:+0000
TZNAME:GMT
DTSTART:20231029T010000
END:STANDARD
BEGIN:DAYLIGHT
TZOFFSETFROM:+0000
TZOFFSETTO:+0100
TZNAME:BST
DTSTART:20240331T010000
END:DAYLIGHT
BEGIN:STANDARD
TZOFFSETFROM:+0100
TZOFFSETTO:+0000
TZNAME:GMT
DTSTART:20241027T010000
END:STANDARD
END:VTIMEZONE
BEGIN:VEVENT
DTSTART;TZID=Europe/London:20230719T180000
DTEND;TZID=Europe/London:20230719T191500
DTSTAMP:20260426T045137
CREATED:20221012T094515Z
LAST-MODIFIED:20221012T134022Z
UID:10005391-1689789600-1689794100@www.hovemethodistchurch.co.uk
SUMMARY:CoDA (Co-Dependents Anonymous) Women’s Group
DESCRIPTION:In the church. Contact Sarah on 07973 291056
URL:https://www.hovemethodistchurch.co.uk/event/coda-co-dependents-anonymous-womens-group/2023-07-19/
LOCATION:Hove Methodist Church
CATEGORIES:Support Groups
ATTACH;FMTTYPE=image/jpeg:https://www.hovemethodistchurch.co.uk/wp-content/uploads/2022/10/coda-logo.jpg
END:VEVENT
BEGIN:VEVENT
DTSTART;VALUE=DATE:20230719
DTEND;VALUE=DATE:20230720
DTSTAMP:20260426T045137
CREATED:20221007T172326Z
LAST-MODIFIED:20221012T152201Z
UID:10005024-1689724800-1689811199@www.hovemethodistchurch.co.uk
SUMMARY:Lamda Drama Classes
DESCRIPTION:Contact Sarah on 07973 291056.
URL:https://www.hovemethodistchurch.co.uk/event/lamda-drama-classes/2023-07-19/
LOCATION:Hove Methodist Church
CATEGORIES:Arts & Entertainment
ATTACH;FMTTYPE=image/jpeg:https://www.hovemethodistchurch.co.uk/wp-content/uploads/2022/10/lamda-logo_600x387.jpg
END:VEVENT
BEGIN:VEVENT
DTSTART;TZID=Europe/London:20230714T120000
DTEND;TZID=Europe/London:20230714T140000
DTSTAMP:20260426T045137
CREATED:20221012T140558Z
LAST-MODIFIED:20221012T140558Z
UID:10006439-1689336000-1689343200@www.hovemethodistchurch.co.uk
SUMMARY:CoDA (Co-Dependents Anonymous) Women’s Group
DESCRIPTION:In the church. Contact Sarah on 07973 291056
URL:https://www.hovemethodistchurch.co.uk/event/coda-co-dependents-anonymous-womens-group-2/2023-07-14/
LOCATION:Hove Methodist Church
CATEGORIES:Support Groups
ATTACH;FMTTYPE=image/jpeg:https://www.hovemethodistchurch.co.uk/wp-content/uploads/2022/10/coda-logo.jpg
END:VEVENT
BEGIN:VEVENT
DTSTART;TZID=Europe/London:20230712T180000
DTEND;TZID=Europe/London:20230712T191500
DTSTAMP:20260426T045137
CREATED:20221012T094515Z
LAST-MODIFIED:20221012T134022Z
UID:10005390-1689184800-1689189300@www.hovemethodistchurch.co.uk
SUMMARY:CoDA (Co-Dependents Anonymous) Women’s Group
DESCRIPTION:In the church. Contact Sarah on 07973 291056
URL:https://www.hovemethodistchurch.co.uk/event/coda-co-dependents-anonymous-womens-group/2023-07-12/
LOCATION:Hove Methodist Church
CATEGORIES:Support Groups
ATTACH;FMTTYPE=image/jpeg:https://www.hovemethodistchurch.co.uk/wp-content/uploads/2022/10/coda-logo.jpg
END:VEVENT
BEGIN:VEVENT
DTSTART;VALUE=DATE:20230712
DTEND;VALUE=DATE:20230713
DTSTAMP:20260426T045137
CREATED:20221007T172326Z
LAST-MODIFIED:20221012T152201Z
UID:10005023-1689120000-1689206399@www.hovemethodistchurch.co.uk
SUMMARY:Lamda Drama Classes
DESCRIPTION:Contact Sarah on 07973 291056.
URL:https://www.hovemethodistchurch.co.uk/event/lamda-drama-classes/2023-07-12/
LOCATION:Hove Methodist Church
CATEGORIES:Arts & Entertainment
ATTACH;FMTTYPE=image/jpeg:https://www.hovemethodistchurch.co.uk/wp-content/uploads/2022/10/lamda-logo_600x387.jpg
END:VEVENT
BEGIN:VEVENT
DTSTART;TZID=Europe/London:20230707T120000
DTEND;TZID=Europe/London:20230707T140000
DTSTAMP:20260426T045137
CREATED:20221012T140558Z
LAST-MODIFIED:20221012T140558Z
UID:10006438-1688731200-1688738400@www.hovemethodistchurch.co.uk
SUMMARY:CoDA (Co-Dependents Anonymous) Women’s Group
DESCRIPTION:In the church. Contact Sarah on 07973 291056
URL:https://www.hovemethodistchurch.co.uk/event/coda-co-dependents-anonymous-womens-group-2/2023-07-07/
LOCATION:Hove Methodist Church
CATEGORIES:Support Groups
ATTACH;FMTTYPE=image/jpeg:https://www.hovemethodistchurch.co.uk/wp-content/uploads/2022/10/coda-logo.jpg
END:VEVENT
BEGIN:VEVENT
DTSTART;TZID=Europe/London:20230705T180000
DTEND;TZID=Europe/London:20230705T191500
DTSTAMP:20260426T045137
CREATED:20221012T094515Z
LAST-MODIFIED:20221012T134022Z
UID:10005389-1688580000-1688584500@www.hovemethodistchurch.co.uk
SUMMARY:CoDA (Co-Dependents Anonymous) Women’s Group
DESCRIPTION:In the church. Contact Sarah on 07973 291056
URL:https://www.hovemethodistchurch.co.uk/event/coda-co-dependents-anonymous-womens-group/2023-07-05/
LOCATION:Hove Methodist Church
CATEGORIES:Support Groups
ATTACH;FMTTYPE=image/jpeg:https://www.hovemethodistchurch.co.uk/wp-content/uploads/2022/10/coda-logo.jpg
END:VEVENT
BEGIN:VEVENT
DTSTART;VALUE=DATE:20230705
DTEND;VALUE=DATE:20230706
DTSTAMP:20260426T045137
CREATED:20221007T172326Z
LAST-MODIFIED:20221012T152201Z
UID:10005022-1688515200-1688601599@www.hovemethodistchurch.co.uk
SUMMARY:Lamda Drama Classes
DESCRIPTION:Contact Sarah on 07973 291056.
URL:https://www.hovemethodistchurch.co.uk/event/lamda-drama-classes/2023-07-05/
LOCATION:Hove Methodist Church
CATEGORIES:Arts & Entertainment
ATTACH;FMTTYPE=image/jpeg:https://www.hovemethodistchurch.co.uk/wp-content/uploads/2022/10/lamda-logo_600x387.jpg
END:VEVENT
BEGIN:VEVENT
DTSTART;TZID=Europe/London:20230630T120000
DTEND;TZID=Europe/London:20230630T140000
DTSTAMP:20260426T045137
CREATED:20221012T140558Z
LAST-MODIFIED:20221012T140558Z
UID:10006437-1688126400-1688133600@www.hovemethodistchurch.co.uk
SUMMARY:CoDA (Co-Dependents Anonymous) Women’s Group
DESCRIPTION:In the church. Contact Sarah on 07973 291056
URL:https://www.hovemethodistchurch.co.uk/event/coda-co-dependents-anonymous-womens-group-2/2023-06-30/
LOCATION:Hove Methodist Church
CATEGORIES:Support Groups
ATTACH;FMTTYPE=image/jpeg:https://www.hovemethodistchurch.co.uk/wp-content/uploads/2022/10/coda-logo.jpg
END:VEVENT
BEGIN:VEVENT
DTSTART;TZID=Europe/London:20230628T180000
DTEND;TZID=Europe/London:20230628T191500
DTSTAMP:20260426T045137
CREATED:20221012T094515Z
LAST-MODIFIED:20221012T134022Z
UID:10005388-1687975200-1687979700@www.hovemethodistchurch.co.uk
SUMMARY:CoDA (Co-Dependents Anonymous) Women’s Group
DESCRIPTION:In the church. Contact Sarah on 07973 291056
URL:https://www.hovemethodistchurch.co.uk/event/coda-co-dependents-anonymous-womens-group/2023-06-28/
LOCATION:Hove Methodist Church
CATEGORIES:Support Groups
ATTACH;FMTTYPE=image/jpeg:https://www.hovemethodistchurch.co.uk/wp-content/uploads/2022/10/coda-logo.jpg
END:VEVENT
BEGIN:VEVENT
DTSTART;VALUE=DATE:20230628
DTEND;VALUE=DATE:20230629
DTSTAMP:20260426T045137
CREATED:20221007T172326Z
LAST-MODIFIED:20221012T152201Z
UID:10005021-1687910400-1687996799@www.hovemethodistchurch.co.uk
SUMMARY:Lamda Drama Classes
DESCRIPTION:Contact Sarah on 07973 291056.
URL:https://www.hovemethodistchurch.co.uk/event/lamda-drama-classes/2023-06-28/
LOCATION:Hove Methodist Church
CATEGORIES:Arts & Entertainment
ATTACH;FMTTYPE=image/jpeg:https://www.hovemethodistchurch.co.uk/wp-content/uploads/2022/10/lamda-logo_600x387.jpg
END:VEVENT
BEGIN:VEVENT
DTSTART;TZID=Europe/London:20230623T120000
DTEND;TZID=Europe/London:20230623T140000
DTSTAMP:20260426T045137
CREATED:20221012T140558Z
LAST-MODIFIED:20221012T140558Z
UID:10006436-1687521600-1687528800@www.hovemethodistchurch.co.uk
SUMMARY:CoDA (Co-Dependents Anonymous) Women’s Group
DESCRIPTION:In the church. Contact Sarah on 07973 291056
URL:https://www.hovemethodistchurch.co.uk/event/coda-co-dependents-anonymous-womens-group-2/2023-06-23/
LOCATION:Hove Methodist Church
CATEGORIES:Support Groups
ATTACH;FMTTYPE=image/jpeg:https://www.hovemethodistchurch.co.uk/wp-content/uploads/2022/10/coda-logo.jpg
END:VEVENT
BEGIN:VEVENT
DTSTART;TZID=Europe/London:20230621T180000
DTEND;TZID=Europe/London:20230621T191500
DTSTAMP:20260426T045137
CREATED:20221012T094515Z
LAST-MODIFIED:20221012T134022Z
UID:10005387-1687370400-1687374900@www.hovemethodistchurch.co.uk
SUMMARY:CoDA (Co-Dependents Anonymous) Women’s Group
DESCRIPTION:In the church. Contact Sarah on 07973 291056
URL:https://www.hovemethodistchurch.co.uk/event/coda-co-dependents-anonymous-womens-group/2023-06-21/
LOCATION:Hove Methodist Church
CATEGORIES:Support Groups
ATTACH;FMTTYPE=image/jpeg:https://www.hovemethodistchurch.co.uk/wp-content/uploads/2022/10/coda-logo.jpg
END:VEVENT
BEGIN:VEVENT
DTSTART;VALUE=DATE:20230621
DTEND;VALUE=DATE:20230622
DTSTAMP:20260426T045137
CREATED:20221007T172326Z
LAST-MODIFIED:20221012T152201Z
UID:10005020-1687305600-1687391999@www.hovemethodistchurch.co.uk
SUMMARY:Lamda Drama Classes
DESCRIPTION:Contact Sarah on 07973 291056.
URL:https://www.hovemethodistchurch.co.uk/event/lamda-drama-classes/2023-06-21/
LOCATION:Hove Methodist Church
CATEGORIES:Arts & Entertainment
ATTACH;FMTTYPE=image/jpeg:https://www.hovemethodistchurch.co.uk/wp-content/uploads/2022/10/lamda-logo_600x387.jpg
END:VEVENT
BEGIN:VEVENT
DTSTART;TZID=Europe/London:20230616T120000
DTEND;TZID=Europe/London:20230616T140000
DTSTAMP:20260426T045137
CREATED:20221012T140558Z
LAST-MODIFIED:20221012T140558Z
UID:10006435-1686916800-1686924000@www.hovemethodistchurch.co.uk
SUMMARY:CoDA (Co-Dependents Anonymous) Women’s Group
DESCRIPTION:In the church. Contact Sarah on 07973 291056
URL:https://www.hovemethodistchurch.co.uk/event/coda-co-dependents-anonymous-womens-group-2/2023-06-16/
LOCATION:Hove Methodist Church
CATEGORIES:Support Groups
ATTACH;FMTTYPE=image/jpeg:https://www.hovemethodistchurch.co.uk/wp-content/uploads/2022/10/coda-logo.jpg
END:VEVENT
BEGIN:VEVENT
DTSTART;TZID=Europe/London:20230614T180000
DTEND;TZID=Europe/London:20230614T191500
DTSTAMP:20260426T045137
CREATED:20221012T094515Z
LAST-MODIFIED:20221012T134022Z
UID:10005386-1686765600-1686770100@www.hovemethodistchurch.co.uk
SUMMARY:CoDA (Co-Dependents Anonymous) Women’s Group
DESCRIPTION:In the church. Contact Sarah on 07973 291056
URL:https://www.hovemethodistchurch.co.uk/event/coda-co-dependents-anonymous-womens-group/2023-06-14/
LOCATION:Hove Methodist Church
CATEGORIES:Support Groups
ATTACH;FMTTYPE=image/jpeg:https://www.hovemethodistchurch.co.uk/wp-content/uploads/2022/10/coda-logo.jpg
END:VEVENT
BEGIN:VEVENT
DTSTART;VALUE=DATE:20230614
DTEND;VALUE=DATE:20230615
DTSTAMP:20260426T045137
CREATED:20221007T172326Z
LAST-MODIFIED:20221012T152201Z
UID:10005019-1686700800-1686787199@www.hovemethodistchurch.co.uk
SUMMARY:Lamda Drama Classes
DESCRIPTION:Contact Sarah on 07973 291056.
URL:https://www.hovemethodistchurch.co.uk/event/lamda-drama-classes/2023-06-14/
LOCATION:Hove Methodist Church
CATEGORIES:Arts & Entertainment
ATTACH;FMTTYPE=image/jpeg:https://www.hovemethodistchurch.co.uk/wp-content/uploads/2022/10/lamda-logo_600x387.jpg
END:VEVENT
BEGIN:VEVENT
DTSTART;TZID=Europe/London:20230609T120000
DTEND;TZID=Europe/London:20230609T140000
DTSTAMP:20260426T045137
CREATED:20221012T140558Z
LAST-MODIFIED:20221012T140558Z
UID:10006434-1686312000-1686319200@www.hovemethodistchurch.co.uk
SUMMARY:CoDA (Co-Dependents Anonymous) Women’s Group
DESCRIPTION:In the church. Contact Sarah on 07973 291056
URL:https://www.hovemethodistchurch.co.uk/event/coda-co-dependents-anonymous-womens-group-2/2023-06-09/
LOCATION:Hove Methodist Church
CATEGORIES:Support Groups
ATTACH;FMTTYPE=image/jpeg:https://www.hovemethodistchurch.co.uk/wp-content/uploads/2022/10/coda-logo.jpg
END:VEVENT
BEGIN:VEVENT
DTSTART;TZID=Europe/London:20230607T180000
DTEND;TZID=Europe/London:20230607T191500
DTSTAMP:20260426T045137
CREATED:20221012T094515Z
LAST-MODIFIED:20221012T134022Z
UID:10005385-1686160800-1686165300@www.hovemethodistchurch.co.uk
SUMMARY:CoDA (Co-Dependents Anonymous) Women’s Group
DESCRIPTION:In the church. Contact Sarah on 07973 291056
URL:https://www.hovemethodistchurch.co.uk/event/coda-co-dependents-anonymous-womens-group/2023-06-07/
LOCATION:Hove Methodist Church
CATEGORIES:Support Groups
ATTACH;FMTTYPE=image/jpeg:https://www.hovemethodistchurch.co.uk/wp-content/uploads/2022/10/coda-logo.jpg
END:VEVENT
BEGIN:VEVENT
DTSTART;VALUE=DATE:20230607
DTEND;VALUE=DATE:20230608
DTSTAMP:20260426T045137
CREATED:20221007T172326Z
LAST-MODIFIED:20221012T152201Z
UID:10005018-1686096000-1686182399@www.hovemethodistchurch.co.uk
SUMMARY:Lamda Drama Classes
DESCRIPTION:Contact Sarah on 07973 291056.
URL:https://www.hovemethodistchurch.co.uk/event/lamda-drama-classes/2023-06-07/
LOCATION:Hove Methodist Church
CATEGORIES:Arts & Entertainment
ATTACH;FMTTYPE=image/jpeg:https://www.hovemethodistchurch.co.uk/wp-content/uploads/2022/10/lamda-logo_600x387.jpg
END:VEVENT
BEGIN:VEVENT
DTSTART;TZID=Europe/London:20230602T120000
DTEND;TZID=Europe/London:20230602T140000
DTSTAMP:20260426T045137
CREATED:20221012T140558Z
LAST-MODIFIED:20221012T140558Z
UID:10006433-1685707200-1685714400@www.hovemethodistchurch.co.uk
SUMMARY:CoDA (Co-Dependents Anonymous) Women’s Group
DESCRIPTION:In the church. Contact Sarah on 07973 291056
URL:https://www.hovemethodistchurch.co.uk/event/coda-co-dependents-anonymous-womens-group-2/2023-06-02/
LOCATION:Hove Methodist Church
CATEGORIES:Support Groups
ATTACH;FMTTYPE=image/jpeg:https://www.hovemethodistchurch.co.uk/wp-content/uploads/2022/10/coda-logo.jpg
END:VEVENT
BEGIN:VEVENT
DTSTART;TZID=Europe/London:20230531T180000
DTEND;TZID=Europe/London:20230531T191500
DTSTAMP:20260426T045137
CREATED:20221012T094515Z
LAST-MODIFIED:20221012T134022Z
UID:10005384-1685556000-1685560500@www.hovemethodistchurch.co.uk
SUMMARY:CoDA (Co-Dependents Anonymous) Women’s Group
DESCRIPTION:In the church. Contact Sarah on 07973 291056
URL:https://www.hovemethodistchurch.co.uk/event/coda-co-dependents-anonymous-womens-group/2023-05-31/
LOCATION:Hove Methodist Church
CATEGORIES:Support Groups
ATTACH;FMTTYPE=image/jpeg:https://www.hovemethodistchurch.co.uk/wp-content/uploads/2022/10/coda-logo.jpg
END:VEVENT
BEGIN:VEVENT
DTSTART;VALUE=DATE:20230531
DTEND;VALUE=DATE:20230601
DTSTAMP:20260426T045137
CREATED:20221007T172326Z
LAST-MODIFIED:20221012T152201Z
UID:10005017-1685491200-1685577599@www.hovemethodistchurch.co.uk
SUMMARY:Lamda Drama Classes
DESCRIPTION:Contact Sarah on 07973 291056.
URL:https://www.hovemethodistchurch.co.uk/event/lamda-drama-classes/2023-05-31/
LOCATION:Hove Methodist Church
CATEGORIES:Arts & Entertainment
ATTACH;FMTTYPE=image/jpeg:https://www.hovemethodistchurch.co.uk/wp-content/uploads/2022/10/lamda-logo_600x387.jpg
END:VEVENT
BEGIN:VEVENT
DTSTART;TZID=Europe/London:20230526T120000
DTEND;TZID=Europe/London:20230526T140000
DTSTAMP:20260426T045137
CREATED:20221012T140558Z
LAST-MODIFIED:20221012T140558Z
UID:10006432-1685102400-1685109600@www.hovemethodistchurch.co.uk
SUMMARY:CoDA (Co-Dependents Anonymous) Women’s Group
DESCRIPTION:In the church. Contact Sarah on 07973 291056
URL:https://www.hovemethodistchurch.co.uk/event/coda-co-dependents-anonymous-womens-group-2/2023-05-26/
LOCATION:Hove Methodist Church
CATEGORIES:Support Groups
ATTACH;FMTTYPE=image/jpeg:https://www.hovemethodistchurch.co.uk/wp-content/uploads/2022/10/coda-logo.jpg
END:VEVENT
BEGIN:VEVENT
DTSTART;TZID=Europe/London:20230524T180000
DTEND;TZID=Europe/London:20230524T191500
DTSTAMP:20260426T045137
CREATED:20221012T094515Z
LAST-MODIFIED:20221012T134022Z
UID:10005383-1684951200-1684955700@www.hovemethodistchurch.co.uk
SUMMARY:CoDA (Co-Dependents Anonymous) Women’s Group
DESCRIPTION:In the church. Contact Sarah on 07973 291056
URL:https://www.hovemethodistchurch.co.uk/event/coda-co-dependents-anonymous-womens-group/2023-05-24/
LOCATION:Hove Methodist Church
CATEGORIES:Support Groups
ATTACH;FMTTYPE=image/jpeg:https://www.hovemethodistchurch.co.uk/wp-content/uploads/2022/10/coda-logo.jpg
END:VEVENT
BEGIN:VEVENT
DTSTART;VALUE=DATE:20230524
DTEND;VALUE=DATE:20230525
DTSTAMP:20260426T045137
CREATED:20221007T172326Z
LAST-MODIFIED:20221012T152201Z
UID:10005016-1684886400-1684972799@www.hovemethodistchurch.co.uk
SUMMARY:Lamda Drama Classes
DESCRIPTION:Contact Sarah on 07973 291056.
URL:https://www.hovemethodistchurch.co.uk/event/lamda-drama-classes/2023-05-24/
LOCATION:Hove Methodist Church
CATEGORIES:Arts & Entertainment
ATTACH;FMTTYPE=image/jpeg:https://www.hovemethodistchurch.co.uk/wp-content/uploads/2022/10/lamda-logo_600x387.jpg
END:VEVENT
BEGIN:VEVENT
DTSTART;TZID=Europe/London:20230519T120000
DTEND;TZID=Europe/London:20230519T140000
DTSTAMP:20260426T045137
CREATED:20221012T140558Z
LAST-MODIFIED:20221012T140558Z
UID:10006431-1684497600-1684504800@www.hovemethodistchurch.co.uk
SUMMARY:CoDA (Co-Dependents Anonymous) Women’s Group
DESCRIPTION:In the church. Contact Sarah on 07973 291056
URL:https://www.hovemethodistchurch.co.uk/event/coda-co-dependents-anonymous-womens-group-2/2023-05-19/
LOCATION:Hove Methodist Church
CATEGORIES:Support Groups
ATTACH;FMTTYPE=image/jpeg:https://www.hovemethodistchurch.co.uk/wp-content/uploads/2022/10/coda-logo.jpg
END:VEVENT
BEGIN:VEVENT
DTSTART;TZID=Europe/London:20230517T180000
DTEND;TZID=Europe/London:20230517T191500
DTSTAMP:20260426T045137
CREATED:20221012T094515Z
LAST-MODIFIED:20221012T134022Z
UID:10005382-1684346400-1684350900@www.hovemethodistchurch.co.uk
SUMMARY:CoDA (Co-Dependents Anonymous) Women’s Group
DESCRIPTION:In the church. Contact Sarah on 07973 291056
URL:https://www.hovemethodistchurch.co.uk/event/coda-co-dependents-anonymous-womens-group/2023-05-17/
LOCATION:Hove Methodist Church
CATEGORIES:Support Groups
ATTACH;FMTTYPE=image/jpeg:https://www.hovemethodistchurch.co.uk/wp-content/uploads/2022/10/coda-logo.jpg
END:VEVENT
BEGIN:VEVENT
DTSTART;VALUE=DATE:20230517
DTEND;VALUE=DATE:20230518
DTSTAMP:20260426T045137
CREATED:20221007T172326Z
LAST-MODIFIED:20221012T152201Z
UID:10005015-1684281600-1684367999@www.hovemethodistchurch.co.uk
SUMMARY:Lamda Drama Classes
DESCRIPTION:Contact Sarah on 07973 291056.
URL:https://www.hovemethodistchurch.co.uk/event/lamda-drama-classes/2023-05-17/
LOCATION:Hove Methodist Church
CATEGORIES:Arts & Entertainment
ATTACH;FMTTYPE=image/jpeg:https://www.hovemethodistchurch.co.uk/wp-content/uploads/2022/10/lamda-logo_600x387.jpg
END:VEVENT
BEGIN:VEVENT
DTSTART;TZID=Europe/London:20230512T120000
DTEND;TZID=Europe/London:20230512T140000
DTSTAMP:20260426T045137
CREATED:20221012T140558Z
LAST-MODIFIED:20221012T140558Z
UID:10006430-1683892800-1683900000@www.hovemethodistchurch.co.uk
SUMMARY:CoDA (Co-Dependents Anonymous) Women’s Group
DESCRIPTION:In the church. Contact Sarah on 07973 291056
URL:https://www.hovemethodistchurch.co.uk/event/coda-co-dependents-anonymous-womens-group-2/2023-05-12/
LOCATION:Hove Methodist Church
CATEGORIES:Support Groups
ATTACH;FMTTYPE=image/jpeg:https://www.hovemethodistchurch.co.uk/wp-content/uploads/2022/10/coda-logo.jpg
END:VEVENT
END:VCALENDAR