BEGIN:VCALENDAR
VERSION:2.0
PRODID:-//Hove Methodist Church - ECPv6.15.20//NONSGML v1.0//EN
CALSCALE:GREGORIAN
METHOD:PUBLISH
X-ORIGINAL-URL:https://www.hovemethodistchurch.co.uk
X-WR-CALDESC:Events for Hove Methodist Church
REFRESH-INTERVAL;VALUE=DURATION:PT1H
X-Robots-Tag:noindex
X-PUBLISHED-TTL:PT1H
BEGIN:VTIMEZONE
TZID:Europe/London
BEGIN:DAYLIGHT
TZOFFSETFROM:+0000
TZOFFSETTO:+0100
TZNAME:BST
DTSTART:20320328T010000
END:DAYLIGHT
BEGIN:STANDARD
TZOFFSETFROM:+0100
TZOFFSETTO:+0000
TZNAME:GMT
DTSTART:20321031T010000
END:STANDARD
BEGIN:DAYLIGHT
TZOFFSETFROM:+0000
TZOFFSETTO:+0100
TZNAME:BST
DTSTART:20330327T010000
END:DAYLIGHT
BEGIN:STANDARD
TZOFFSETFROM:+0100
TZOFFSETTO:+0000
TZNAME:GMT
DTSTART:20331030T010000
END:STANDARD
BEGIN:DAYLIGHT
TZOFFSETFROM:+0000
TZOFFSETTO:+0100
TZNAME:BST
DTSTART:20340326T010000
END:DAYLIGHT
BEGIN:STANDARD
TZOFFSETFROM:+0100
TZOFFSETTO:+0000
TZNAME:GMT
DTSTART:20341029T010000
END:STANDARD
BEGIN:DAYLIGHT
TZOFFSETFROM:+0000
TZOFFSETTO:+0100
TZNAME:BST
DTSTART:20350325T010000
END:DAYLIGHT
BEGIN:STANDARD
TZOFFSETFROM:+0100
TZOFFSETTO:+0000
TZNAME:GMT
DTSTART:20351028T010000
END:STANDARD
END:VTIMEZONE
BEGIN:VEVENT
DTSTART;TZID=Europe/London:20330902T133000
DTEND;TZID=Europe/London:20330902T153000
DTSTAMP:20260420T100238
CREATED:20221116T192917Z
LAST-MODIFIED:20231202T105253Z
UID:10010863-2009280600-2009287800@www.hovemethodistchurch.co.uk
SUMMARY:Polka Tots Baby & Toddler Drop-in
DESCRIPTION:£2 per family.
URL:https://www.hovemethodistchurch.co.uk/event/polka-tots-baby-toddler-drop-in-2/2033-09-02/
LOCATION:Hove Methodist Church
CATEGORIES:Children
ATTACH;FMTTYPE=image/jpeg:https://www.hovemethodistchurch.co.uk/wp-content/uploads/2022/10/polka-dots-logo.jpg
END:VEVENT
BEGIN:VEVENT
DTSTART;TZID=Europe/London:20330909T133000
DTEND;TZID=Europe/London:20330909T153000
DTSTAMP:20260420T100238
CREATED:20221116T192917Z
LAST-MODIFIED:20231202T105253Z
UID:10010864-2009885400-2009892600@www.hovemethodistchurch.co.uk
SUMMARY:Polka Tots Baby & Toddler Drop-in
DESCRIPTION:£2 per family.
URL:https://www.hovemethodistchurch.co.uk/event/polka-tots-baby-toddler-drop-in-2/2033-09-09/
LOCATION:Hove Methodist Church
CATEGORIES:Children
ATTACH;FMTTYPE=image/jpeg:https://www.hovemethodistchurch.co.uk/wp-content/uploads/2022/10/polka-dots-logo.jpg
END:VEVENT
BEGIN:VEVENT
DTSTART;TZID=Europe/London:20330916T133000
DTEND;TZID=Europe/London:20330916T153000
DTSTAMP:20260420T100238
CREATED:20221116T192917Z
LAST-MODIFIED:20231202T105253Z
UID:10010865-2010490200-2010497400@www.hovemethodistchurch.co.uk
SUMMARY:Polka Tots Baby & Toddler Drop-in
DESCRIPTION:£2 per family.
URL:https://www.hovemethodistchurch.co.uk/event/polka-tots-baby-toddler-drop-in-2/2033-09-16/
LOCATION:Hove Methodist Church
CATEGORIES:Children
ATTACH;FMTTYPE=image/jpeg:https://www.hovemethodistchurch.co.uk/wp-content/uploads/2022/10/polka-dots-logo.jpg
END:VEVENT
BEGIN:VEVENT
DTSTART;TZID=Europe/London:20330923T133000
DTEND;TZID=Europe/London:20330923T153000
DTSTAMP:20260420T100238
CREATED:20221116T192917Z
LAST-MODIFIED:20231202T105253Z
UID:10010866-2011095000-2011102200@www.hovemethodistchurch.co.uk
SUMMARY:Polka Tots Baby & Toddler Drop-in
DESCRIPTION:£2 per family.
URL:https://www.hovemethodistchurch.co.uk/event/polka-tots-baby-toddler-drop-in-2/2033-09-23/
LOCATION:Hove Methodist Church
CATEGORIES:Children
ATTACH;FMTTYPE=image/jpeg:https://www.hovemethodistchurch.co.uk/wp-content/uploads/2022/10/polka-dots-logo.jpg
END:VEVENT
BEGIN:VEVENT
DTSTART;TZID=Europe/London:20330930T133000
DTEND;TZID=Europe/London:20330930T153000
DTSTAMP:20260420T100238
CREATED:20221116T192917Z
LAST-MODIFIED:20231202T105253Z
UID:10010867-2011699800-2011707000@www.hovemethodistchurch.co.uk
SUMMARY:Polka Tots Baby & Toddler Drop-in
DESCRIPTION:£2 per family.
URL:https://www.hovemethodistchurch.co.uk/event/polka-tots-baby-toddler-drop-in-2/2033-09-30/
LOCATION:Hove Methodist Church
CATEGORIES:Children
ATTACH;FMTTYPE=image/jpeg:https://www.hovemethodistchurch.co.uk/wp-content/uploads/2022/10/polka-dots-logo.jpg
END:VEVENT
BEGIN:VEVENT
DTSTART;TZID=Europe/London:20331007T133000
DTEND;TZID=Europe/London:20331007T153000
DTSTAMP:20260420T100238
CREATED:20221116T192917Z
LAST-MODIFIED:20231202T105253Z
UID:10010868-2012304600-2012311800@www.hovemethodistchurch.co.uk
SUMMARY:Polka Tots Baby & Toddler Drop-in
DESCRIPTION:£2 per family.
URL:https://www.hovemethodistchurch.co.uk/event/polka-tots-baby-toddler-drop-in-2/2033-10-07/
LOCATION:Hove Methodist Church
CATEGORIES:Children
ATTACH;FMTTYPE=image/jpeg:https://www.hovemethodistchurch.co.uk/wp-content/uploads/2022/10/polka-dots-logo.jpg
END:VEVENT
BEGIN:VEVENT
DTSTART;TZID=Europe/London:20331014T133000
DTEND;TZID=Europe/London:20331014T153000
DTSTAMP:20260420T100238
CREATED:20221116T192917Z
LAST-MODIFIED:20231202T105253Z
UID:10010869-2012909400-2012916600@www.hovemethodistchurch.co.uk
SUMMARY:Polka Tots Baby & Toddler Drop-in
DESCRIPTION:£2 per family.
URL:https://www.hovemethodistchurch.co.uk/event/polka-tots-baby-toddler-drop-in-2/2033-10-14/
LOCATION:Hove Methodist Church
CATEGORIES:Children
ATTACH;FMTTYPE=image/jpeg:https://www.hovemethodistchurch.co.uk/wp-content/uploads/2022/10/polka-dots-logo.jpg
END:VEVENT
BEGIN:VEVENT
DTSTART;TZID=Europe/London:20331021T133000
DTEND;TZID=Europe/London:20331021T153000
DTSTAMP:20260420T100238
CREATED:20221116T192917Z
LAST-MODIFIED:20231202T105253Z
UID:10010870-2013514200-2013521400@www.hovemethodistchurch.co.uk
SUMMARY:Polka Tots Baby & Toddler Drop-in
DESCRIPTION:£2 per family.
URL:https://www.hovemethodistchurch.co.uk/event/polka-tots-baby-toddler-drop-in-2/2033-10-21/
LOCATION:Hove Methodist Church
CATEGORIES:Children
ATTACH;FMTTYPE=image/jpeg:https://www.hovemethodistchurch.co.uk/wp-content/uploads/2022/10/polka-dots-logo.jpg
END:VEVENT
BEGIN:VEVENT
DTSTART;TZID=Europe/London:20331028T133000
DTEND;TZID=Europe/London:20331028T153000
DTSTAMP:20260420T100238
CREATED:20221116T192917Z
LAST-MODIFIED:20231202T105253Z
UID:10010871-2014119000-2014126200@www.hovemethodistchurch.co.uk
SUMMARY:Polka Tots Baby & Toddler Drop-in
DESCRIPTION:£2 per family.
URL:https://www.hovemethodistchurch.co.uk/event/polka-tots-baby-toddler-drop-in-2/2033-10-28/
LOCATION:Hove Methodist Church
CATEGORIES:Children
ATTACH;FMTTYPE=image/jpeg:https://www.hovemethodistchurch.co.uk/wp-content/uploads/2022/10/polka-dots-logo.jpg
END:VEVENT
BEGIN:VEVENT
DTSTART;TZID=Europe/London:20331104T133000
DTEND;TZID=Europe/London:20331104T153000
DTSTAMP:20260420T100238
CREATED:20221116T192917Z
LAST-MODIFIED:20231202T105253Z
UID:10010872-2014723800-2014731000@www.hovemethodistchurch.co.uk
SUMMARY:Polka Tots Baby & Toddler Drop-in
DESCRIPTION:£2 per family.
URL:https://www.hovemethodistchurch.co.uk/event/polka-tots-baby-toddler-drop-in-2/2033-11-04/
LOCATION:Hove Methodist Church
CATEGORIES:Children
ATTACH;FMTTYPE=image/jpeg:https://www.hovemethodistchurch.co.uk/wp-content/uploads/2022/10/polka-dots-logo.jpg
END:VEVENT
BEGIN:VEVENT
DTSTART;TZID=Europe/London:20331111T133000
DTEND;TZID=Europe/London:20331111T153000
DTSTAMP:20260420T100238
CREATED:20221116T192917Z
LAST-MODIFIED:20231202T105253Z
UID:10010873-2015328600-2015335800@www.hovemethodistchurch.co.uk
SUMMARY:Polka Tots Baby & Toddler Drop-in
DESCRIPTION:£2 per family.
URL:https://www.hovemethodistchurch.co.uk/event/polka-tots-baby-toddler-drop-in-2/2033-11-11/
LOCATION:Hove Methodist Church
CATEGORIES:Children
ATTACH;FMTTYPE=image/jpeg:https://www.hovemethodistchurch.co.uk/wp-content/uploads/2022/10/polka-dots-logo.jpg
END:VEVENT
BEGIN:VEVENT
DTSTART;TZID=Europe/London:20331118T133000
DTEND;TZID=Europe/London:20331118T153000
DTSTAMP:20260420T100238
CREATED:20221116T192917Z
LAST-MODIFIED:20231202T105253Z
UID:10010874-2015933400-2015940600@www.hovemethodistchurch.co.uk
SUMMARY:Polka Tots Baby & Toddler Drop-in
DESCRIPTION:£2 per family.
URL:https://www.hovemethodistchurch.co.uk/event/polka-tots-baby-toddler-drop-in-2/2033-11-18/
LOCATION:Hove Methodist Church
CATEGORIES:Children
ATTACH;FMTTYPE=image/jpeg:https://www.hovemethodistchurch.co.uk/wp-content/uploads/2022/10/polka-dots-logo.jpg
END:VEVENT
BEGIN:VEVENT
DTSTART;TZID=Europe/London:20331125T133000
DTEND;TZID=Europe/London:20331125T153000
DTSTAMP:20260420T100238
CREATED:20221116T192917Z
LAST-MODIFIED:20231202T105253Z
UID:10010875-2016538200-2016545400@www.hovemethodistchurch.co.uk
SUMMARY:Polka Tots Baby & Toddler Drop-in
DESCRIPTION:£2 per family.
URL:https://www.hovemethodistchurch.co.uk/event/polka-tots-baby-toddler-drop-in-2/2033-11-25/
LOCATION:Hove Methodist Church
CATEGORIES:Children
ATTACH;FMTTYPE=image/jpeg:https://www.hovemethodistchurch.co.uk/wp-content/uploads/2022/10/polka-dots-logo.jpg
END:VEVENT
BEGIN:VEVENT
DTSTART;TZID=Europe/London:20331202T133000
DTEND;TZID=Europe/London:20331202T153000
DTSTAMP:20260420T100238
CREATED:20221116T192917Z
LAST-MODIFIED:20231202T105253Z
UID:10010876-2017143000-2017150200@www.hovemethodistchurch.co.uk
SUMMARY:Polka Tots Baby & Toddler Drop-in
DESCRIPTION:£2 per family.
URL:https://www.hovemethodistchurch.co.uk/event/polka-tots-baby-toddler-drop-in-2/2033-12-02/
LOCATION:Hove Methodist Church
CATEGORIES:Children
ATTACH;FMTTYPE=image/jpeg:https://www.hovemethodistchurch.co.uk/wp-content/uploads/2022/10/polka-dots-logo.jpg
END:VEVENT
BEGIN:VEVENT
DTSTART;TZID=Europe/London:20331209T133000
DTEND;TZID=Europe/London:20331209T153000
DTSTAMP:20260420T100238
CREATED:20221116T192917Z
LAST-MODIFIED:20231202T105253Z
UID:10010877-2017747800-2017755000@www.hovemethodistchurch.co.uk
SUMMARY:Polka Tots Baby & Toddler Drop-in
DESCRIPTION:£2 per family.
URL:https://www.hovemethodistchurch.co.uk/event/polka-tots-baby-toddler-drop-in-2/2033-12-09/
LOCATION:Hove Methodist Church
CATEGORIES:Children
ATTACH;FMTTYPE=image/jpeg:https://www.hovemethodistchurch.co.uk/wp-content/uploads/2022/10/polka-dots-logo.jpg
END:VEVENT
BEGIN:VEVENT
DTSTART;TZID=Europe/London:20331216T133000
DTEND;TZID=Europe/London:20331216T153000
DTSTAMP:20260420T100238
CREATED:20221116T192917Z
LAST-MODIFIED:20231202T105253Z
UID:10010878-2018352600-2018359800@www.hovemethodistchurch.co.uk
SUMMARY:Polka Tots Baby & Toddler Drop-in
DESCRIPTION:£2 per family.
URL:https://www.hovemethodistchurch.co.uk/event/polka-tots-baby-toddler-drop-in-2/2033-12-16/
LOCATION:Hove Methodist Church
CATEGORIES:Children
ATTACH;FMTTYPE=image/jpeg:https://www.hovemethodistchurch.co.uk/wp-content/uploads/2022/10/polka-dots-logo.jpg
END:VEVENT
BEGIN:VEVENT
DTSTART;TZID=Europe/London:20331223T133000
DTEND;TZID=Europe/London:20331223T153000
DTSTAMP:20260420T100238
CREATED:20221116T192917Z
LAST-MODIFIED:20231202T105253Z
UID:10010879-2018957400-2018964600@www.hovemethodistchurch.co.uk
SUMMARY:Polka Tots Baby & Toddler Drop-in
DESCRIPTION:£2 per family.
URL:https://www.hovemethodistchurch.co.uk/event/polka-tots-baby-toddler-drop-in-2/2033-12-23/
LOCATION:Hove Methodist Church
CATEGORIES:Children
ATTACH;FMTTYPE=image/jpeg:https://www.hovemethodistchurch.co.uk/wp-content/uploads/2022/10/polka-dots-logo.jpg
END:VEVENT
BEGIN:VEVENT
DTSTART;TZID=Europe/London:20331230T133000
DTEND;TZID=Europe/London:20331230T153000
DTSTAMP:20260420T100238
CREATED:20221116T192917Z
LAST-MODIFIED:20231202T105253Z
UID:10010880-2019562200-2019569400@www.hovemethodistchurch.co.uk
SUMMARY:Polka Tots Baby & Toddler Drop-in
DESCRIPTION:£2 per family.
URL:https://www.hovemethodistchurch.co.uk/event/polka-tots-baby-toddler-drop-in-2/2033-12-30/
LOCATION:Hove Methodist Church
CATEGORIES:Children
ATTACH;FMTTYPE=image/jpeg:https://www.hovemethodistchurch.co.uk/wp-content/uploads/2022/10/polka-dots-logo.jpg
END:VEVENT
BEGIN:VEVENT
DTSTART;TZID=Europe/London:20340106T133000
DTEND;TZID=Europe/London:20340106T153000
DTSTAMP:20260420T100238
CREATED:20221116T192917Z
LAST-MODIFIED:20231202T105253Z
UID:10010881-2020167000-2020174200@www.hovemethodistchurch.co.uk
SUMMARY:Polka Tots Baby & Toddler Drop-in
DESCRIPTION:£2 per family.
URL:https://www.hovemethodistchurch.co.uk/event/polka-tots-baby-toddler-drop-in-2/2034-01-06/
LOCATION:Hove Methodist Church
CATEGORIES:Children
ATTACH;FMTTYPE=image/jpeg:https://www.hovemethodistchurch.co.uk/wp-content/uploads/2022/10/polka-dots-logo.jpg
END:VEVENT
BEGIN:VEVENT
DTSTART;TZID=Europe/London:20340113T133000
DTEND;TZID=Europe/London:20340113T153000
DTSTAMP:20260420T100238
CREATED:20221116T192917Z
LAST-MODIFIED:20231202T105253Z
UID:10010882-2020771800-2020779000@www.hovemethodistchurch.co.uk
SUMMARY:Polka Tots Baby & Toddler Drop-in
DESCRIPTION:£2 per family.
URL:https://www.hovemethodistchurch.co.uk/event/polka-tots-baby-toddler-drop-in-2/2034-01-13/
LOCATION:Hove Methodist Church
CATEGORIES:Children
ATTACH;FMTTYPE=image/jpeg:https://www.hovemethodistchurch.co.uk/wp-content/uploads/2022/10/polka-dots-logo.jpg
END:VEVENT
BEGIN:VEVENT
DTSTART;TZID=Europe/London:20340120T133000
DTEND;TZID=Europe/London:20340120T153000
DTSTAMP:20260420T100238
CREATED:20221116T192917Z
LAST-MODIFIED:20231202T105253Z
UID:10010883-2021376600-2021383800@www.hovemethodistchurch.co.uk
SUMMARY:Polka Tots Baby & Toddler Drop-in
DESCRIPTION:£2 per family.
URL:https://www.hovemethodistchurch.co.uk/event/polka-tots-baby-toddler-drop-in-2/2034-01-20/
LOCATION:Hove Methodist Church
CATEGORIES:Children
ATTACH;FMTTYPE=image/jpeg:https://www.hovemethodistchurch.co.uk/wp-content/uploads/2022/10/polka-dots-logo.jpg
END:VEVENT
BEGIN:VEVENT
DTSTART;TZID=Europe/London:20340127T133000
DTEND;TZID=Europe/London:20340127T153000
DTSTAMP:20260420T100238
CREATED:20221116T192917Z
LAST-MODIFIED:20231202T105253Z
UID:10010884-2021981400-2021988600@www.hovemethodistchurch.co.uk
SUMMARY:Polka Tots Baby & Toddler Drop-in
DESCRIPTION:£2 per family.
URL:https://www.hovemethodistchurch.co.uk/event/polka-tots-baby-toddler-drop-in-2/2034-01-27/
LOCATION:Hove Methodist Church
CATEGORIES:Children
ATTACH;FMTTYPE=image/jpeg:https://www.hovemethodistchurch.co.uk/wp-content/uploads/2022/10/polka-dots-logo.jpg
END:VEVENT
BEGIN:VEVENT
DTSTART;TZID=Europe/London:20340203T133000
DTEND;TZID=Europe/London:20340203T153000
DTSTAMP:20260420T100238
CREATED:20221116T192917Z
LAST-MODIFIED:20231202T105253Z
UID:10010885-2022586200-2022593400@www.hovemethodistchurch.co.uk
SUMMARY:Polka Tots Baby & Toddler Drop-in
DESCRIPTION:£2 per family.
URL:https://www.hovemethodistchurch.co.uk/event/polka-tots-baby-toddler-drop-in-2/2034-02-03/
LOCATION:Hove Methodist Church
CATEGORIES:Children
ATTACH;FMTTYPE=image/jpeg:https://www.hovemethodistchurch.co.uk/wp-content/uploads/2022/10/polka-dots-logo.jpg
END:VEVENT
BEGIN:VEVENT
DTSTART;TZID=Europe/London:20340210T133000
DTEND;TZID=Europe/London:20340210T153000
DTSTAMP:20260420T100238
CREATED:20221116T192917Z
LAST-MODIFIED:20231202T105253Z
UID:10010886-2023191000-2023198200@www.hovemethodistchurch.co.uk
SUMMARY:Polka Tots Baby & Toddler Drop-in
DESCRIPTION:£2 per family.
URL:https://www.hovemethodistchurch.co.uk/event/polka-tots-baby-toddler-drop-in-2/2034-02-10/
LOCATION:Hove Methodist Church
CATEGORIES:Children
ATTACH;FMTTYPE=image/jpeg:https://www.hovemethodistchurch.co.uk/wp-content/uploads/2022/10/polka-dots-logo.jpg
END:VEVENT
BEGIN:VEVENT
DTSTART;TZID=Europe/London:20340217T133000
DTEND;TZID=Europe/London:20340217T153000
DTSTAMP:20260420T100238
CREATED:20221116T192917Z
LAST-MODIFIED:20231202T105253Z
UID:10010887-2023795800-2023803000@www.hovemethodistchurch.co.uk
SUMMARY:Polka Tots Baby & Toddler Drop-in
DESCRIPTION:£2 per family.
URL:https://www.hovemethodistchurch.co.uk/event/polka-tots-baby-toddler-drop-in-2/2034-02-17/
LOCATION:Hove Methodist Church
CATEGORIES:Children
ATTACH;FMTTYPE=image/jpeg:https://www.hovemethodistchurch.co.uk/wp-content/uploads/2022/10/polka-dots-logo.jpg
END:VEVENT
BEGIN:VEVENT
DTSTART;TZID=Europe/London:20340224T133000
DTEND;TZID=Europe/London:20340224T153000
DTSTAMP:20260420T100238
CREATED:20221116T192917Z
LAST-MODIFIED:20231202T105253Z
UID:10010888-2024400600-2024407800@www.hovemethodistchurch.co.uk
SUMMARY:Polka Tots Baby & Toddler Drop-in
DESCRIPTION:£2 per family.
URL:https://www.hovemethodistchurch.co.uk/event/polka-tots-baby-toddler-drop-in-2/2034-02-24/
LOCATION:Hove Methodist Church
CATEGORIES:Children
ATTACH;FMTTYPE=image/jpeg:https://www.hovemethodistchurch.co.uk/wp-content/uploads/2022/10/polka-dots-logo.jpg
END:VEVENT
BEGIN:VEVENT
DTSTART;TZID=Europe/London:20340303T133000
DTEND;TZID=Europe/London:20340303T153000
DTSTAMP:20260420T100238
CREATED:20221116T192917Z
LAST-MODIFIED:20231202T105253Z
UID:10010889-2025005400-2025012600@www.hovemethodistchurch.co.uk
SUMMARY:Polka Tots Baby & Toddler Drop-in
DESCRIPTION:£2 per family.
URL:https://www.hovemethodistchurch.co.uk/event/polka-tots-baby-toddler-drop-in-2/2034-03-03/
LOCATION:Hove Methodist Church
CATEGORIES:Children
ATTACH;FMTTYPE=image/jpeg:https://www.hovemethodistchurch.co.uk/wp-content/uploads/2022/10/polka-dots-logo.jpg
END:VEVENT
BEGIN:VEVENT
DTSTART;TZID=Europe/London:20340310T133000
DTEND;TZID=Europe/London:20340310T153000
DTSTAMP:20260420T100238
CREATED:20221116T192917Z
LAST-MODIFIED:20231202T105253Z
UID:10010890-2025610200-2025617400@www.hovemethodistchurch.co.uk
SUMMARY:Polka Tots Baby & Toddler Drop-in
DESCRIPTION:£2 per family.
URL:https://www.hovemethodistchurch.co.uk/event/polka-tots-baby-toddler-drop-in-2/2034-03-10/
LOCATION:Hove Methodist Church
CATEGORIES:Children
ATTACH;FMTTYPE=image/jpeg:https://www.hovemethodistchurch.co.uk/wp-content/uploads/2022/10/polka-dots-logo.jpg
END:VEVENT
BEGIN:VEVENT
DTSTART;TZID=Europe/London:20340317T133000
DTEND;TZID=Europe/London:20340317T153000
DTSTAMP:20260420T100238
CREATED:20221116T192917Z
LAST-MODIFIED:20231202T105253Z
UID:10010891-2026215000-2026222200@www.hovemethodistchurch.co.uk
SUMMARY:Polka Tots Baby & Toddler Drop-in
DESCRIPTION:£2 per family.
URL:https://www.hovemethodistchurch.co.uk/event/polka-tots-baby-toddler-drop-in-2/2034-03-17/
LOCATION:Hove Methodist Church
CATEGORIES:Children
ATTACH;FMTTYPE=image/jpeg:https://www.hovemethodistchurch.co.uk/wp-content/uploads/2022/10/polka-dots-logo.jpg
END:VEVENT
BEGIN:VEVENT
DTSTART;TZID=Europe/London:20340324T133000
DTEND;TZID=Europe/London:20340324T153000
DTSTAMP:20260420T100238
CREATED:20221116T192917Z
LAST-MODIFIED:20231202T105253Z
UID:10010892-2026819800-2026827000@www.hovemethodistchurch.co.uk
SUMMARY:Polka Tots Baby & Toddler Drop-in
DESCRIPTION:£2 per family.
URL:https://www.hovemethodistchurch.co.uk/event/polka-tots-baby-toddler-drop-in-2/2034-03-24/
LOCATION:Hove Methodist Church
CATEGORIES:Children
ATTACH;FMTTYPE=image/jpeg:https://www.hovemethodistchurch.co.uk/wp-content/uploads/2022/10/polka-dots-logo.jpg
END:VEVENT
END:VCALENDAR