BEGIN:VCALENDAR
VERSION:2.0
PRODID:-//Hove Methodist Church - ECPv6.15.20//NONSGML v1.0//EN
CALSCALE:GREGORIAN
METHOD:PUBLISH
X-ORIGINAL-URL:https://www.hovemethodistchurch.co.uk
X-WR-CALDESC:Events for Hove Methodist Church
REFRESH-INTERVAL;VALUE=DURATION:PT1H
X-Robots-Tag:noindex
X-PUBLISHED-TTL:PT1H
BEGIN:VTIMEZONE
TZID:Europe/London
BEGIN:DAYLIGHT
TZOFFSETFROM:+0000
TZOFFSETTO:+0100
TZNAME:BST
DTSTART:20310330T010000
END:DAYLIGHT
BEGIN:STANDARD
TZOFFSETFROM:+0100
TZOFFSETTO:+0000
TZNAME:GMT
DTSTART:20311026T010000
END:STANDARD
BEGIN:DAYLIGHT
TZOFFSETFROM:+0000
TZOFFSETTO:+0100
TZNAME:BST
DTSTART:20320328T010000
END:DAYLIGHT
BEGIN:STANDARD
TZOFFSETFROM:+0100
TZOFFSETTO:+0000
TZNAME:GMT
DTSTART:20321031T010000
END:STANDARD
BEGIN:DAYLIGHT
TZOFFSETFROM:+0000
TZOFFSETTO:+0100
TZNAME:BST
DTSTART:20330327T010000
END:DAYLIGHT
BEGIN:STANDARD
TZOFFSETFROM:+0100
TZOFFSETTO:+0000
TZNAME:GMT
DTSTART:20331030T010000
END:STANDARD
BEGIN:DAYLIGHT
TZOFFSETFROM:+0000
TZOFFSETTO:+0100
TZNAME:BST
DTSTART:20340326T010000
END:DAYLIGHT
BEGIN:STANDARD
TZOFFSETFROM:+0100
TZOFFSETTO:+0000
TZNAME:GMT
DTSTART:20341029T010000
END:STANDARD
END:VTIMEZONE
BEGIN:VEVENT
DTSTART;TZID=Europe/London:20321001T133000
DTEND;TZID=Europe/London:20321001T153000
DTSTAMP:20260420T030905
CREATED:20221116T192917Z
LAST-MODIFIED:20231202T105253Z
UID:10010815-1980250200-1980257400@www.hovemethodistchurch.co.uk
SUMMARY:Polka Tots Baby & Toddler Drop-in
DESCRIPTION:£2 per family.
URL:https://www.hovemethodistchurch.co.uk/event/polka-tots-baby-toddler-drop-in-2/2032-10-01/
LOCATION:Hove Methodist Church
CATEGORIES:Children
ATTACH;FMTTYPE=image/jpeg:https://www.hovemethodistchurch.co.uk/wp-content/uploads/2022/10/polka-dots-logo.jpg
END:VEVENT
BEGIN:VEVENT
DTSTART;TZID=Europe/London:20321008T133000
DTEND;TZID=Europe/London:20321008T153000
DTSTAMP:20260420T030905
CREATED:20221116T192917Z
LAST-MODIFIED:20231202T105253Z
UID:10010816-1980855000-1980862200@www.hovemethodistchurch.co.uk
SUMMARY:Polka Tots Baby & Toddler Drop-in
DESCRIPTION:£2 per family.
URL:https://www.hovemethodistchurch.co.uk/event/polka-tots-baby-toddler-drop-in-2/2032-10-08/
LOCATION:Hove Methodist Church
CATEGORIES:Children
ATTACH;FMTTYPE=image/jpeg:https://www.hovemethodistchurch.co.uk/wp-content/uploads/2022/10/polka-dots-logo.jpg
END:VEVENT
BEGIN:VEVENT
DTSTART;TZID=Europe/London:20321015T133000
DTEND;TZID=Europe/London:20321015T153000
DTSTAMP:20260420T030905
CREATED:20221116T192917Z
LAST-MODIFIED:20231202T105253Z
UID:10010817-1981459800-1981467000@www.hovemethodistchurch.co.uk
SUMMARY:Polka Tots Baby & Toddler Drop-in
DESCRIPTION:£2 per family.
URL:https://www.hovemethodistchurch.co.uk/event/polka-tots-baby-toddler-drop-in-2/2032-10-15/
LOCATION:Hove Methodist Church
CATEGORIES:Children
ATTACH;FMTTYPE=image/jpeg:https://www.hovemethodistchurch.co.uk/wp-content/uploads/2022/10/polka-dots-logo.jpg
END:VEVENT
BEGIN:VEVENT
DTSTART;TZID=Europe/London:20321022T133000
DTEND;TZID=Europe/London:20321022T153000
DTSTAMP:20260420T030905
CREATED:20221116T192917Z
LAST-MODIFIED:20231202T105253Z
UID:10010818-1982064600-1982071800@www.hovemethodistchurch.co.uk
SUMMARY:Polka Tots Baby & Toddler Drop-in
DESCRIPTION:£2 per family.
URL:https://www.hovemethodistchurch.co.uk/event/polka-tots-baby-toddler-drop-in-2/2032-10-22/
LOCATION:Hove Methodist Church
CATEGORIES:Children
ATTACH;FMTTYPE=image/jpeg:https://www.hovemethodistchurch.co.uk/wp-content/uploads/2022/10/polka-dots-logo.jpg
END:VEVENT
BEGIN:VEVENT
DTSTART;TZID=Europe/London:20321029T133000
DTEND;TZID=Europe/London:20321029T153000
DTSTAMP:20260420T030905
CREATED:20221116T192917Z
LAST-MODIFIED:20231202T105253Z
UID:10010819-1982669400-1982676600@www.hovemethodistchurch.co.uk
SUMMARY:Polka Tots Baby & Toddler Drop-in
DESCRIPTION:£2 per family.
URL:https://www.hovemethodistchurch.co.uk/event/polka-tots-baby-toddler-drop-in-2/2032-10-29/
LOCATION:Hove Methodist Church
CATEGORIES:Children
ATTACH;FMTTYPE=image/jpeg:https://www.hovemethodistchurch.co.uk/wp-content/uploads/2022/10/polka-dots-logo.jpg
END:VEVENT
BEGIN:VEVENT
DTSTART;TZID=Europe/London:20321105T133000
DTEND;TZID=Europe/London:20321105T153000
DTSTAMP:20260420T030905
CREATED:20221116T192917Z
LAST-MODIFIED:20231202T105253Z
UID:10010820-1983274200-1983281400@www.hovemethodistchurch.co.uk
SUMMARY:Polka Tots Baby & Toddler Drop-in
DESCRIPTION:£2 per family.
URL:https://www.hovemethodistchurch.co.uk/event/polka-tots-baby-toddler-drop-in-2/2032-11-05/
LOCATION:Hove Methodist Church
CATEGORIES:Children
ATTACH;FMTTYPE=image/jpeg:https://www.hovemethodistchurch.co.uk/wp-content/uploads/2022/10/polka-dots-logo.jpg
END:VEVENT
BEGIN:VEVENT
DTSTART;TZID=Europe/London:20321112T133000
DTEND;TZID=Europe/London:20321112T153000
DTSTAMP:20260420T030905
CREATED:20221116T192917Z
LAST-MODIFIED:20231202T105253Z
UID:10010821-1983879000-1983886200@www.hovemethodistchurch.co.uk
SUMMARY:Polka Tots Baby & Toddler Drop-in
DESCRIPTION:£2 per family.
URL:https://www.hovemethodistchurch.co.uk/event/polka-tots-baby-toddler-drop-in-2/2032-11-12/
LOCATION:Hove Methodist Church
CATEGORIES:Children
ATTACH;FMTTYPE=image/jpeg:https://www.hovemethodistchurch.co.uk/wp-content/uploads/2022/10/polka-dots-logo.jpg
END:VEVENT
BEGIN:VEVENT
DTSTART;TZID=Europe/London:20321119T133000
DTEND;TZID=Europe/London:20321119T153000
DTSTAMP:20260420T030905
CREATED:20221116T192917Z
LAST-MODIFIED:20231202T105253Z
UID:10010822-1984483800-1984491000@www.hovemethodistchurch.co.uk
SUMMARY:Polka Tots Baby & Toddler Drop-in
DESCRIPTION:£2 per family.
URL:https://www.hovemethodistchurch.co.uk/event/polka-tots-baby-toddler-drop-in-2/2032-11-19/
LOCATION:Hove Methodist Church
CATEGORIES:Children
ATTACH;FMTTYPE=image/jpeg:https://www.hovemethodistchurch.co.uk/wp-content/uploads/2022/10/polka-dots-logo.jpg
END:VEVENT
BEGIN:VEVENT
DTSTART;TZID=Europe/London:20321126T133000
DTEND;TZID=Europe/London:20321126T153000
DTSTAMP:20260420T030905
CREATED:20221116T192917Z
LAST-MODIFIED:20231202T105253Z
UID:10010823-1985088600-1985095800@www.hovemethodistchurch.co.uk
SUMMARY:Polka Tots Baby & Toddler Drop-in
DESCRIPTION:£2 per family.
URL:https://www.hovemethodistchurch.co.uk/event/polka-tots-baby-toddler-drop-in-2/2032-11-26/
LOCATION:Hove Methodist Church
CATEGORIES:Children
ATTACH;FMTTYPE=image/jpeg:https://www.hovemethodistchurch.co.uk/wp-content/uploads/2022/10/polka-dots-logo.jpg
END:VEVENT
BEGIN:VEVENT
DTSTART;TZID=Europe/London:20321203T133000
DTEND;TZID=Europe/London:20321203T153000
DTSTAMP:20260420T030905
CREATED:20221116T192917Z
LAST-MODIFIED:20231202T105253Z
UID:10010824-1985693400-1985700600@www.hovemethodistchurch.co.uk
SUMMARY:Polka Tots Baby & Toddler Drop-in
DESCRIPTION:£2 per family.
URL:https://www.hovemethodistchurch.co.uk/event/polka-tots-baby-toddler-drop-in-2/2032-12-03/
LOCATION:Hove Methodist Church
CATEGORIES:Children
ATTACH;FMTTYPE=image/jpeg:https://www.hovemethodistchurch.co.uk/wp-content/uploads/2022/10/polka-dots-logo.jpg
END:VEVENT
BEGIN:VEVENT
DTSTART;TZID=Europe/London:20321210T133000
DTEND;TZID=Europe/London:20321210T153000
DTSTAMP:20260420T030905
CREATED:20221116T192917Z
LAST-MODIFIED:20231202T105253Z
UID:10010825-1986298200-1986305400@www.hovemethodistchurch.co.uk
SUMMARY:Polka Tots Baby & Toddler Drop-in
DESCRIPTION:£2 per family.
URL:https://www.hovemethodistchurch.co.uk/event/polka-tots-baby-toddler-drop-in-2/2032-12-10/
LOCATION:Hove Methodist Church
CATEGORIES:Children
ATTACH;FMTTYPE=image/jpeg:https://www.hovemethodistchurch.co.uk/wp-content/uploads/2022/10/polka-dots-logo.jpg
END:VEVENT
BEGIN:VEVENT
DTSTART;TZID=Europe/London:20321217T133000
DTEND;TZID=Europe/London:20321217T153000
DTSTAMP:20260420T030905
CREATED:20221116T192917Z
LAST-MODIFIED:20231202T105253Z
UID:10010826-1986903000-1986910200@www.hovemethodistchurch.co.uk
SUMMARY:Polka Tots Baby & Toddler Drop-in
DESCRIPTION:£2 per family.
URL:https://www.hovemethodistchurch.co.uk/event/polka-tots-baby-toddler-drop-in-2/2032-12-17/
LOCATION:Hove Methodist Church
CATEGORIES:Children
ATTACH;FMTTYPE=image/jpeg:https://www.hovemethodistchurch.co.uk/wp-content/uploads/2022/10/polka-dots-logo.jpg
END:VEVENT
BEGIN:VEVENT
DTSTART;TZID=Europe/London:20321224T133000
DTEND;TZID=Europe/London:20321224T153000
DTSTAMP:20260420T030905
CREATED:20221116T192917Z
LAST-MODIFIED:20231202T105253Z
UID:10010827-1987507800-1987515000@www.hovemethodistchurch.co.uk
SUMMARY:Polka Tots Baby & Toddler Drop-in
DESCRIPTION:£2 per family.
URL:https://www.hovemethodistchurch.co.uk/event/polka-tots-baby-toddler-drop-in-2/2032-12-24/
LOCATION:Hove Methodist Church
CATEGORIES:Children
ATTACH;FMTTYPE=image/jpeg:https://www.hovemethodistchurch.co.uk/wp-content/uploads/2022/10/polka-dots-logo.jpg
END:VEVENT
BEGIN:VEVENT
DTSTART;TZID=Europe/London:20321231T133000
DTEND;TZID=Europe/London:20321231T153000
DTSTAMP:20260420T030905
CREATED:20221116T192917Z
LAST-MODIFIED:20231202T105253Z
UID:10010828-1988112600-1988119800@www.hovemethodistchurch.co.uk
SUMMARY:Polka Tots Baby & Toddler Drop-in
DESCRIPTION:£2 per family.
URL:https://www.hovemethodistchurch.co.uk/event/polka-tots-baby-toddler-drop-in-2/2032-12-31/
LOCATION:Hove Methodist Church
CATEGORIES:Children
ATTACH;FMTTYPE=image/jpeg:https://www.hovemethodistchurch.co.uk/wp-content/uploads/2022/10/polka-dots-logo.jpg
END:VEVENT
BEGIN:VEVENT
DTSTART;TZID=Europe/London:20330107T133000
DTEND;TZID=Europe/London:20330107T153000
DTSTAMP:20260420T030905
CREATED:20221116T192917Z
LAST-MODIFIED:20231202T105253Z
UID:10010829-1988717400-1988724600@www.hovemethodistchurch.co.uk
SUMMARY:Polka Tots Baby & Toddler Drop-in
DESCRIPTION:£2 per family.
URL:https://www.hovemethodistchurch.co.uk/event/polka-tots-baby-toddler-drop-in-2/2033-01-07/
LOCATION:Hove Methodist Church
CATEGORIES:Children
ATTACH;FMTTYPE=image/jpeg:https://www.hovemethodistchurch.co.uk/wp-content/uploads/2022/10/polka-dots-logo.jpg
END:VEVENT
BEGIN:VEVENT
DTSTART;TZID=Europe/London:20330114T133000
DTEND;TZID=Europe/London:20330114T153000
DTSTAMP:20260420T030905
CREATED:20221116T192917Z
LAST-MODIFIED:20231202T105253Z
UID:10010830-1989322200-1989329400@www.hovemethodistchurch.co.uk
SUMMARY:Polka Tots Baby & Toddler Drop-in
DESCRIPTION:£2 per family.
URL:https://www.hovemethodistchurch.co.uk/event/polka-tots-baby-toddler-drop-in-2/2033-01-14/
LOCATION:Hove Methodist Church
CATEGORIES:Children
ATTACH;FMTTYPE=image/jpeg:https://www.hovemethodistchurch.co.uk/wp-content/uploads/2022/10/polka-dots-logo.jpg
END:VEVENT
BEGIN:VEVENT
DTSTART;TZID=Europe/London:20330121T133000
DTEND;TZID=Europe/London:20330121T153000
DTSTAMP:20260420T030905
CREATED:20221116T192917Z
LAST-MODIFIED:20231202T105253Z
UID:10010831-1989927000-1989934200@www.hovemethodistchurch.co.uk
SUMMARY:Polka Tots Baby & Toddler Drop-in
DESCRIPTION:£2 per family.
URL:https://www.hovemethodistchurch.co.uk/event/polka-tots-baby-toddler-drop-in-2/2033-01-21/
LOCATION:Hove Methodist Church
CATEGORIES:Children
ATTACH;FMTTYPE=image/jpeg:https://www.hovemethodistchurch.co.uk/wp-content/uploads/2022/10/polka-dots-logo.jpg
END:VEVENT
BEGIN:VEVENT
DTSTART;TZID=Europe/London:20330128T133000
DTEND;TZID=Europe/London:20330128T153000
DTSTAMP:20260420T030905
CREATED:20221116T192917Z
LAST-MODIFIED:20231202T105253Z
UID:10010832-1990531800-1990539000@www.hovemethodistchurch.co.uk
SUMMARY:Polka Tots Baby & Toddler Drop-in
DESCRIPTION:£2 per family.
URL:https://www.hovemethodistchurch.co.uk/event/polka-tots-baby-toddler-drop-in-2/2033-01-28/
LOCATION:Hove Methodist Church
CATEGORIES:Children
ATTACH;FMTTYPE=image/jpeg:https://www.hovemethodistchurch.co.uk/wp-content/uploads/2022/10/polka-dots-logo.jpg
END:VEVENT
BEGIN:VEVENT
DTSTART;TZID=Europe/London:20330204T133000
DTEND;TZID=Europe/London:20330204T153000
DTSTAMP:20260420T030905
CREATED:20221116T192917Z
LAST-MODIFIED:20231202T105253Z
UID:10010833-1991136600-1991143800@www.hovemethodistchurch.co.uk
SUMMARY:Polka Tots Baby & Toddler Drop-in
DESCRIPTION:£2 per family.
URL:https://www.hovemethodistchurch.co.uk/event/polka-tots-baby-toddler-drop-in-2/2033-02-04/
LOCATION:Hove Methodist Church
CATEGORIES:Children
ATTACH;FMTTYPE=image/jpeg:https://www.hovemethodistchurch.co.uk/wp-content/uploads/2022/10/polka-dots-logo.jpg
END:VEVENT
BEGIN:VEVENT
DTSTART;TZID=Europe/London:20330211T133000
DTEND;TZID=Europe/London:20330211T153000
DTSTAMP:20260420T030905
CREATED:20221116T192917Z
LAST-MODIFIED:20231202T105253Z
UID:10010834-1991741400-1991748600@www.hovemethodistchurch.co.uk
SUMMARY:Polka Tots Baby & Toddler Drop-in
DESCRIPTION:£2 per family.
URL:https://www.hovemethodistchurch.co.uk/event/polka-tots-baby-toddler-drop-in-2/2033-02-11/
LOCATION:Hove Methodist Church
CATEGORIES:Children
ATTACH;FMTTYPE=image/jpeg:https://www.hovemethodistchurch.co.uk/wp-content/uploads/2022/10/polka-dots-logo.jpg
END:VEVENT
BEGIN:VEVENT
DTSTART;TZID=Europe/London:20330218T133000
DTEND;TZID=Europe/London:20330218T153000
DTSTAMP:20260420T030905
CREATED:20221116T192917Z
LAST-MODIFIED:20231202T105253Z
UID:10010835-1992346200-1992353400@www.hovemethodistchurch.co.uk
SUMMARY:Polka Tots Baby & Toddler Drop-in
DESCRIPTION:£2 per family.
URL:https://www.hovemethodistchurch.co.uk/event/polka-tots-baby-toddler-drop-in-2/2033-02-18/
LOCATION:Hove Methodist Church
CATEGORIES:Children
ATTACH;FMTTYPE=image/jpeg:https://www.hovemethodistchurch.co.uk/wp-content/uploads/2022/10/polka-dots-logo.jpg
END:VEVENT
BEGIN:VEVENT
DTSTART;TZID=Europe/London:20330225T133000
DTEND;TZID=Europe/London:20330225T153000
DTSTAMP:20260420T030905
CREATED:20221116T192917Z
LAST-MODIFIED:20231202T105253Z
UID:10010836-1992951000-1992958200@www.hovemethodistchurch.co.uk
SUMMARY:Polka Tots Baby & Toddler Drop-in
DESCRIPTION:£2 per family.
URL:https://www.hovemethodistchurch.co.uk/event/polka-tots-baby-toddler-drop-in-2/2033-02-25/
LOCATION:Hove Methodist Church
CATEGORIES:Children
ATTACH;FMTTYPE=image/jpeg:https://www.hovemethodistchurch.co.uk/wp-content/uploads/2022/10/polka-dots-logo.jpg
END:VEVENT
BEGIN:VEVENT
DTSTART;TZID=Europe/London:20330304T133000
DTEND;TZID=Europe/London:20330304T153000
DTSTAMP:20260420T030905
CREATED:20221116T192917Z
LAST-MODIFIED:20231202T105253Z
UID:10010837-1993555800-1993563000@www.hovemethodistchurch.co.uk
SUMMARY:Polka Tots Baby & Toddler Drop-in
DESCRIPTION:£2 per family.
URL:https://www.hovemethodistchurch.co.uk/event/polka-tots-baby-toddler-drop-in-2/2033-03-04/
LOCATION:Hove Methodist Church
CATEGORIES:Children
ATTACH;FMTTYPE=image/jpeg:https://www.hovemethodistchurch.co.uk/wp-content/uploads/2022/10/polka-dots-logo.jpg
END:VEVENT
BEGIN:VEVENT
DTSTART;TZID=Europe/London:20330311T133000
DTEND;TZID=Europe/London:20330311T153000
DTSTAMP:20260420T030905
CREATED:20221116T192917Z
LAST-MODIFIED:20231202T105253Z
UID:10010838-1994160600-1994167800@www.hovemethodistchurch.co.uk
SUMMARY:Polka Tots Baby & Toddler Drop-in
DESCRIPTION:£2 per family.
URL:https://www.hovemethodistchurch.co.uk/event/polka-tots-baby-toddler-drop-in-2/2033-03-11/
LOCATION:Hove Methodist Church
CATEGORIES:Children
ATTACH;FMTTYPE=image/jpeg:https://www.hovemethodistchurch.co.uk/wp-content/uploads/2022/10/polka-dots-logo.jpg
END:VEVENT
BEGIN:VEVENT
DTSTART;TZID=Europe/London:20330318T133000
DTEND;TZID=Europe/London:20330318T153000
DTSTAMP:20260420T030905
CREATED:20221116T192917Z
LAST-MODIFIED:20231202T105253Z
UID:10010839-1994765400-1994772600@www.hovemethodistchurch.co.uk
SUMMARY:Polka Tots Baby & Toddler Drop-in
DESCRIPTION:£2 per family.
URL:https://www.hovemethodistchurch.co.uk/event/polka-tots-baby-toddler-drop-in-2/2033-03-18/
LOCATION:Hove Methodist Church
CATEGORIES:Children
ATTACH;FMTTYPE=image/jpeg:https://www.hovemethodistchurch.co.uk/wp-content/uploads/2022/10/polka-dots-logo.jpg
END:VEVENT
BEGIN:VEVENT
DTSTART;TZID=Europe/London:20330325T133000
DTEND;TZID=Europe/London:20330325T153000
DTSTAMP:20260420T030905
CREATED:20221116T192917Z
LAST-MODIFIED:20231202T105253Z
UID:10010840-1995370200-1995377400@www.hovemethodistchurch.co.uk
SUMMARY:Polka Tots Baby & Toddler Drop-in
DESCRIPTION:£2 per family.
URL:https://www.hovemethodistchurch.co.uk/event/polka-tots-baby-toddler-drop-in-2/2033-03-25/
LOCATION:Hove Methodist Church
CATEGORIES:Children
ATTACH;FMTTYPE=image/jpeg:https://www.hovemethodistchurch.co.uk/wp-content/uploads/2022/10/polka-dots-logo.jpg
END:VEVENT
BEGIN:VEVENT
DTSTART;TZID=Europe/London:20330401T133000
DTEND;TZID=Europe/London:20330401T153000
DTSTAMP:20260420T030905
CREATED:20221116T192917Z
LAST-MODIFIED:20231202T105253Z
UID:10010841-1995975000-1995982200@www.hovemethodistchurch.co.uk
SUMMARY:Polka Tots Baby & Toddler Drop-in
DESCRIPTION:£2 per family.
URL:https://www.hovemethodistchurch.co.uk/event/polka-tots-baby-toddler-drop-in-2/2033-04-01/
LOCATION:Hove Methodist Church
CATEGORIES:Children
ATTACH;FMTTYPE=image/jpeg:https://www.hovemethodistchurch.co.uk/wp-content/uploads/2022/10/polka-dots-logo.jpg
END:VEVENT
BEGIN:VEVENT
DTSTART;TZID=Europe/London:20330408T133000
DTEND;TZID=Europe/London:20330408T153000
DTSTAMP:20260420T030905
CREATED:20221116T192917Z
LAST-MODIFIED:20231202T105253Z
UID:10010842-1996579800-1996587000@www.hovemethodistchurch.co.uk
SUMMARY:Polka Tots Baby & Toddler Drop-in
DESCRIPTION:£2 per family.
URL:https://www.hovemethodistchurch.co.uk/event/polka-tots-baby-toddler-drop-in-2/2033-04-08/
LOCATION:Hove Methodist Church
CATEGORIES:Children
ATTACH;FMTTYPE=image/jpeg:https://www.hovemethodistchurch.co.uk/wp-content/uploads/2022/10/polka-dots-logo.jpg
END:VEVENT
BEGIN:VEVENT
DTSTART;TZID=Europe/London:20330415T133000
DTEND;TZID=Europe/London:20330415T153000
DTSTAMP:20260420T030905
CREATED:20221116T192917Z
LAST-MODIFIED:20231202T105253Z
UID:10010843-1997184600-1997191800@www.hovemethodistchurch.co.uk
SUMMARY:Polka Tots Baby & Toddler Drop-in
DESCRIPTION:£2 per family.
URL:https://www.hovemethodistchurch.co.uk/event/polka-tots-baby-toddler-drop-in-2/2033-04-15/
LOCATION:Hove Methodist Church
CATEGORIES:Children
ATTACH;FMTTYPE=image/jpeg:https://www.hovemethodistchurch.co.uk/wp-content/uploads/2022/10/polka-dots-logo.jpg
END:VEVENT
BEGIN:VEVENT
DTSTART;TZID=Europe/London:20330422T133000
DTEND;TZID=Europe/London:20330422T153000
DTSTAMP:20260420T030905
CREATED:20221116T192917Z
LAST-MODIFIED:20231202T105253Z
UID:10010844-1997789400-1997796600@www.hovemethodistchurch.co.uk
SUMMARY:Polka Tots Baby & Toddler Drop-in
DESCRIPTION:£2 per family.
URL:https://www.hovemethodistchurch.co.uk/event/polka-tots-baby-toddler-drop-in-2/2033-04-22/
LOCATION:Hove Methodist Church
CATEGORIES:Children
ATTACH;FMTTYPE=image/jpeg:https://www.hovemethodistchurch.co.uk/wp-content/uploads/2022/10/polka-dots-logo.jpg
END:VEVENT
END:VCALENDAR