BEGIN:VCALENDAR
VERSION:2.0
PRODID:-//Hove Methodist Church - ECPv6.15.20//NONSGML v1.0//EN
CALSCALE:GREGORIAN
METHOD:PUBLISH
X-ORIGINAL-URL:https://www.hovemethodistchurch.co.uk
X-WR-CALDESC:Events for Hove Methodist Church
REFRESH-INTERVAL;VALUE=DURATION:PT1H
X-Robots-Tag:noindex
X-PUBLISHED-TTL:PT1H
BEGIN:VTIMEZONE
TZID:Europe/London
BEGIN:DAYLIGHT
TZOFFSETFROM:+0000
TZOFFSETTO:+0100
TZNAME:BST
DTSTART:20310330T010000
END:DAYLIGHT
BEGIN:STANDARD
TZOFFSETFROM:+0100
TZOFFSETTO:+0000
TZNAME:GMT
DTSTART:20311026T010000
END:STANDARD
BEGIN:DAYLIGHT
TZOFFSETFROM:+0000
TZOFFSETTO:+0100
TZNAME:BST
DTSTART:20320328T010000
END:DAYLIGHT
BEGIN:STANDARD
TZOFFSETFROM:+0100
TZOFFSETTO:+0000
TZNAME:GMT
DTSTART:20321031T010000
END:STANDARD
BEGIN:DAYLIGHT
TZOFFSETFROM:+0000
TZOFFSETTO:+0100
TZNAME:BST
DTSTART:20330327T010000
END:DAYLIGHT
BEGIN:STANDARD
TZOFFSETFROM:+0100
TZOFFSETTO:+0000
TZNAME:GMT
DTSTART:20331030T010000
END:STANDARD
END:VTIMEZONE
BEGIN:VEVENT
DTSTART;TZID=Europe/London:20320123T133000
DTEND;TZID=Europe/London:20320123T153000
DTSTAMP:20260419T215716
CREATED:20221116T192917Z
LAST-MODIFIED:20231202T105253Z
UID:10010779-1958477400-1958484600@www.hovemethodistchurch.co.uk
SUMMARY:Polka Tots Baby & Toddler Drop-in
DESCRIPTION:£2 per family.
URL:https://www.hovemethodistchurch.co.uk/event/polka-tots-baby-toddler-drop-in-2/2032-01-23/
LOCATION:Hove Methodist Church
CATEGORIES:Children
ATTACH;FMTTYPE=image/jpeg:https://www.hovemethodistchurch.co.uk/wp-content/uploads/2022/10/polka-dots-logo.jpg
END:VEVENT
BEGIN:VEVENT
DTSTART;TZID=Europe/London:20320130T133000
DTEND;TZID=Europe/London:20320130T153000
DTSTAMP:20260419T215716
CREATED:20221116T192917Z
LAST-MODIFIED:20231202T105253Z
UID:10010780-1959082200-1959089400@www.hovemethodistchurch.co.uk
SUMMARY:Polka Tots Baby & Toddler Drop-in
DESCRIPTION:£2 per family.
URL:https://www.hovemethodistchurch.co.uk/event/polka-tots-baby-toddler-drop-in-2/2032-01-30/
LOCATION:Hove Methodist Church
CATEGORIES:Children
ATTACH;FMTTYPE=image/jpeg:https://www.hovemethodistchurch.co.uk/wp-content/uploads/2022/10/polka-dots-logo.jpg
END:VEVENT
BEGIN:VEVENT
DTSTART;TZID=Europe/London:20320206T133000
DTEND;TZID=Europe/London:20320206T153000
DTSTAMP:20260419T215716
CREATED:20221116T192917Z
LAST-MODIFIED:20231202T105253Z
UID:10010781-1959687000-1959694200@www.hovemethodistchurch.co.uk
SUMMARY:Polka Tots Baby & Toddler Drop-in
DESCRIPTION:£2 per family.
URL:https://www.hovemethodistchurch.co.uk/event/polka-tots-baby-toddler-drop-in-2/2032-02-06/
LOCATION:Hove Methodist Church
CATEGORIES:Children
ATTACH;FMTTYPE=image/jpeg:https://www.hovemethodistchurch.co.uk/wp-content/uploads/2022/10/polka-dots-logo.jpg
END:VEVENT
BEGIN:VEVENT
DTSTART;TZID=Europe/London:20320213T133000
DTEND;TZID=Europe/London:20320213T153000
DTSTAMP:20260419T215717
CREATED:20221116T192917Z
LAST-MODIFIED:20231202T105253Z
UID:10010782-1960291800-1960299000@www.hovemethodistchurch.co.uk
SUMMARY:Polka Tots Baby & Toddler Drop-in
DESCRIPTION:£2 per family.
URL:https://www.hovemethodistchurch.co.uk/event/polka-tots-baby-toddler-drop-in-2/2032-02-13/
LOCATION:Hove Methodist Church
CATEGORIES:Children
ATTACH;FMTTYPE=image/jpeg:https://www.hovemethodistchurch.co.uk/wp-content/uploads/2022/10/polka-dots-logo.jpg
END:VEVENT
BEGIN:VEVENT
DTSTART;TZID=Europe/London:20320220T133000
DTEND;TZID=Europe/London:20320220T153000
DTSTAMP:20260419T215717
CREATED:20221116T192917Z
LAST-MODIFIED:20231202T105253Z
UID:10010783-1960896600-1960903800@www.hovemethodistchurch.co.uk
SUMMARY:Polka Tots Baby & Toddler Drop-in
DESCRIPTION:£2 per family.
URL:https://www.hovemethodistchurch.co.uk/event/polka-tots-baby-toddler-drop-in-2/2032-02-20/
LOCATION:Hove Methodist Church
CATEGORIES:Children
ATTACH;FMTTYPE=image/jpeg:https://www.hovemethodistchurch.co.uk/wp-content/uploads/2022/10/polka-dots-logo.jpg
END:VEVENT
BEGIN:VEVENT
DTSTART;TZID=Europe/London:20320227T133000
DTEND;TZID=Europe/London:20320227T153000
DTSTAMP:20260419T215717
CREATED:20221116T192917Z
LAST-MODIFIED:20231202T105253Z
UID:10010784-1961501400-1961508600@www.hovemethodistchurch.co.uk
SUMMARY:Polka Tots Baby & Toddler Drop-in
DESCRIPTION:£2 per family.
URL:https://www.hovemethodistchurch.co.uk/event/polka-tots-baby-toddler-drop-in-2/2032-02-27/
LOCATION:Hove Methodist Church
CATEGORIES:Children
ATTACH;FMTTYPE=image/jpeg:https://www.hovemethodistchurch.co.uk/wp-content/uploads/2022/10/polka-dots-logo.jpg
END:VEVENT
BEGIN:VEVENT
DTSTART;TZID=Europe/London:20320305T133000
DTEND;TZID=Europe/London:20320305T153000
DTSTAMP:20260419T215717
CREATED:20221116T192917Z
LAST-MODIFIED:20231202T105253Z
UID:10010785-1962106200-1962113400@www.hovemethodistchurch.co.uk
SUMMARY:Polka Tots Baby & Toddler Drop-in
DESCRIPTION:£2 per family.
URL:https://www.hovemethodistchurch.co.uk/event/polka-tots-baby-toddler-drop-in-2/2032-03-05/
LOCATION:Hove Methodist Church
CATEGORIES:Children
ATTACH;FMTTYPE=image/jpeg:https://www.hovemethodistchurch.co.uk/wp-content/uploads/2022/10/polka-dots-logo.jpg
END:VEVENT
BEGIN:VEVENT
DTSTART;TZID=Europe/London:20320312T133000
DTEND;TZID=Europe/London:20320312T153000
DTSTAMP:20260419T215717
CREATED:20221116T192917Z
LAST-MODIFIED:20231202T105253Z
UID:10010786-1962711000-1962718200@www.hovemethodistchurch.co.uk
SUMMARY:Polka Tots Baby & Toddler Drop-in
DESCRIPTION:£2 per family.
URL:https://www.hovemethodistchurch.co.uk/event/polka-tots-baby-toddler-drop-in-2/2032-03-12/
LOCATION:Hove Methodist Church
CATEGORIES:Children
ATTACH;FMTTYPE=image/jpeg:https://www.hovemethodistchurch.co.uk/wp-content/uploads/2022/10/polka-dots-logo.jpg
END:VEVENT
BEGIN:VEVENT
DTSTART;TZID=Europe/London:20320319T133000
DTEND;TZID=Europe/London:20320319T153000
DTSTAMP:20260419T215717
CREATED:20221116T192917Z
LAST-MODIFIED:20231202T105253Z
UID:10010787-1963315800-1963323000@www.hovemethodistchurch.co.uk
SUMMARY:Polka Tots Baby & Toddler Drop-in
DESCRIPTION:£2 per family.
URL:https://www.hovemethodistchurch.co.uk/event/polka-tots-baby-toddler-drop-in-2/2032-03-19/
LOCATION:Hove Methodist Church
CATEGORIES:Children
ATTACH;FMTTYPE=image/jpeg:https://www.hovemethodistchurch.co.uk/wp-content/uploads/2022/10/polka-dots-logo.jpg
END:VEVENT
BEGIN:VEVENT
DTSTART;TZID=Europe/London:20320326T133000
DTEND;TZID=Europe/London:20320326T153000
DTSTAMP:20260419T215717
CREATED:20221116T192917Z
LAST-MODIFIED:20231202T105253Z
UID:10010788-1963920600-1963927800@www.hovemethodistchurch.co.uk
SUMMARY:Polka Tots Baby & Toddler Drop-in
DESCRIPTION:£2 per family.
URL:https://www.hovemethodistchurch.co.uk/event/polka-tots-baby-toddler-drop-in-2/2032-03-26/
LOCATION:Hove Methodist Church
CATEGORIES:Children
ATTACH;FMTTYPE=image/jpeg:https://www.hovemethodistchurch.co.uk/wp-content/uploads/2022/10/polka-dots-logo.jpg
END:VEVENT
BEGIN:VEVENT
DTSTART;TZID=Europe/London:20320402T133000
DTEND;TZID=Europe/London:20320402T153000
DTSTAMP:20260419T215717
CREATED:20221116T192917Z
LAST-MODIFIED:20231202T105253Z
UID:10010789-1964525400-1964532600@www.hovemethodistchurch.co.uk
SUMMARY:Polka Tots Baby & Toddler Drop-in
DESCRIPTION:£2 per family.
URL:https://www.hovemethodistchurch.co.uk/event/polka-tots-baby-toddler-drop-in-2/2032-04-02/
LOCATION:Hove Methodist Church
CATEGORIES:Children
ATTACH;FMTTYPE=image/jpeg:https://www.hovemethodistchurch.co.uk/wp-content/uploads/2022/10/polka-dots-logo.jpg
END:VEVENT
BEGIN:VEVENT
DTSTART;TZID=Europe/London:20320409T133000
DTEND;TZID=Europe/London:20320409T153000
DTSTAMP:20260419T215717
CREATED:20221116T192917Z
LAST-MODIFIED:20231202T105253Z
UID:10010790-1965130200-1965137400@www.hovemethodistchurch.co.uk
SUMMARY:Polka Tots Baby & Toddler Drop-in
DESCRIPTION:£2 per family.
URL:https://www.hovemethodistchurch.co.uk/event/polka-tots-baby-toddler-drop-in-2/2032-04-09/
LOCATION:Hove Methodist Church
CATEGORIES:Children
ATTACH;FMTTYPE=image/jpeg:https://www.hovemethodistchurch.co.uk/wp-content/uploads/2022/10/polka-dots-logo.jpg
END:VEVENT
BEGIN:VEVENT
DTSTART;TZID=Europe/London:20320416T133000
DTEND;TZID=Europe/London:20320416T153000
DTSTAMP:20260419T215717
CREATED:20221116T192917Z
LAST-MODIFIED:20231202T105253Z
UID:10010791-1965735000-1965742200@www.hovemethodistchurch.co.uk
SUMMARY:Polka Tots Baby & Toddler Drop-in
DESCRIPTION:£2 per family.
URL:https://www.hovemethodistchurch.co.uk/event/polka-tots-baby-toddler-drop-in-2/2032-04-16/
LOCATION:Hove Methodist Church
CATEGORIES:Children
ATTACH;FMTTYPE=image/jpeg:https://www.hovemethodistchurch.co.uk/wp-content/uploads/2022/10/polka-dots-logo.jpg
END:VEVENT
BEGIN:VEVENT
DTSTART;TZID=Europe/London:20320423T133000
DTEND;TZID=Europe/London:20320423T153000
DTSTAMP:20260419T215717
CREATED:20221116T192917Z
LAST-MODIFIED:20231202T105253Z
UID:10010792-1966339800-1966347000@www.hovemethodistchurch.co.uk
SUMMARY:Polka Tots Baby & Toddler Drop-in
DESCRIPTION:£2 per family.
URL:https://www.hovemethodistchurch.co.uk/event/polka-tots-baby-toddler-drop-in-2/2032-04-23/
LOCATION:Hove Methodist Church
CATEGORIES:Children
ATTACH;FMTTYPE=image/jpeg:https://www.hovemethodistchurch.co.uk/wp-content/uploads/2022/10/polka-dots-logo.jpg
END:VEVENT
BEGIN:VEVENT
DTSTART;TZID=Europe/London:20320430T133000
DTEND;TZID=Europe/London:20320430T153000
DTSTAMP:20260419T215717
CREATED:20221116T192917Z
LAST-MODIFIED:20231202T105253Z
UID:10010793-1966944600-1966951800@www.hovemethodistchurch.co.uk
SUMMARY:Polka Tots Baby & Toddler Drop-in
DESCRIPTION:£2 per family.
URL:https://www.hovemethodistchurch.co.uk/event/polka-tots-baby-toddler-drop-in-2/2032-04-30/
LOCATION:Hove Methodist Church
CATEGORIES:Children
ATTACH;FMTTYPE=image/jpeg:https://www.hovemethodistchurch.co.uk/wp-content/uploads/2022/10/polka-dots-logo.jpg
END:VEVENT
BEGIN:VEVENT
DTSTART;TZID=Europe/London:20320507T133000
DTEND;TZID=Europe/London:20320507T153000
DTSTAMP:20260419T215717
CREATED:20221116T192917Z
LAST-MODIFIED:20231202T105253Z
UID:10010794-1967549400-1967556600@www.hovemethodistchurch.co.uk
SUMMARY:Polka Tots Baby & Toddler Drop-in
DESCRIPTION:£2 per family.
URL:https://www.hovemethodistchurch.co.uk/event/polka-tots-baby-toddler-drop-in-2/2032-05-07/
LOCATION:Hove Methodist Church
CATEGORIES:Children
ATTACH;FMTTYPE=image/jpeg:https://www.hovemethodistchurch.co.uk/wp-content/uploads/2022/10/polka-dots-logo.jpg
END:VEVENT
BEGIN:VEVENT
DTSTART;TZID=Europe/London:20320514T133000
DTEND;TZID=Europe/London:20320514T153000
DTSTAMP:20260419T215717
CREATED:20221116T192917Z
LAST-MODIFIED:20231202T105253Z
UID:10010795-1968154200-1968161400@www.hovemethodistchurch.co.uk
SUMMARY:Polka Tots Baby & Toddler Drop-in
DESCRIPTION:£2 per family.
URL:https://www.hovemethodistchurch.co.uk/event/polka-tots-baby-toddler-drop-in-2/2032-05-14/
LOCATION:Hove Methodist Church
CATEGORIES:Children
ATTACH;FMTTYPE=image/jpeg:https://www.hovemethodistchurch.co.uk/wp-content/uploads/2022/10/polka-dots-logo.jpg
END:VEVENT
BEGIN:VEVENT
DTSTART;TZID=Europe/London:20320521T133000
DTEND;TZID=Europe/London:20320521T153000
DTSTAMP:20260419T215717
CREATED:20221116T192917Z
LAST-MODIFIED:20231202T105253Z
UID:10010796-1968759000-1968766200@www.hovemethodistchurch.co.uk
SUMMARY:Polka Tots Baby & Toddler Drop-in
DESCRIPTION:£2 per family.
URL:https://www.hovemethodistchurch.co.uk/event/polka-tots-baby-toddler-drop-in-2/2032-05-21/
LOCATION:Hove Methodist Church
CATEGORIES:Children
ATTACH;FMTTYPE=image/jpeg:https://www.hovemethodistchurch.co.uk/wp-content/uploads/2022/10/polka-dots-logo.jpg
END:VEVENT
BEGIN:VEVENT
DTSTART;TZID=Europe/London:20320528T133000
DTEND;TZID=Europe/London:20320528T153000
DTSTAMP:20260419T215717
CREATED:20221116T192917Z
LAST-MODIFIED:20231202T105253Z
UID:10010797-1969363800-1969371000@www.hovemethodistchurch.co.uk
SUMMARY:Polka Tots Baby & Toddler Drop-in
DESCRIPTION:£2 per family.
URL:https://www.hovemethodistchurch.co.uk/event/polka-tots-baby-toddler-drop-in-2/2032-05-28/
LOCATION:Hove Methodist Church
CATEGORIES:Children
ATTACH;FMTTYPE=image/jpeg:https://www.hovemethodistchurch.co.uk/wp-content/uploads/2022/10/polka-dots-logo.jpg
END:VEVENT
BEGIN:VEVENT
DTSTART;TZID=Europe/London:20320604T133000
DTEND;TZID=Europe/London:20320604T153000
DTSTAMP:20260419T215717
CREATED:20221116T192917Z
LAST-MODIFIED:20231202T105253Z
UID:10010798-1969968600-1969975800@www.hovemethodistchurch.co.uk
SUMMARY:Polka Tots Baby & Toddler Drop-in
DESCRIPTION:£2 per family.
URL:https://www.hovemethodistchurch.co.uk/event/polka-tots-baby-toddler-drop-in-2/2032-06-04/
LOCATION:Hove Methodist Church
CATEGORIES:Children
ATTACH;FMTTYPE=image/jpeg:https://www.hovemethodistchurch.co.uk/wp-content/uploads/2022/10/polka-dots-logo.jpg
END:VEVENT
BEGIN:VEVENT
DTSTART;TZID=Europe/London:20320611T133000
DTEND;TZID=Europe/London:20320611T153000
DTSTAMP:20260419T215717
CREATED:20221116T192917Z
LAST-MODIFIED:20231202T105253Z
UID:10010799-1970573400-1970580600@www.hovemethodistchurch.co.uk
SUMMARY:Polka Tots Baby & Toddler Drop-in
DESCRIPTION:£2 per family.
URL:https://www.hovemethodistchurch.co.uk/event/polka-tots-baby-toddler-drop-in-2/2032-06-11/
LOCATION:Hove Methodist Church
CATEGORIES:Children
ATTACH;FMTTYPE=image/jpeg:https://www.hovemethodistchurch.co.uk/wp-content/uploads/2022/10/polka-dots-logo.jpg
END:VEVENT
BEGIN:VEVENT
DTSTART;TZID=Europe/London:20320618T133000
DTEND;TZID=Europe/London:20320618T153000
DTSTAMP:20260419T215717
CREATED:20221116T192917Z
LAST-MODIFIED:20231202T105253Z
UID:10010800-1971178200-1971185400@www.hovemethodistchurch.co.uk
SUMMARY:Polka Tots Baby & Toddler Drop-in
DESCRIPTION:£2 per family.
URL:https://www.hovemethodistchurch.co.uk/event/polka-tots-baby-toddler-drop-in-2/2032-06-18/
LOCATION:Hove Methodist Church
CATEGORIES:Children
ATTACH;FMTTYPE=image/jpeg:https://www.hovemethodistchurch.co.uk/wp-content/uploads/2022/10/polka-dots-logo.jpg
END:VEVENT
BEGIN:VEVENT
DTSTART;TZID=Europe/London:20320625T133000
DTEND;TZID=Europe/London:20320625T153000
DTSTAMP:20260419T215717
CREATED:20221116T192917Z
LAST-MODIFIED:20231202T105253Z
UID:10010801-1971783000-1971790200@www.hovemethodistchurch.co.uk
SUMMARY:Polka Tots Baby & Toddler Drop-in
DESCRIPTION:£2 per family.
URL:https://www.hovemethodistchurch.co.uk/event/polka-tots-baby-toddler-drop-in-2/2032-06-25/
LOCATION:Hove Methodist Church
CATEGORIES:Children
ATTACH;FMTTYPE=image/jpeg:https://www.hovemethodistchurch.co.uk/wp-content/uploads/2022/10/polka-dots-logo.jpg
END:VEVENT
BEGIN:VEVENT
DTSTART;TZID=Europe/London:20320702T133000
DTEND;TZID=Europe/London:20320702T153000
DTSTAMP:20260419T215717
CREATED:20221116T192917Z
LAST-MODIFIED:20231202T105253Z
UID:10010802-1972387800-1972395000@www.hovemethodistchurch.co.uk
SUMMARY:Polka Tots Baby & Toddler Drop-in
DESCRIPTION:£2 per family.
URL:https://www.hovemethodistchurch.co.uk/event/polka-tots-baby-toddler-drop-in-2/2032-07-02/
LOCATION:Hove Methodist Church
CATEGORIES:Children
ATTACH;FMTTYPE=image/jpeg:https://www.hovemethodistchurch.co.uk/wp-content/uploads/2022/10/polka-dots-logo.jpg
END:VEVENT
BEGIN:VEVENT
DTSTART;TZID=Europe/London:20320709T133000
DTEND;TZID=Europe/London:20320709T153000
DTSTAMP:20260419T215717
CREATED:20221116T192917Z
LAST-MODIFIED:20231202T105253Z
UID:10010803-1972992600-1972999800@www.hovemethodistchurch.co.uk
SUMMARY:Polka Tots Baby & Toddler Drop-in
DESCRIPTION:£2 per family.
URL:https://www.hovemethodistchurch.co.uk/event/polka-tots-baby-toddler-drop-in-2/2032-07-09/
LOCATION:Hove Methodist Church
CATEGORIES:Children
ATTACH;FMTTYPE=image/jpeg:https://www.hovemethodistchurch.co.uk/wp-content/uploads/2022/10/polka-dots-logo.jpg
END:VEVENT
BEGIN:VEVENT
DTSTART;TZID=Europe/London:20320716T133000
DTEND;TZID=Europe/London:20320716T153000
DTSTAMP:20260419T215717
CREATED:20221116T192917Z
LAST-MODIFIED:20231202T105253Z
UID:10010804-1973597400-1973604600@www.hovemethodistchurch.co.uk
SUMMARY:Polka Tots Baby & Toddler Drop-in
DESCRIPTION:£2 per family.
URL:https://www.hovemethodistchurch.co.uk/event/polka-tots-baby-toddler-drop-in-2/2032-07-16/
LOCATION:Hove Methodist Church
CATEGORIES:Children
ATTACH;FMTTYPE=image/jpeg:https://www.hovemethodistchurch.co.uk/wp-content/uploads/2022/10/polka-dots-logo.jpg
END:VEVENT
BEGIN:VEVENT
DTSTART;TZID=Europe/London:20320723T133000
DTEND;TZID=Europe/London:20320723T153000
DTSTAMP:20260419T215717
CREATED:20221116T192917Z
LAST-MODIFIED:20231202T105253Z
UID:10010805-1974202200-1974209400@www.hovemethodistchurch.co.uk
SUMMARY:Polka Tots Baby & Toddler Drop-in
DESCRIPTION:£2 per family.
URL:https://www.hovemethodistchurch.co.uk/event/polka-tots-baby-toddler-drop-in-2/2032-07-23/
LOCATION:Hove Methodist Church
CATEGORIES:Children
ATTACH;FMTTYPE=image/jpeg:https://www.hovemethodistchurch.co.uk/wp-content/uploads/2022/10/polka-dots-logo.jpg
END:VEVENT
BEGIN:VEVENT
DTSTART;TZID=Europe/London:20320730T133000
DTEND;TZID=Europe/London:20320730T153000
DTSTAMP:20260419T215717
CREATED:20221116T192917Z
LAST-MODIFIED:20231202T105253Z
UID:10010806-1974807000-1974814200@www.hovemethodistchurch.co.uk
SUMMARY:Polka Tots Baby & Toddler Drop-in
DESCRIPTION:£2 per family.
URL:https://www.hovemethodistchurch.co.uk/event/polka-tots-baby-toddler-drop-in-2/2032-07-30/
LOCATION:Hove Methodist Church
CATEGORIES:Children
ATTACH;FMTTYPE=image/jpeg:https://www.hovemethodistchurch.co.uk/wp-content/uploads/2022/10/polka-dots-logo.jpg
END:VEVENT
BEGIN:VEVENT
DTSTART;TZID=Europe/London:20320806T133000
DTEND;TZID=Europe/London:20320806T153000
DTSTAMP:20260419T215717
CREATED:20221116T192917Z
LAST-MODIFIED:20231202T105253Z
UID:10010807-1975411800-1975419000@www.hovemethodistchurch.co.uk
SUMMARY:Polka Tots Baby & Toddler Drop-in
DESCRIPTION:£2 per family.
URL:https://www.hovemethodistchurch.co.uk/event/polka-tots-baby-toddler-drop-in-2/2032-08-06/
LOCATION:Hove Methodist Church
CATEGORIES:Children
ATTACH;FMTTYPE=image/jpeg:https://www.hovemethodistchurch.co.uk/wp-content/uploads/2022/10/polka-dots-logo.jpg
END:VEVENT
BEGIN:VEVENT
DTSTART;TZID=Europe/London:20320813T133000
DTEND;TZID=Europe/London:20320813T153000
DTSTAMP:20260419T215717
CREATED:20221116T192917Z
LAST-MODIFIED:20231202T105253Z
UID:10010808-1976016600-1976023800@www.hovemethodistchurch.co.uk
SUMMARY:Polka Tots Baby & Toddler Drop-in
DESCRIPTION:£2 per family.
URL:https://www.hovemethodistchurch.co.uk/event/polka-tots-baby-toddler-drop-in-2/2032-08-13/
LOCATION:Hove Methodist Church
CATEGORIES:Children
ATTACH;FMTTYPE=image/jpeg:https://www.hovemethodistchurch.co.uk/wp-content/uploads/2022/10/polka-dots-logo.jpg
END:VEVENT
END:VCALENDAR