BEGIN:VCALENDAR
VERSION:2.0
PRODID:-//Hove Methodist Church - ECPv6.15.20//NONSGML v1.0//EN
CALSCALE:GREGORIAN
METHOD:PUBLISH
X-WR-CALNAME:Hove Methodist Church
X-ORIGINAL-URL:https://www.hovemethodistchurch.co.uk
X-WR-CALDESC:Events for Hove Methodist Church
REFRESH-INTERVAL;VALUE=DURATION:PT1H
X-Robots-Tag:noindex
X-PUBLISHED-TTL:PT1H
BEGIN:VTIMEZONE
TZID:Europe/London
BEGIN:DAYLIGHT
TZOFFSETFROM:+0000
TZOFFSETTO:+0100
TZNAME:BST
DTSTART:20290325T010000
END:DAYLIGHT
BEGIN:STANDARD
TZOFFSETFROM:+0100
TZOFFSETTO:+0000
TZNAME:GMT
DTSTART:20291028T010000
END:STANDARD
BEGIN:DAYLIGHT
TZOFFSETFROM:+0000
TZOFFSETTO:+0100
TZNAME:BST
DTSTART:20300331T010000
END:DAYLIGHT
BEGIN:STANDARD
TZOFFSETFROM:+0100
TZOFFSETTO:+0000
TZNAME:GMT
DTSTART:20301027T010000
END:STANDARD
BEGIN:DAYLIGHT
TZOFFSETFROM:+0000
TZOFFSETTO:+0100
TZNAME:BST
DTSTART:20310330T010000
END:DAYLIGHT
BEGIN:STANDARD
TZOFFSETFROM:+0100
TZOFFSETTO:+0000
TZNAME:GMT
DTSTART:20311026T010000
END:STANDARD
BEGIN:DAYLIGHT
TZOFFSETFROM:+0000
TZOFFSETTO:+0100
TZNAME:BST
DTSTART:20320328T010000
END:DAYLIGHT
BEGIN:STANDARD
TZOFFSETFROM:+0100
TZOFFSETTO:+0000
TZNAME:GMT
DTSTART:20321031T010000
END:STANDARD
END:VTIMEZONE
BEGIN:VEVENT
DTSTART;TZID=Europe/London:20301129T133000
DTEND;TZID=Europe/London:20301129T153000
DTSTAMP:20260419T135914
CREATED:20221116T192917Z
LAST-MODIFIED:20231202T105253Z
UID:10010719-1922189400-1922196600@www.hovemethodistchurch.co.uk
SUMMARY:Polka Tots Baby & Toddler Drop-in
DESCRIPTION:£2 per family.
URL:https://www.hovemethodistchurch.co.uk/event/polka-tots-baby-toddler-drop-in-2/2030-11-29/
LOCATION:Hove Methodist Church
CATEGORIES:Children
ATTACH;FMTTYPE=image/jpeg:https://www.hovemethodistchurch.co.uk/wp-content/uploads/2022/10/polka-dots-logo.jpg
END:VEVENT
BEGIN:VEVENT
DTSTART;TZID=Europe/London:20301206T133000
DTEND;TZID=Europe/London:20301206T153000
DTSTAMP:20260419T135914
CREATED:20221116T192917Z
LAST-MODIFIED:20231202T105253Z
UID:10010720-1922794200-1922801400@www.hovemethodistchurch.co.uk
SUMMARY:Polka Tots Baby & Toddler Drop-in
DESCRIPTION:£2 per family.
URL:https://www.hovemethodistchurch.co.uk/event/polka-tots-baby-toddler-drop-in-2/2030-12-06/
LOCATION:Hove Methodist Church
CATEGORIES:Children
ATTACH;FMTTYPE=image/jpeg:https://www.hovemethodistchurch.co.uk/wp-content/uploads/2022/10/polka-dots-logo.jpg
END:VEVENT
BEGIN:VEVENT
DTSTART;TZID=Europe/London:20301213T133000
DTEND;TZID=Europe/London:20301213T153000
DTSTAMP:20260419T135914
CREATED:20221116T192917Z
LAST-MODIFIED:20231202T105253Z
UID:10010721-1923399000-1923406200@www.hovemethodistchurch.co.uk
SUMMARY:Polka Tots Baby & Toddler Drop-in
DESCRIPTION:£2 per family.
URL:https://www.hovemethodistchurch.co.uk/event/polka-tots-baby-toddler-drop-in-2/2030-12-13/
LOCATION:Hove Methodist Church
CATEGORIES:Children
ATTACH;FMTTYPE=image/jpeg:https://www.hovemethodistchurch.co.uk/wp-content/uploads/2022/10/polka-dots-logo.jpg
END:VEVENT
BEGIN:VEVENT
DTSTART;TZID=Europe/London:20301220T133000
DTEND;TZID=Europe/London:20301220T153000
DTSTAMP:20260419T135914
CREATED:20221116T192917Z
LAST-MODIFIED:20231202T105253Z
UID:10010722-1924003800-1924011000@www.hovemethodistchurch.co.uk
SUMMARY:Polka Tots Baby & Toddler Drop-in
DESCRIPTION:£2 per family.
URL:https://www.hovemethodistchurch.co.uk/event/polka-tots-baby-toddler-drop-in-2/2030-12-20/
LOCATION:Hove Methodist Church
CATEGORIES:Children
ATTACH;FMTTYPE=image/jpeg:https://www.hovemethodistchurch.co.uk/wp-content/uploads/2022/10/polka-dots-logo.jpg
END:VEVENT
BEGIN:VEVENT
DTSTART;TZID=Europe/London:20301227T133000
DTEND;TZID=Europe/London:20301227T153000
DTSTAMP:20260419T135914
CREATED:20221116T192917Z
LAST-MODIFIED:20231202T105253Z
UID:10010723-1924608600-1924615800@www.hovemethodistchurch.co.uk
SUMMARY:Polka Tots Baby & Toddler Drop-in
DESCRIPTION:£2 per family.
URL:https://www.hovemethodistchurch.co.uk/event/polka-tots-baby-toddler-drop-in-2/2030-12-27/
LOCATION:Hove Methodist Church
CATEGORIES:Children
ATTACH;FMTTYPE=image/jpeg:https://www.hovemethodistchurch.co.uk/wp-content/uploads/2022/10/polka-dots-logo.jpg
END:VEVENT
BEGIN:VEVENT
DTSTART;TZID=Europe/London:20310103T133000
DTEND;TZID=Europe/London:20310103T153000
DTSTAMP:20260419T135914
CREATED:20221116T192917Z
LAST-MODIFIED:20231202T105253Z
UID:10010724-1925213400-1925220600@www.hovemethodistchurch.co.uk
SUMMARY:Polka Tots Baby & Toddler Drop-in
DESCRIPTION:£2 per family.
URL:https://www.hovemethodistchurch.co.uk/event/polka-tots-baby-toddler-drop-in-2/2031-01-03/
LOCATION:Hove Methodist Church
CATEGORIES:Children
ATTACH;FMTTYPE=image/jpeg:https://www.hovemethodistchurch.co.uk/wp-content/uploads/2022/10/polka-dots-logo.jpg
END:VEVENT
BEGIN:VEVENT
DTSTART;TZID=Europe/London:20310110T133000
DTEND;TZID=Europe/London:20310110T153000
DTSTAMP:20260419T135914
CREATED:20221116T192917Z
LAST-MODIFIED:20231202T105253Z
UID:10010725-1925818200-1925825400@www.hovemethodistchurch.co.uk
SUMMARY:Polka Tots Baby & Toddler Drop-in
DESCRIPTION:£2 per family.
URL:https://www.hovemethodistchurch.co.uk/event/polka-tots-baby-toddler-drop-in-2/2031-01-10/
LOCATION:Hove Methodist Church
CATEGORIES:Children
ATTACH;FMTTYPE=image/jpeg:https://www.hovemethodistchurch.co.uk/wp-content/uploads/2022/10/polka-dots-logo.jpg
END:VEVENT
BEGIN:VEVENT
DTSTART;TZID=Europe/London:20310117T133000
DTEND;TZID=Europe/London:20310117T153000
DTSTAMP:20260419T135914
CREATED:20221116T192917Z
LAST-MODIFIED:20231202T105253Z
UID:10010726-1926423000-1926430200@www.hovemethodistchurch.co.uk
SUMMARY:Polka Tots Baby & Toddler Drop-in
DESCRIPTION:£2 per family.
URL:https://www.hovemethodistchurch.co.uk/event/polka-tots-baby-toddler-drop-in-2/2031-01-17/
LOCATION:Hove Methodist Church
CATEGORIES:Children
ATTACH;FMTTYPE=image/jpeg:https://www.hovemethodistchurch.co.uk/wp-content/uploads/2022/10/polka-dots-logo.jpg
END:VEVENT
BEGIN:VEVENT
DTSTART;TZID=Europe/London:20310124T133000
DTEND;TZID=Europe/London:20310124T153000
DTSTAMP:20260419T135914
CREATED:20221116T192917Z
LAST-MODIFIED:20231202T105253Z
UID:10010727-1927027800-1927035000@www.hovemethodistchurch.co.uk
SUMMARY:Polka Tots Baby & Toddler Drop-in
DESCRIPTION:£2 per family.
URL:https://www.hovemethodistchurch.co.uk/event/polka-tots-baby-toddler-drop-in-2/2031-01-24/
LOCATION:Hove Methodist Church
CATEGORIES:Children
ATTACH;FMTTYPE=image/jpeg:https://www.hovemethodistchurch.co.uk/wp-content/uploads/2022/10/polka-dots-logo.jpg
END:VEVENT
BEGIN:VEVENT
DTSTART;TZID=Europe/London:20310131T133000
DTEND;TZID=Europe/London:20310131T153000
DTSTAMP:20260419T135914
CREATED:20221116T192917Z
LAST-MODIFIED:20231202T105253Z
UID:10010728-1927632600-1927639800@www.hovemethodistchurch.co.uk
SUMMARY:Polka Tots Baby & Toddler Drop-in
DESCRIPTION:£2 per family.
URL:https://www.hovemethodistchurch.co.uk/event/polka-tots-baby-toddler-drop-in-2/2031-01-31/
LOCATION:Hove Methodist Church
CATEGORIES:Children
ATTACH;FMTTYPE=image/jpeg:https://www.hovemethodistchurch.co.uk/wp-content/uploads/2022/10/polka-dots-logo.jpg
END:VEVENT
BEGIN:VEVENT
DTSTART;TZID=Europe/London:20310207T133000
DTEND;TZID=Europe/London:20310207T153000
DTSTAMP:20260419T135914
CREATED:20221116T192917Z
LAST-MODIFIED:20231202T105253Z
UID:10010729-1928237400-1928244600@www.hovemethodistchurch.co.uk
SUMMARY:Polka Tots Baby & Toddler Drop-in
DESCRIPTION:£2 per family.
URL:https://www.hovemethodistchurch.co.uk/event/polka-tots-baby-toddler-drop-in-2/2031-02-07/
LOCATION:Hove Methodist Church
CATEGORIES:Children
ATTACH;FMTTYPE=image/jpeg:https://www.hovemethodistchurch.co.uk/wp-content/uploads/2022/10/polka-dots-logo.jpg
END:VEVENT
BEGIN:VEVENT
DTSTART;TZID=Europe/London:20310214T133000
DTEND;TZID=Europe/London:20310214T153000
DTSTAMP:20260419T135914
CREATED:20221116T192917Z
LAST-MODIFIED:20231202T105253Z
UID:10010730-1928842200-1928849400@www.hovemethodistchurch.co.uk
SUMMARY:Polka Tots Baby & Toddler Drop-in
DESCRIPTION:£2 per family.
URL:https://www.hovemethodistchurch.co.uk/event/polka-tots-baby-toddler-drop-in-2/2031-02-14/
LOCATION:Hove Methodist Church
CATEGORIES:Children
ATTACH;FMTTYPE=image/jpeg:https://www.hovemethodistchurch.co.uk/wp-content/uploads/2022/10/polka-dots-logo.jpg
END:VEVENT
BEGIN:VEVENT
DTSTART;TZID=Europe/London:20310221T133000
DTEND;TZID=Europe/London:20310221T153000
DTSTAMP:20260419T135914
CREATED:20221116T192917Z
LAST-MODIFIED:20231202T105253Z
UID:10010731-1929447000-1929454200@www.hovemethodistchurch.co.uk
SUMMARY:Polka Tots Baby & Toddler Drop-in
DESCRIPTION:£2 per family.
URL:https://www.hovemethodistchurch.co.uk/event/polka-tots-baby-toddler-drop-in-2/2031-02-21/
LOCATION:Hove Methodist Church
CATEGORIES:Children
ATTACH;FMTTYPE=image/jpeg:https://www.hovemethodistchurch.co.uk/wp-content/uploads/2022/10/polka-dots-logo.jpg
END:VEVENT
BEGIN:VEVENT
DTSTART;TZID=Europe/London:20310228T133000
DTEND;TZID=Europe/London:20310228T153000
DTSTAMP:20260419T135914
CREATED:20221116T192917Z
LAST-MODIFIED:20231202T105253Z
UID:10010732-1930051800-1930059000@www.hovemethodistchurch.co.uk
SUMMARY:Polka Tots Baby & Toddler Drop-in
DESCRIPTION:£2 per family.
URL:https://www.hovemethodistchurch.co.uk/event/polka-tots-baby-toddler-drop-in-2/2031-02-28/
LOCATION:Hove Methodist Church
CATEGORIES:Children
ATTACH;FMTTYPE=image/jpeg:https://www.hovemethodistchurch.co.uk/wp-content/uploads/2022/10/polka-dots-logo.jpg
END:VEVENT
BEGIN:VEVENT
DTSTART;TZID=Europe/London:20310307T133000
DTEND;TZID=Europe/London:20310307T153000
DTSTAMP:20260419T135914
CREATED:20221116T192917Z
LAST-MODIFIED:20231202T105253Z
UID:10010733-1930656600-1930663800@www.hovemethodistchurch.co.uk
SUMMARY:Polka Tots Baby & Toddler Drop-in
DESCRIPTION:£2 per family.
URL:https://www.hovemethodistchurch.co.uk/event/polka-tots-baby-toddler-drop-in-2/2031-03-07/
LOCATION:Hove Methodist Church
CATEGORIES:Children
ATTACH;FMTTYPE=image/jpeg:https://www.hovemethodistchurch.co.uk/wp-content/uploads/2022/10/polka-dots-logo.jpg
END:VEVENT
BEGIN:VEVENT
DTSTART;TZID=Europe/London:20310314T133000
DTEND;TZID=Europe/London:20310314T153000
DTSTAMP:20260419T135914
CREATED:20221116T192917Z
LAST-MODIFIED:20231202T105253Z
UID:10010734-1931261400-1931268600@www.hovemethodistchurch.co.uk
SUMMARY:Polka Tots Baby & Toddler Drop-in
DESCRIPTION:£2 per family.
URL:https://www.hovemethodistchurch.co.uk/event/polka-tots-baby-toddler-drop-in-2/2031-03-14/
LOCATION:Hove Methodist Church
CATEGORIES:Children
ATTACH;FMTTYPE=image/jpeg:https://www.hovemethodistchurch.co.uk/wp-content/uploads/2022/10/polka-dots-logo.jpg
END:VEVENT
BEGIN:VEVENT
DTSTART;TZID=Europe/London:20310321T133000
DTEND;TZID=Europe/London:20310321T153000
DTSTAMP:20260419T135914
CREATED:20221116T192917Z
LAST-MODIFIED:20231202T105253Z
UID:10010735-1931866200-1931873400@www.hovemethodistchurch.co.uk
SUMMARY:Polka Tots Baby & Toddler Drop-in
DESCRIPTION:£2 per family.
URL:https://www.hovemethodistchurch.co.uk/event/polka-tots-baby-toddler-drop-in-2/2031-03-21/
LOCATION:Hove Methodist Church
CATEGORIES:Children
ATTACH;FMTTYPE=image/jpeg:https://www.hovemethodistchurch.co.uk/wp-content/uploads/2022/10/polka-dots-logo.jpg
END:VEVENT
BEGIN:VEVENT
DTSTART;TZID=Europe/London:20310328T133000
DTEND;TZID=Europe/London:20310328T153000
DTSTAMP:20260419T135914
CREATED:20221116T192917Z
LAST-MODIFIED:20231202T105253Z
UID:10010736-1932471000-1932478200@www.hovemethodistchurch.co.uk
SUMMARY:Polka Tots Baby & Toddler Drop-in
DESCRIPTION:£2 per family.
URL:https://www.hovemethodistchurch.co.uk/event/polka-tots-baby-toddler-drop-in-2/2031-03-28/
LOCATION:Hove Methodist Church
CATEGORIES:Children
ATTACH;FMTTYPE=image/jpeg:https://www.hovemethodistchurch.co.uk/wp-content/uploads/2022/10/polka-dots-logo.jpg
END:VEVENT
BEGIN:VEVENT
DTSTART;TZID=Europe/London:20310404T133000
DTEND;TZID=Europe/London:20310404T153000
DTSTAMP:20260419T135914
CREATED:20221116T192917Z
LAST-MODIFIED:20231202T105253Z
UID:10010737-1933075800-1933083000@www.hovemethodistchurch.co.uk
SUMMARY:Polka Tots Baby & Toddler Drop-in
DESCRIPTION:£2 per family.
URL:https://www.hovemethodistchurch.co.uk/event/polka-tots-baby-toddler-drop-in-2/2031-04-04/
LOCATION:Hove Methodist Church
CATEGORIES:Children
ATTACH;FMTTYPE=image/jpeg:https://www.hovemethodistchurch.co.uk/wp-content/uploads/2022/10/polka-dots-logo.jpg
END:VEVENT
BEGIN:VEVENT
DTSTART;TZID=Europe/London:20310411T133000
DTEND;TZID=Europe/London:20310411T153000
DTSTAMP:20260419T135914
CREATED:20221116T192917Z
LAST-MODIFIED:20231202T105253Z
UID:10010738-1933680600-1933687800@www.hovemethodistchurch.co.uk
SUMMARY:Polka Tots Baby & Toddler Drop-in
DESCRIPTION:£2 per family.
URL:https://www.hovemethodistchurch.co.uk/event/polka-tots-baby-toddler-drop-in-2/2031-04-11/
LOCATION:Hove Methodist Church
CATEGORIES:Children
ATTACH;FMTTYPE=image/jpeg:https://www.hovemethodistchurch.co.uk/wp-content/uploads/2022/10/polka-dots-logo.jpg
END:VEVENT
BEGIN:VEVENT
DTSTART;TZID=Europe/London:20310418T133000
DTEND;TZID=Europe/London:20310418T153000
DTSTAMP:20260419T135914
CREATED:20221116T192917Z
LAST-MODIFIED:20231202T105253Z
UID:10010739-1934285400-1934292600@www.hovemethodistchurch.co.uk
SUMMARY:Polka Tots Baby & Toddler Drop-in
DESCRIPTION:£2 per family.
URL:https://www.hovemethodistchurch.co.uk/event/polka-tots-baby-toddler-drop-in-2/2031-04-18/
LOCATION:Hove Methodist Church
CATEGORIES:Children
ATTACH;FMTTYPE=image/jpeg:https://www.hovemethodistchurch.co.uk/wp-content/uploads/2022/10/polka-dots-logo.jpg
END:VEVENT
BEGIN:VEVENT
DTSTART;TZID=Europe/London:20310425T133000
DTEND;TZID=Europe/London:20310425T153000
DTSTAMP:20260419T135914
CREATED:20221116T192917Z
LAST-MODIFIED:20231202T105253Z
UID:10010740-1934890200-1934897400@www.hovemethodistchurch.co.uk
SUMMARY:Polka Tots Baby & Toddler Drop-in
DESCRIPTION:£2 per family.
URL:https://www.hovemethodistchurch.co.uk/event/polka-tots-baby-toddler-drop-in-2/2031-04-25/
LOCATION:Hove Methodist Church
CATEGORIES:Children
ATTACH;FMTTYPE=image/jpeg:https://www.hovemethodistchurch.co.uk/wp-content/uploads/2022/10/polka-dots-logo.jpg
END:VEVENT
BEGIN:VEVENT
DTSTART;TZID=Europe/London:20310502T133000
DTEND;TZID=Europe/London:20310502T153000
DTSTAMP:20260419T135914
CREATED:20221116T192917Z
LAST-MODIFIED:20231202T105253Z
UID:10010741-1935495000-1935502200@www.hovemethodistchurch.co.uk
SUMMARY:Polka Tots Baby & Toddler Drop-in
DESCRIPTION:£2 per family.
URL:https://www.hovemethodistchurch.co.uk/event/polka-tots-baby-toddler-drop-in-2/2031-05-02/
LOCATION:Hove Methodist Church
CATEGORIES:Children
ATTACH;FMTTYPE=image/jpeg:https://www.hovemethodistchurch.co.uk/wp-content/uploads/2022/10/polka-dots-logo.jpg
END:VEVENT
BEGIN:VEVENT
DTSTART;TZID=Europe/London:20310509T133000
DTEND;TZID=Europe/London:20310509T153000
DTSTAMP:20260419T135914
CREATED:20221116T192917Z
LAST-MODIFIED:20231202T105253Z
UID:10010742-1936099800-1936107000@www.hovemethodistchurch.co.uk
SUMMARY:Polka Tots Baby & Toddler Drop-in
DESCRIPTION:£2 per family.
URL:https://www.hovemethodistchurch.co.uk/event/polka-tots-baby-toddler-drop-in-2/2031-05-09/
LOCATION:Hove Methodist Church
CATEGORIES:Children
ATTACH;FMTTYPE=image/jpeg:https://www.hovemethodistchurch.co.uk/wp-content/uploads/2022/10/polka-dots-logo.jpg
END:VEVENT
BEGIN:VEVENT
DTSTART;TZID=Europe/London:20310516T133000
DTEND;TZID=Europe/London:20310516T153000
DTSTAMP:20260419T135914
CREATED:20221116T192917Z
LAST-MODIFIED:20231202T105253Z
UID:10010743-1936704600-1936711800@www.hovemethodistchurch.co.uk
SUMMARY:Polka Tots Baby & Toddler Drop-in
DESCRIPTION:£2 per family.
URL:https://www.hovemethodistchurch.co.uk/event/polka-tots-baby-toddler-drop-in-2/2031-05-16/
LOCATION:Hove Methodist Church
CATEGORIES:Children
ATTACH;FMTTYPE=image/jpeg:https://www.hovemethodistchurch.co.uk/wp-content/uploads/2022/10/polka-dots-logo.jpg
END:VEVENT
BEGIN:VEVENT
DTSTART;TZID=Europe/London:20310523T133000
DTEND;TZID=Europe/London:20310523T153000
DTSTAMP:20260419T135914
CREATED:20221116T192917Z
LAST-MODIFIED:20231202T105253Z
UID:10010744-1937309400-1937316600@www.hovemethodistchurch.co.uk
SUMMARY:Polka Tots Baby & Toddler Drop-in
DESCRIPTION:£2 per family.
URL:https://www.hovemethodistchurch.co.uk/event/polka-tots-baby-toddler-drop-in-2/2031-05-23/
LOCATION:Hove Methodist Church
CATEGORIES:Children
ATTACH;FMTTYPE=image/jpeg:https://www.hovemethodistchurch.co.uk/wp-content/uploads/2022/10/polka-dots-logo.jpg
END:VEVENT
BEGIN:VEVENT
DTSTART;TZID=Europe/London:20310530T133000
DTEND;TZID=Europe/London:20310530T153000
DTSTAMP:20260419T135914
CREATED:20221116T192917Z
LAST-MODIFIED:20231202T105253Z
UID:10010745-1937914200-1937921400@www.hovemethodistchurch.co.uk
SUMMARY:Polka Tots Baby & Toddler Drop-in
DESCRIPTION:£2 per family.
URL:https://www.hovemethodistchurch.co.uk/event/polka-tots-baby-toddler-drop-in-2/2031-05-30/
LOCATION:Hove Methodist Church
CATEGORIES:Children
ATTACH;FMTTYPE=image/jpeg:https://www.hovemethodistchurch.co.uk/wp-content/uploads/2022/10/polka-dots-logo.jpg
END:VEVENT
BEGIN:VEVENT
DTSTART;TZID=Europe/London:20310606T133000
DTEND;TZID=Europe/London:20310606T153000
DTSTAMP:20260419T135914
CREATED:20221116T192917Z
LAST-MODIFIED:20231202T105253Z
UID:10010746-1938519000-1938526200@www.hovemethodistchurch.co.uk
SUMMARY:Polka Tots Baby & Toddler Drop-in
DESCRIPTION:£2 per family.
URL:https://www.hovemethodistchurch.co.uk/event/polka-tots-baby-toddler-drop-in-2/2031-06-06/
LOCATION:Hove Methodist Church
CATEGORIES:Children
ATTACH;FMTTYPE=image/jpeg:https://www.hovemethodistchurch.co.uk/wp-content/uploads/2022/10/polka-dots-logo.jpg
END:VEVENT
BEGIN:VEVENT
DTSTART;TZID=Europe/London:20310613T133000
DTEND;TZID=Europe/London:20310613T153000
DTSTAMP:20260419T135914
CREATED:20221116T192917Z
LAST-MODIFIED:20231202T105253Z
UID:10010747-1939123800-1939131000@www.hovemethodistchurch.co.uk
SUMMARY:Polka Tots Baby & Toddler Drop-in
DESCRIPTION:£2 per family.
URL:https://www.hovemethodistchurch.co.uk/event/polka-tots-baby-toddler-drop-in-2/2031-06-13/
LOCATION:Hove Methodist Church
CATEGORIES:Children
ATTACH;FMTTYPE=image/jpeg:https://www.hovemethodistchurch.co.uk/wp-content/uploads/2022/10/polka-dots-logo.jpg
END:VEVENT
BEGIN:VEVENT
DTSTART;TZID=Europe/London:20310620T133000
DTEND;TZID=Europe/London:20310620T153000
DTSTAMP:20260419T135914
CREATED:20221116T192917Z
LAST-MODIFIED:20231202T105253Z
UID:10010748-1939728600-1939735800@www.hovemethodistchurch.co.uk
SUMMARY:Polka Tots Baby & Toddler Drop-in
DESCRIPTION:£2 per family.
URL:https://www.hovemethodistchurch.co.uk/event/polka-tots-baby-toddler-drop-in-2/2031-06-20/
LOCATION:Hove Methodist Church
CATEGORIES:Children
ATTACH;FMTTYPE=image/jpeg:https://www.hovemethodistchurch.co.uk/wp-content/uploads/2022/10/polka-dots-logo.jpg
END:VEVENT
END:VCALENDAR