BEGIN:VCALENDAR
VERSION:2.0
PRODID:-//Hove Methodist Church - ECPv6.15.20//NONSGML v1.0//EN
CALSCALE:GREGORIAN
METHOD:PUBLISH
X-ORIGINAL-URL:https://www.hovemethodistchurch.co.uk
X-WR-CALDESC:Events for Hove Methodist Church
REFRESH-INTERVAL;VALUE=DURATION:PT1H
X-Robots-Tag:noindex
X-PUBLISHED-TTL:PT1H
BEGIN:VTIMEZONE
TZID:Europe/London
BEGIN:DAYLIGHT
TZOFFSETFROM:+0000
TZOFFSETTO:+0100
TZNAME:BST
DTSTART:20210328T010000
END:DAYLIGHT
BEGIN:STANDARD
TZOFFSETFROM:+0100
TZOFFSETTO:+0000
TZNAME:GMT
DTSTART:20211031T010000
END:STANDARD
BEGIN:DAYLIGHT
TZOFFSETFROM:+0000
TZOFFSETTO:+0100
TZNAME:BST
DTSTART:20220327T010000
END:DAYLIGHT
BEGIN:STANDARD
TZOFFSETFROM:+0100
TZOFFSETTO:+0000
TZNAME:GMT
DTSTART:20221030T010000
END:STANDARD
BEGIN:DAYLIGHT
TZOFFSETFROM:+0000
TZOFFSETTO:+0100
TZNAME:BST
DTSTART:20230326T010000
END:DAYLIGHT
BEGIN:STANDARD
TZOFFSETFROM:+0100
TZOFFSETTO:+0000
TZNAME:GMT
DTSTART:20231029T010000
END:STANDARD
END:VTIMEZONE
BEGIN:VEVENT
DTSTART;TZID=Europe/London:20221028T100000
DTEND;TZID=Europe/London:20221028T113000
DTSTAMP:20260419T142049
CREATED:20221012T140432Z
LAST-MODIFIED:20221012T141109Z
UID:10006505-1666951200-1666956600@www.hovemethodistchurch.co.uk
SUMMARY:Chatty Café
DESCRIPTION:Drop-in café and support in the Sanctuary.
URL:https://www.hovemethodistchurch.co.uk/event/chatty-cafe/2022-10-28/
LOCATION:Hove Methodist Church
CATEGORIES:Social,Support Groups
ATTACH;FMTTYPE=image/jpeg:https://www.hovemethodistchurch.co.uk/wp-content/uploads/2022/10/chatty-cafe-logo.jpg
END:VEVENT
BEGIN:VEVENT
DTSTART;TZID=Europe/London:20221021T100000
DTEND;TZID=Europe/London:20221021T113000
DTSTAMP:20260419T142049
CREATED:20221012T140432Z
LAST-MODIFIED:20221012T141109Z
UID:10006504-1666346400-1666351800@www.hovemethodistchurch.co.uk
SUMMARY:Chatty Café
DESCRIPTION:Drop-in café and support in the Sanctuary.
URL:https://www.hovemethodistchurch.co.uk/event/chatty-cafe/2022-10-21/
LOCATION:Hove Methodist Church
CATEGORIES:Social,Support Groups
ATTACH;FMTTYPE=image/jpeg:https://www.hovemethodistchurch.co.uk/wp-content/uploads/2022/10/chatty-cafe-logo.jpg
END:VEVENT
BEGIN:VEVENT
DTSTART;TZID=Europe/London:20221014T100000
DTEND;TZID=Europe/London:20221014T113000
DTSTAMP:20260419T142049
CREATED:20221012T140432Z
LAST-MODIFIED:20221012T141109Z
UID:10006346-1665741600-1665747000@www.hovemethodistchurch.co.uk
SUMMARY:Chatty Café
DESCRIPTION:Drop-in café and support in the Sanctuary.
URL:https://www.hovemethodistchurch.co.uk/event/chatty-cafe/2022-10-14/
LOCATION:Hove Methodist Church
CATEGORIES:Social,Support Groups
ATTACH;FMTTYPE=image/jpeg:https://www.hovemethodistchurch.co.uk/wp-content/uploads/2022/10/chatty-cafe-logo.jpg
END:VEVENT
END:VCALENDAR