BEGIN:VCALENDAR
VERSION:2.0
PRODID:-//Hove Methodist Church - ECPv6.15.20//NONSGML v1.0//EN
CALSCALE:GREGORIAN
METHOD:PUBLISH
X-WR-CALNAME:Hove Methodist Church
X-ORIGINAL-URL:https://www.hovemethodistchurch.co.uk
X-WR-CALDESC:Events for Hove Methodist Church
REFRESH-INTERVAL;VALUE=DURATION:PT1H
X-Robots-Tag:noindex
X-PUBLISHED-TTL:PT1H
BEGIN:VTIMEZONE
TZID:Europe/London
BEGIN:DAYLIGHT
TZOFFSETFROM:+0000
TZOFFSETTO:+0100
TZNAME:BST
DTSTART:20210328T010000
END:DAYLIGHT
BEGIN:STANDARD
TZOFFSETFROM:+0100
TZOFFSETTO:+0000
TZNAME:GMT
DTSTART:20211031T010000
END:STANDARD
BEGIN:DAYLIGHT
TZOFFSETFROM:+0000
TZOFFSETTO:+0100
TZNAME:BST
DTSTART:20220327T010000
END:DAYLIGHT
BEGIN:STANDARD
TZOFFSETFROM:+0100
TZOFFSETTO:+0000
TZNAME:GMT
DTSTART:20221030T010000
END:STANDARD
BEGIN:DAYLIGHT
TZOFFSETFROM:+0000
TZOFFSETTO:+0100
TZNAME:BST
DTSTART:20230326T010000
END:DAYLIGHT
BEGIN:STANDARD
TZOFFSETFROM:+0100
TZOFFSETTO:+0000
TZNAME:GMT
DTSTART:20231029T010000
END:STANDARD
END:VTIMEZONE
BEGIN:VEVENT
DTSTART;TZID=Europe/London:20221103T180000
DTEND;TZID=Europe/London:20221103T203000
DTSTAMP:20260420T110237
CREATED:20221012T135625Z
LAST-MODIFIED:20221012T135625Z
UID:10006193-1667498400-1667507400@www.hovemethodistchurch.co.uk
SUMMARY:Pilates with Emily
DESCRIPTION:In the Sanctuary.
URL:https://www.hovemethodistchurch.co.uk/event/pilates-with-emily/2022-11-03/
LOCATION:Hove Methodist Church
CATEGORIES:Health & Fitness
ATTACH;FMTTYPE=image/jpeg:https://www.hovemethodistchurch.co.uk/wp-content/uploads/2022/10/pilates-with-emily-logo.jpg
ORGANIZER;CN="Emily Wilson":MAILTO:info@pilateswithemily.co.uk
END:VEVENT
BEGIN:VEVENT
DTSTART;TZID=Europe/London:20221027T180000
DTEND;TZID=Europe/London:20221027T203000
DTSTAMP:20260420T110237
CREATED:20221012T135625Z
LAST-MODIFIED:20221012T135625Z
UID:10006192-1666893600-1666902600@www.hovemethodistchurch.co.uk
SUMMARY:Pilates with Emily
DESCRIPTION:In the Sanctuary.
URL:https://www.hovemethodistchurch.co.uk/event/pilates-with-emily/2022-10-27/
LOCATION:Hove Methodist Church
CATEGORIES:Health & Fitness
ATTACH;FMTTYPE=image/jpeg:https://www.hovemethodistchurch.co.uk/wp-content/uploads/2022/10/pilates-with-emily-logo.jpg
ORGANIZER;CN="Emily Wilson":MAILTO:info@pilateswithemily.co.uk
END:VEVENT
BEGIN:VEVENT
DTSTART;TZID=Europe/London:20221020T180000
DTEND;TZID=Europe/London:20221020T203000
DTSTAMP:20260420T110237
CREATED:20221012T135625Z
LAST-MODIFIED:20221012T135625Z
UID:10006191-1666288800-1666297800@www.hovemethodistchurch.co.uk
SUMMARY:Pilates with Emily
DESCRIPTION:In the Sanctuary.
URL:https://www.hovemethodistchurch.co.uk/event/pilates-with-emily/2022-10-20/
LOCATION:Hove Methodist Church
CATEGORIES:Health & Fitness
ATTACH;FMTTYPE=image/jpeg:https://www.hovemethodistchurch.co.uk/wp-content/uploads/2022/10/pilates-with-emily-logo.jpg
ORGANIZER;CN="Emily Wilson":MAILTO:info@pilateswithemily.co.uk
END:VEVENT
BEGIN:VEVENT
DTSTART;TZID=Europe/London:20221013T180000
DTEND;TZID=Europe/London:20221013T203000
DTSTAMP:20260420T110237
CREATED:20221012T135625Z
LAST-MODIFIED:20221012T135625Z
UID:10006190-1665684000-1665693000@www.hovemethodistchurch.co.uk
SUMMARY:Pilates with Emily
DESCRIPTION:In the Sanctuary.
URL:https://www.hovemethodistchurch.co.uk/event/pilates-with-emily/2022-10-13/
LOCATION:Hove Methodist Church
CATEGORIES:Health & Fitness
ATTACH;FMTTYPE=image/jpeg:https://www.hovemethodistchurch.co.uk/wp-content/uploads/2022/10/pilates-with-emily-logo.jpg
ORGANIZER;CN="Emily Wilson":MAILTO:info@pilateswithemily.co.uk
END:VEVENT
END:VCALENDAR