BEGIN:VCALENDAR
VERSION:2.0
PRODID:-//Hove Methodist Church - ECPv6.15.20//NONSGML v1.0//EN
CALSCALE:GREGORIAN
METHOD:PUBLISH
X-WR-CALNAME:Hove Methodist Church
X-ORIGINAL-URL:https://www.hovemethodistchurch.co.uk
X-WR-CALDESC:Events for Hove Methodist Church
REFRESH-INTERVAL;VALUE=DURATION:PT1H
X-Robots-Tag:noindex
X-PUBLISHED-TTL:PT1H
BEGIN:VTIMEZONE
TZID:Europe/London
BEGIN:DAYLIGHT
TZOFFSETFROM:+0000
TZOFFSETTO:+0100
TZNAME:BST
DTSTART:20210328T010000
END:DAYLIGHT
BEGIN:STANDARD
TZOFFSETFROM:+0100
TZOFFSETTO:+0000
TZNAME:GMT
DTSTART:20211031T010000
END:STANDARD
BEGIN:DAYLIGHT
TZOFFSETFROM:+0000
TZOFFSETTO:+0100
TZNAME:BST
DTSTART:20220327T010000
END:DAYLIGHT
BEGIN:STANDARD
TZOFFSETFROM:+0100
TZOFFSETTO:+0000
TZNAME:GMT
DTSTART:20221030T010000
END:STANDARD
BEGIN:DAYLIGHT
TZOFFSETFROM:+0000
TZOFFSETTO:+0100
TZNAME:BST
DTSTART:20230326T010000
END:DAYLIGHT
BEGIN:STANDARD
TZOFFSETFROM:+0100
TZOFFSETTO:+0000
TZNAME:GMT
DTSTART:20231029T010000
END:STANDARD
BEGIN:DAYLIGHT
TZOFFSETFROM:+0000
TZOFFSETTO:+0100
TZNAME:BST
DTSTART:20240331T010000
END:DAYLIGHT
BEGIN:STANDARD
TZOFFSETFROM:+0100
TZOFFSETTO:+0000
TZNAME:GMT
DTSTART:20241027T010000
END:STANDARD
END:VTIMEZONE
BEGIN:VEVENT
DTSTART;TZID=Europe/London:20230713T180000
DTEND;TZID=Europe/London:20230713T203000
DTSTAMP:20260420T055432
CREATED:20221012T135625Z
LAST-MODIFIED:20221012T135625Z
UID:10006229-1689271200-1689280200@www.hovemethodistchurch.co.uk
SUMMARY:Pilates with Emily
DESCRIPTION:In the Sanctuary.
URL:https://www.hovemethodistchurch.co.uk/event/pilates-with-emily/2023-07-13/
LOCATION:Hove Methodist Church
CATEGORIES:Health & Fitness
ATTACH;FMTTYPE=image/jpeg:https://www.hovemethodistchurch.co.uk/wp-content/uploads/2022/10/pilates-with-emily-logo.jpg
ORGANIZER;CN="Emily Wilson":MAILTO:info@pilateswithemily.co.uk
END:VEVENT
BEGIN:VEVENT
DTSTART;TZID=Europe/London:20230706T180000
DTEND;TZID=Europe/London:20230706T203000
DTSTAMP:20260420T055432
CREATED:20221012T135625Z
LAST-MODIFIED:20221012T135625Z
UID:10006228-1688666400-1688675400@www.hovemethodistchurch.co.uk
SUMMARY:Pilates with Emily
DESCRIPTION:In the Sanctuary.
URL:https://www.hovemethodistchurch.co.uk/event/pilates-with-emily/2023-07-06/
LOCATION:Hove Methodist Church
CATEGORIES:Health & Fitness
ATTACH;FMTTYPE=image/jpeg:https://www.hovemethodistchurch.co.uk/wp-content/uploads/2022/10/pilates-with-emily-logo.jpg
ORGANIZER;CN="Emily Wilson":MAILTO:info@pilateswithemily.co.uk
END:VEVENT
BEGIN:VEVENT
DTSTART;TZID=Europe/London:20230629T180000
DTEND;TZID=Europe/London:20230629T203000
DTSTAMP:20260420T055432
CREATED:20221012T135625Z
LAST-MODIFIED:20221012T135625Z
UID:10006227-1688061600-1688070600@www.hovemethodistchurch.co.uk
SUMMARY:Pilates with Emily
DESCRIPTION:In the Sanctuary.
URL:https://www.hovemethodistchurch.co.uk/event/pilates-with-emily/2023-06-29/
LOCATION:Hove Methodist Church
CATEGORIES:Health & Fitness
ATTACH;FMTTYPE=image/jpeg:https://www.hovemethodistchurch.co.uk/wp-content/uploads/2022/10/pilates-with-emily-logo.jpg
ORGANIZER;CN="Emily Wilson":MAILTO:info@pilateswithemily.co.uk
END:VEVENT
BEGIN:VEVENT
DTSTART;TZID=Europe/London:20230622T180000
DTEND;TZID=Europe/London:20230622T203000
DTSTAMP:20260420T055432
CREATED:20221012T135625Z
LAST-MODIFIED:20221012T135625Z
UID:10006226-1687456800-1687465800@www.hovemethodistchurch.co.uk
SUMMARY:Pilates with Emily
DESCRIPTION:In the Sanctuary.
URL:https://www.hovemethodistchurch.co.uk/event/pilates-with-emily/2023-06-22/
LOCATION:Hove Methodist Church
CATEGORIES:Health & Fitness
ATTACH;FMTTYPE=image/jpeg:https://www.hovemethodistchurch.co.uk/wp-content/uploads/2022/10/pilates-with-emily-logo.jpg
ORGANIZER;CN="Emily Wilson":MAILTO:info@pilateswithemily.co.uk
END:VEVENT
BEGIN:VEVENT
DTSTART;TZID=Europe/London:20230615T180000
DTEND;TZID=Europe/London:20230615T203000
DTSTAMP:20260420T055432
CREATED:20221012T135625Z
LAST-MODIFIED:20221012T135625Z
UID:10006225-1686852000-1686861000@www.hovemethodistchurch.co.uk
SUMMARY:Pilates with Emily
DESCRIPTION:In the Sanctuary.
URL:https://www.hovemethodistchurch.co.uk/event/pilates-with-emily/2023-06-15/
LOCATION:Hove Methodist Church
CATEGORIES:Health & Fitness
ATTACH;FMTTYPE=image/jpeg:https://www.hovemethodistchurch.co.uk/wp-content/uploads/2022/10/pilates-with-emily-logo.jpg
ORGANIZER;CN="Emily Wilson":MAILTO:info@pilateswithemily.co.uk
END:VEVENT
BEGIN:VEVENT
DTSTART;TZID=Europe/London:20230608T180000
DTEND;TZID=Europe/London:20230608T203000
DTSTAMP:20260420T055432
CREATED:20221012T135625Z
LAST-MODIFIED:20221012T135625Z
UID:10006224-1686247200-1686256200@www.hovemethodistchurch.co.uk
SUMMARY:Pilates with Emily
DESCRIPTION:In the Sanctuary.
URL:https://www.hovemethodistchurch.co.uk/event/pilates-with-emily/2023-06-08/
LOCATION:Hove Methodist Church
CATEGORIES:Health & Fitness
ATTACH;FMTTYPE=image/jpeg:https://www.hovemethodistchurch.co.uk/wp-content/uploads/2022/10/pilates-with-emily-logo.jpg
ORGANIZER;CN="Emily Wilson":MAILTO:info@pilateswithemily.co.uk
END:VEVENT
BEGIN:VEVENT
DTSTART;TZID=Europe/London:20230601T180000
DTEND;TZID=Europe/London:20230601T203000
DTSTAMP:20260420T055432
CREATED:20221012T135625Z
LAST-MODIFIED:20221012T135625Z
UID:10006223-1685642400-1685651400@www.hovemethodistchurch.co.uk
SUMMARY:Pilates with Emily
DESCRIPTION:In the Sanctuary.
URL:https://www.hovemethodistchurch.co.uk/event/pilates-with-emily/2023-06-01/
LOCATION:Hove Methodist Church
CATEGORIES:Health & Fitness
ATTACH;FMTTYPE=image/jpeg:https://www.hovemethodistchurch.co.uk/wp-content/uploads/2022/10/pilates-with-emily-logo.jpg
ORGANIZER;CN="Emily Wilson":MAILTO:info@pilateswithemily.co.uk
END:VEVENT
BEGIN:VEVENT
DTSTART;TZID=Europe/London:20230525T180000
DTEND;TZID=Europe/London:20230525T203000
DTSTAMP:20260420T055432
CREATED:20221012T135625Z
LAST-MODIFIED:20221012T135625Z
UID:10006222-1685037600-1685046600@www.hovemethodistchurch.co.uk
SUMMARY:Pilates with Emily
DESCRIPTION:In the Sanctuary.
URL:https://www.hovemethodistchurch.co.uk/event/pilates-with-emily/2023-05-25/
LOCATION:Hove Methodist Church
CATEGORIES:Health & Fitness
ATTACH;FMTTYPE=image/jpeg:https://www.hovemethodistchurch.co.uk/wp-content/uploads/2022/10/pilates-with-emily-logo.jpg
ORGANIZER;CN="Emily Wilson":MAILTO:info@pilateswithemily.co.uk
END:VEVENT
BEGIN:VEVENT
DTSTART;TZID=Europe/London:20230518T180000
DTEND;TZID=Europe/London:20230518T203000
DTSTAMP:20260420T055432
CREATED:20221012T135625Z
LAST-MODIFIED:20221012T135625Z
UID:10006221-1684432800-1684441800@www.hovemethodistchurch.co.uk
SUMMARY:Pilates with Emily
DESCRIPTION:In the Sanctuary.
URL:https://www.hovemethodistchurch.co.uk/event/pilates-with-emily/2023-05-18/
LOCATION:Hove Methodist Church
CATEGORIES:Health & Fitness
ATTACH;FMTTYPE=image/jpeg:https://www.hovemethodistchurch.co.uk/wp-content/uploads/2022/10/pilates-with-emily-logo.jpg
ORGANIZER;CN="Emily Wilson":MAILTO:info@pilateswithemily.co.uk
END:VEVENT
BEGIN:VEVENT
DTSTART;TZID=Europe/London:20230511T180000
DTEND;TZID=Europe/London:20230511T203000
DTSTAMP:20260420T055432
CREATED:20221012T135625Z
LAST-MODIFIED:20221012T135625Z
UID:10006220-1683828000-1683837000@www.hovemethodistchurch.co.uk
SUMMARY:Pilates with Emily
DESCRIPTION:In the Sanctuary.
URL:https://www.hovemethodistchurch.co.uk/event/pilates-with-emily/2023-05-11/
LOCATION:Hove Methodist Church
CATEGORIES:Health & Fitness
ATTACH;FMTTYPE=image/jpeg:https://www.hovemethodistchurch.co.uk/wp-content/uploads/2022/10/pilates-with-emily-logo.jpg
ORGANIZER;CN="Emily Wilson":MAILTO:info@pilateswithemily.co.uk
END:VEVENT
BEGIN:VEVENT
DTSTART;TZID=Europe/London:20230504T180000
DTEND;TZID=Europe/London:20230504T203000
DTSTAMP:20260420T055432
CREATED:20221012T135625Z
LAST-MODIFIED:20221012T135625Z
UID:10006219-1683223200-1683232200@www.hovemethodistchurch.co.uk
SUMMARY:Pilates with Emily
DESCRIPTION:In the Sanctuary.
URL:https://www.hovemethodistchurch.co.uk/event/pilates-with-emily/2023-05-04/
LOCATION:Hove Methodist Church
CATEGORIES:Health & Fitness
ATTACH;FMTTYPE=image/jpeg:https://www.hovemethodistchurch.co.uk/wp-content/uploads/2022/10/pilates-with-emily-logo.jpg
ORGANIZER;CN="Emily Wilson":MAILTO:info@pilateswithemily.co.uk
END:VEVENT
BEGIN:VEVENT
DTSTART;TZID=Europe/London:20230427T180000
DTEND;TZID=Europe/London:20230427T203000
DTSTAMP:20260420T055432
CREATED:20221012T135625Z
LAST-MODIFIED:20221012T135625Z
UID:10006218-1682618400-1682627400@www.hovemethodistchurch.co.uk
SUMMARY:Pilates with Emily
DESCRIPTION:In the Sanctuary.
URL:https://www.hovemethodistchurch.co.uk/event/pilates-with-emily/2023-04-27/
LOCATION:Hove Methodist Church
CATEGORIES:Health & Fitness
ATTACH;FMTTYPE=image/jpeg:https://www.hovemethodistchurch.co.uk/wp-content/uploads/2022/10/pilates-with-emily-logo.jpg
ORGANIZER;CN="Emily Wilson":MAILTO:info@pilateswithemily.co.uk
END:VEVENT
BEGIN:VEVENT
DTSTART;TZID=Europe/London:20230420T180000
DTEND;TZID=Europe/London:20230420T203000
DTSTAMP:20260420T055432
CREATED:20221012T135625Z
LAST-MODIFIED:20221012T135625Z
UID:10006217-1682013600-1682022600@www.hovemethodistchurch.co.uk
SUMMARY:Pilates with Emily
DESCRIPTION:In the Sanctuary.
URL:https://www.hovemethodistchurch.co.uk/event/pilates-with-emily/2023-04-20/
LOCATION:Hove Methodist Church
CATEGORIES:Health & Fitness
ATTACH;FMTTYPE=image/jpeg:https://www.hovemethodistchurch.co.uk/wp-content/uploads/2022/10/pilates-with-emily-logo.jpg
ORGANIZER;CN="Emily Wilson":MAILTO:info@pilateswithemily.co.uk
END:VEVENT
BEGIN:VEVENT
DTSTART;TZID=Europe/London:20230413T180000
DTEND;TZID=Europe/London:20230413T203000
DTSTAMP:20260420T055432
CREATED:20221012T135625Z
LAST-MODIFIED:20221012T135625Z
UID:10006216-1681408800-1681417800@www.hovemethodistchurch.co.uk
SUMMARY:Pilates with Emily
DESCRIPTION:In the Sanctuary.
URL:https://www.hovemethodistchurch.co.uk/event/pilates-with-emily/2023-04-13/
LOCATION:Hove Methodist Church
CATEGORIES:Health & Fitness
ATTACH;FMTTYPE=image/jpeg:https://www.hovemethodistchurch.co.uk/wp-content/uploads/2022/10/pilates-with-emily-logo.jpg
ORGANIZER;CN="Emily Wilson":MAILTO:info@pilateswithemily.co.uk
END:VEVENT
BEGIN:VEVENT
DTSTART;TZID=Europe/London:20230406T180000
DTEND;TZID=Europe/London:20230406T203000
DTSTAMP:20260420T055432
CREATED:20221012T135625Z
LAST-MODIFIED:20221012T135625Z
UID:10006215-1680804000-1680813000@www.hovemethodistchurch.co.uk
SUMMARY:Pilates with Emily
DESCRIPTION:In the Sanctuary.
URL:https://www.hovemethodistchurch.co.uk/event/pilates-with-emily/2023-04-06/
LOCATION:Hove Methodist Church
CATEGORIES:Health & Fitness
ATTACH;FMTTYPE=image/jpeg:https://www.hovemethodistchurch.co.uk/wp-content/uploads/2022/10/pilates-with-emily-logo.jpg
ORGANIZER;CN="Emily Wilson":MAILTO:info@pilateswithemily.co.uk
END:VEVENT
BEGIN:VEVENT
DTSTART;TZID=Europe/London:20230330T180000
DTEND;TZID=Europe/London:20230330T203000
DTSTAMP:20260420T055432
CREATED:20221012T135625Z
LAST-MODIFIED:20221012T135625Z
UID:10006214-1680199200-1680208200@www.hovemethodistchurch.co.uk
SUMMARY:Pilates with Emily
DESCRIPTION:In the Sanctuary.
URL:https://www.hovemethodistchurch.co.uk/event/pilates-with-emily/2023-03-30/
LOCATION:Hove Methodist Church
CATEGORIES:Health & Fitness
ATTACH;FMTTYPE=image/jpeg:https://www.hovemethodistchurch.co.uk/wp-content/uploads/2022/10/pilates-with-emily-logo.jpg
ORGANIZER;CN="Emily Wilson":MAILTO:info@pilateswithemily.co.uk
END:VEVENT
BEGIN:VEVENT
DTSTART;TZID=Europe/London:20230323T180000
DTEND;TZID=Europe/London:20230323T203000
DTSTAMP:20260420T055432
CREATED:20221012T135625Z
LAST-MODIFIED:20221012T135625Z
UID:10006213-1679594400-1679603400@www.hovemethodistchurch.co.uk
SUMMARY:Pilates with Emily
DESCRIPTION:In the Sanctuary.
URL:https://www.hovemethodistchurch.co.uk/event/pilates-with-emily/2023-03-23/
LOCATION:Hove Methodist Church
CATEGORIES:Health & Fitness
ATTACH;FMTTYPE=image/jpeg:https://www.hovemethodistchurch.co.uk/wp-content/uploads/2022/10/pilates-with-emily-logo.jpg
ORGANIZER;CN="Emily Wilson":MAILTO:info@pilateswithemily.co.uk
END:VEVENT
BEGIN:VEVENT
DTSTART;TZID=Europe/London:20230316T180000
DTEND;TZID=Europe/London:20230316T203000
DTSTAMP:20260420T055432
CREATED:20221012T135625Z
LAST-MODIFIED:20221012T135625Z
UID:10006212-1678989600-1678998600@www.hovemethodistchurch.co.uk
SUMMARY:Pilates with Emily
DESCRIPTION:In the Sanctuary.
URL:https://www.hovemethodistchurch.co.uk/event/pilates-with-emily/2023-03-16/
LOCATION:Hove Methodist Church
CATEGORIES:Health & Fitness
ATTACH;FMTTYPE=image/jpeg:https://www.hovemethodistchurch.co.uk/wp-content/uploads/2022/10/pilates-with-emily-logo.jpg
ORGANIZER;CN="Emily Wilson":MAILTO:info@pilateswithemily.co.uk
END:VEVENT
BEGIN:VEVENT
DTSTART;TZID=Europe/London:20230309T180000
DTEND;TZID=Europe/London:20230309T203000
DTSTAMP:20260420T055432
CREATED:20221012T135625Z
LAST-MODIFIED:20221012T135625Z
UID:10006211-1678384800-1678393800@www.hovemethodistchurch.co.uk
SUMMARY:Pilates with Emily
DESCRIPTION:In the Sanctuary.
URL:https://www.hovemethodistchurch.co.uk/event/pilates-with-emily/2023-03-09/
LOCATION:Hove Methodist Church
CATEGORIES:Health & Fitness
ATTACH;FMTTYPE=image/jpeg:https://www.hovemethodistchurch.co.uk/wp-content/uploads/2022/10/pilates-with-emily-logo.jpg
ORGANIZER;CN="Emily Wilson":MAILTO:info@pilateswithemily.co.uk
END:VEVENT
BEGIN:VEVENT
DTSTART;TZID=Europe/London:20230302T180000
DTEND;TZID=Europe/London:20230302T203000
DTSTAMP:20260420T055432
CREATED:20221012T135625Z
LAST-MODIFIED:20221012T135625Z
UID:10006210-1677780000-1677789000@www.hovemethodistchurch.co.uk
SUMMARY:Pilates with Emily
DESCRIPTION:In the Sanctuary.
URL:https://www.hovemethodistchurch.co.uk/event/pilates-with-emily/2023-03-02/
LOCATION:Hove Methodist Church
CATEGORIES:Health & Fitness
ATTACH;FMTTYPE=image/jpeg:https://www.hovemethodistchurch.co.uk/wp-content/uploads/2022/10/pilates-with-emily-logo.jpg
ORGANIZER;CN="Emily Wilson":MAILTO:info@pilateswithemily.co.uk
END:VEVENT
BEGIN:VEVENT
DTSTART;TZID=Europe/London:20230223T180000
DTEND;TZID=Europe/London:20230223T203000
DTSTAMP:20260420T055432
CREATED:20221012T135625Z
LAST-MODIFIED:20221012T135625Z
UID:10006209-1677175200-1677184200@www.hovemethodistchurch.co.uk
SUMMARY:Pilates with Emily
DESCRIPTION:In the Sanctuary.
URL:https://www.hovemethodistchurch.co.uk/event/pilates-with-emily/2023-02-23/
LOCATION:Hove Methodist Church
CATEGORIES:Health & Fitness
ATTACH;FMTTYPE=image/jpeg:https://www.hovemethodistchurch.co.uk/wp-content/uploads/2022/10/pilates-with-emily-logo.jpg
ORGANIZER;CN="Emily Wilson":MAILTO:info@pilateswithemily.co.uk
END:VEVENT
BEGIN:VEVENT
DTSTART;TZID=Europe/London:20230216T180000
DTEND;TZID=Europe/London:20230216T203000
DTSTAMP:20260420T055432
CREATED:20221012T135625Z
LAST-MODIFIED:20221012T135625Z
UID:10006208-1676570400-1676579400@www.hovemethodistchurch.co.uk
SUMMARY:Pilates with Emily
DESCRIPTION:In the Sanctuary.
URL:https://www.hovemethodistchurch.co.uk/event/pilates-with-emily/2023-02-16/
LOCATION:Hove Methodist Church
CATEGORIES:Health & Fitness
ATTACH;FMTTYPE=image/jpeg:https://www.hovemethodistchurch.co.uk/wp-content/uploads/2022/10/pilates-with-emily-logo.jpg
ORGANIZER;CN="Emily Wilson":MAILTO:info@pilateswithemily.co.uk
END:VEVENT
BEGIN:VEVENT
DTSTART;TZID=Europe/London:20230209T180000
DTEND;TZID=Europe/London:20230209T203000
DTSTAMP:20260420T055432
CREATED:20221012T135625Z
LAST-MODIFIED:20221012T135625Z
UID:10006207-1675965600-1675974600@www.hovemethodistchurch.co.uk
SUMMARY:Pilates with Emily
DESCRIPTION:In the Sanctuary.
URL:https://www.hovemethodistchurch.co.uk/event/pilates-with-emily/2023-02-09/
LOCATION:Hove Methodist Church
CATEGORIES:Health & Fitness
ATTACH;FMTTYPE=image/jpeg:https://www.hovemethodistchurch.co.uk/wp-content/uploads/2022/10/pilates-with-emily-logo.jpg
ORGANIZER;CN="Emily Wilson":MAILTO:info@pilateswithemily.co.uk
END:VEVENT
BEGIN:VEVENT
DTSTART;TZID=Europe/London:20230202T180000
DTEND;TZID=Europe/London:20230202T203000
DTSTAMP:20260420T055432
CREATED:20221012T135625Z
LAST-MODIFIED:20221012T135625Z
UID:10006206-1675360800-1675369800@www.hovemethodistchurch.co.uk
SUMMARY:Pilates with Emily
DESCRIPTION:In the Sanctuary.
URL:https://www.hovemethodistchurch.co.uk/event/pilates-with-emily/2023-02-02/
LOCATION:Hove Methodist Church
CATEGORIES:Health & Fitness
ATTACH;FMTTYPE=image/jpeg:https://www.hovemethodistchurch.co.uk/wp-content/uploads/2022/10/pilates-with-emily-logo.jpg
ORGANIZER;CN="Emily Wilson":MAILTO:info@pilateswithemily.co.uk
END:VEVENT
BEGIN:VEVENT
DTSTART;TZID=Europe/London:20230126T180000
DTEND;TZID=Europe/London:20230126T203000
DTSTAMP:20260420T055432
CREATED:20221012T135625Z
LAST-MODIFIED:20221012T135625Z
UID:10006205-1674756000-1674765000@www.hovemethodistchurch.co.uk
SUMMARY:Pilates with Emily
DESCRIPTION:In the Sanctuary.
URL:https://www.hovemethodistchurch.co.uk/event/pilates-with-emily/2023-01-26/
LOCATION:Hove Methodist Church
CATEGORIES:Health & Fitness
ATTACH;FMTTYPE=image/jpeg:https://www.hovemethodistchurch.co.uk/wp-content/uploads/2022/10/pilates-with-emily-logo.jpg
ORGANIZER;CN="Emily Wilson":MAILTO:info@pilateswithemily.co.uk
END:VEVENT
BEGIN:VEVENT
DTSTART;TZID=Europe/London:20230119T180000
DTEND;TZID=Europe/London:20230119T203000
DTSTAMP:20260420T055432
CREATED:20221012T135625Z
LAST-MODIFIED:20221012T135625Z
UID:10006204-1674151200-1674160200@www.hovemethodistchurch.co.uk
SUMMARY:Pilates with Emily
DESCRIPTION:In the Sanctuary.
URL:https://www.hovemethodistchurch.co.uk/event/pilates-with-emily/2023-01-19/
LOCATION:Hove Methodist Church
CATEGORIES:Health & Fitness
ATTACH;FMTTYPE=image/jpeg:https://www.hovemethodistchurch.co.uk/wp-content/uploads/2022/10/pilates-with-emily-logo.jpg
ORGANIZER;CN="Emily Wilson":MAILTO:info@pilateswithemily.co.uk
END:VEVENT
BEGIN:VEVENT
DTSTART;TZID=Europe/London:20230112T180000
DTEND;TZID=Europe/London:20230112T203000
DTSTAMP:20260420T055432
CREATED:20221012T135625Z
LAST-MODIFIED:20221012T135625Z
UID:10006203-1673546400-1673555400@www.hovemethodistchurch.co.uk
SUMMARY:Pilates with Emily
DESCRIPTION:In the Sanctuary.
URL:https://www.hovemethodistchurch.co.uk/event/pilates-with-emily/2023-01-12/
LOCATION:Hove Methodist Church
CATEGORIES:Health & Fitness
ATTACH;FMTTYPE=image/jpeg:https://www.hovemethodistchurch.co.uk/wp-content/uploads/2022/10/pilates-with-emily-logo.jpg
ORGANIZER;CN="Emily Wilson":MAILTO:info@pilateswithemily.co.uk
END:VEVENT
BEGIN:VEVENT
DTSTART;TZID=Europe/London:20230105T180000
DTEND;TZID=Europe/London:20230105T203000
DTSTAMP:20260420T055432
CREATED:20221012T135625Z
LAST-MODIFIED:20221012T135625Z
UID:10006202-1672941600-1672950600@www.hovemethodistchurch.co.uk
SUMMARY:Pilates with Emily
DESCRIPTION:In the Sanctuary.
URL:https://www.hovemethodistchurch.co.uk/event/pilates-with-emily/2023-01-05/
LOCATION:Hove Methodist Church
CATEGORIES:Health & Fitness
ATTACH;FMTTYPE=image/jpeg:https://www.hovemethodistchurch.co.uk/wp-content/uploads/2022/10/pilates-with-emily-logo.jpg
ORGANIZER;CN="Emily Wilson":MAILTO:info@pilateswithemily.co.uk
END:VEVENT
BEGIN:VEVENT
DTSTART;TZID=Europe/London:20221229T180000
DTEND;TZID=Europe/London:20221229T203000
DTSTAMP:20260420T055432
CREATED:20221012T135625Z
LAST-MODIFIED:20221012T135625Z
UID:10006201-1672336800-1672345800@www.hovemethodistchurch.co.uk
SUMMARY:Pilates with Emily
DESCRIPTION:In the Sanctuary.
URL:https://www.hovemethodistchurch.co.uk/event/pilates-with-emily/2022-12-29/
LOCATION:Hove Methodist Church
CATEGORIES:Health & Fitness
ATTACH;FMTTYPE=image/jpeg:https://www.hovemethodistchurch.co.uk/wp-content/uploads/2022/10/pilates-with-emily-logo.jpg
ORGANIZER;CN="Emily Wilson":MAILTO:info@pilateswithemily.co.uk
END:VEVENT
BEGIN:VEVENT
DTSTART;TZID=Europe/London:20221222T180000
DTEND;TZID=Europe/London:20221222T203000
DTSTAMP:20260420T055432
CREATED:20221012T135625Z
LAST-MODIFIED:20221012T135625Z
UID:10006200-1671732000-1671741000@www.hovemethodistchurch.co.uk
SUMMARY:Pilates with Emily
DESCRIPTION:In the Sanctuary.
URL:https://www.hovemethodistchurch.co.uk/event/pilates-with-emily/2022-12-22/
LOCATION:Hove Methodist Church
CATEGORIES:Health & Fitness
ATTACH;FMTTYPE=image/jpeg:https://www.hovemethodistchurch.co.uk/wp-content/uploads/2022/10/pilates-with-emily-logo.jpg
ORGANIZER;CN="Emily Wilson":MAILTO:info@pilateswithemily.co.uk
END:VEVENT
END:VCALENDAR